BEGIN:VCALENDAR
VERSION:2.0
PRODID:-//Obchodní akademie a VOŠ Valašské Meziříčí - ECPv6.15.20//NONSGML v1.0//EN
CALSCALE:GREGORIAN
METHOD:PUBLISH
X-WR-CALNAME:Obchodní akademie a VOŠ Valašské Meziříčí
X-ORIGINAL-URL:https://www.oavm.cz
X-WR-CALDESC:Akce na Obchodní akademie a VOŠ Valašské Meziříčí
REFRESH-INTERVAL;VALUE=DURATION:PT1H
X-Robots-Tag:noindex
X-PUBLISHED-TTL:PT1H
BEGIN:VTIMEZONE
TZID:Europe/Prague
BEGIN:DAYLIGHT
TZOFFSETFROM:+0100
TZOFFSETTO:+0200
TZNAME:CEST
DTSTART:20180325T010000
END:DAYLIGHT
BEGIN:STANDARD
TZOFFSETFROM:+0200
TZOFFSETTO:+0100
TZNAME:CET
DTSTART:20181028T010000
END:STANDARD
BEGIN:DAYLIGHT
TZOFFSETFROM:+0100
TZOFFSETTO:+0200
TZNAME:CEST
DTSTART:20190331T010000
END:DAYLIGHT
BEGIN:STANDARD
TZOFFSETFROM:+0200
TZOFFSETTO:+0100
TZNAME:CET
DTSTART:20191027T010000
END:STANDARD
BEGIN:DAYLIGHT
TZOFFSETFROM:+0100
TZOFFSETTO:+0200
TZNAME:CEST
DTSTART:20200329T010000
END:DAYLIGHT
BEGIN:STANDARD
TZOFFSETFROM:+0200
TZOFFSETTO:+0100
TZNAME:CET
DTSTART:20201025T010000
END:STANDARD
BEGIN:DAYLIGHT
TZOFFSETFROM:+0100
TZOFFSETTO:+0200
TZNAME:CEST
DTSTART:20210328T010000
END:DAYLIGHT
BEGIN:STANDARD
TZOFFSETFROM:+0200
TZOFFSETTO:+0100
TZNAME:CET
DTSTART:20211031T010000
END:STANDARD
BEGIN:DAYLIGHT
TZOFFSETFROM:+0100
TZOFFSETTO:+0200
TZNAME:CEST
DTSTART:20220327T010000
END:DAYLIGHT
BEGIN:STANDARD
TZOFFSETFROM:+0200
TZOFFSETTO:+0100
TZNAME:CET
DTSTART:20221030T010000
END:STANDARD
BEGIN:DAYLIGHT
TZOFFSETFROM:+0100
TZOFFSETTO:+0200
TZNAME:CEST
DTSTART:20230326T010000
END:DAYLIGHT
BEGIN:STANDARD
TZOFFSETFROM:+0200
TZOFFSETTO:+0100
TZNAME:CET
DTSTART:20231029T010000
END:STANDARD
BEGIN:DAYLIGHT
TZOFFSETFROM:+0100
TZOFFSETTO:+0200
TZNAME:CEST
DTSTART:20240331T010000
END:DAYLIGHT
BEGIN:STANDARD
TZOFFSETFROM:+0200
TZOFFSETTO:+0100
TZNAME:CET
DTSTART:20241027T010000
END:STANDARD
END:VTIMEZONE
BEGIN:VEVENT
DTSTART;TZID=Europe/Prague:20230202T112500
DTEND;TZID=Europe/Prague:20230202T153000
DTSTAMP:20260423T114008
CREATED:20230131T103919Z
LAST-MODIFIED:20230131T103919Z
UID:11367-1675337100-1675351800@www.oavm.cz
SUMMARY:Krajské kolo mistrovství ČR ve zpracování textů
DESCRIPTION:Soutěž vybraných žáků v disciplínách zpracování textů.
URL:https://www.oavm.cz/akce/krajske-kolo-mistrovstvi-cr-ve-zpracovani-textu-2/
LOCATION:učebna 129\, Masarykova 101/18\, Krásno nad Bečvou\, Valašské Meziříčí\, 757 01
ORGANIZER;CN="Mgr. Robert Sigmund%2C DiS.":MAILTO:robert.sigmund@oavm.cz
END:VEVENT
BEGIN:VEVENT
DTSTART;TZID=Europe/Prague:20230201T112500
DTEND;TZID=Europe/Prague:20230201T153000
DTSTAMP:20260423T114008
CREATED:20230131T103723Z
LAST-MODIFIED:20230131T103723Z
UID:11365-1675250700-1675265400@www.oavm.cz
SUMMARY:Krajské kolo mistrovství ČR ve zpracování textů
DESCRIPTION:Soutěž vybraných žáků v disciplínách zpracování textů.
URL:https://www.oavm.cz/akce/krajske-kolo-mistrovstvi-cr-ve-zpracovani-textu/
LOCATION:učebna 129\, Masarykova 101/18\, Krásno nad Bečvou\, Valašské Meziříčí\, 757 01
ORGANIZER;CN="Mgr. Robert Sigmund%2C DiS.":MAILTO:robert.sigmund@oavm.cz
END:VEVENT
BEGIN:VEVENT
DTSTART;VALUE=DATE:20230125
DTEND;VALUE=DATE:20230127
DTSTAMP:20260423T114008
CREATED:20230112T204809Z
LAST-MODIFIED:20230112T204809Z
UID:11264-1674604800-1674777599@www.oavm.cz
SUMMARY:Účetní soutěž - Má dáti dal - republikové finále\, Znojmo
DESCRIPTION:Adéla Hurtíková a Lukáš Goláň ze 4.A budou reprezentovat naši školu v republikovém finále soutěže „Má dáti dal“ ve Znojmě.
URL:https://www.oavm.cz/akce/ucetni-soutez-ma-dati-dal-republikove-finale-znojmo/
LOCATION:Obchodní akademie Znojmo\, Přemyslovců 4\, Znojmo\, Česká republika
CATEGORIES:vzdělávací
END:VEVENT
BEGIN:VEVENT
DTSTART;TZID=Europe/Prague:20221214T094000
DTEND;TZID=Europe/Prague:20221214T111500
DTSTAMP:20260423T114008
CREATED:20221209T080607Z
LAST-MODIFIED:20221209T080607Z
UID:11066-1671010800-1671016500@www.oavm.cz
SUMMARY:On-line semifinálové kolo celorepublikové soutěže Má dáti Dal
DESCRIPTION:Vybraní studenti 4. ročníku se zúčastní semifinálového kola 16. ročníku soutěže „Má dáti dal“. Soutěž proběhne online formou.
URL:https://www.oavm.cz/akce/on-line-semifinalove-kolo-celorepublikove-souteze-ma-dati-dal/
LOCATION:Infocentrum Obchodni Akademie\, Masarykova 101/18\, Valašské Meziříčí
CATEGORIES:vzdělávací
ORGANIZER;CN="Ing. Alena Stib%C5%AFrkov%C3%A1":MAILTO:alena.stiburkova@oavm.cz
END:VEVENT
BEGIN:VEVENT
DTSTART;TZID=Europe/Prague:20221125T080000
DTEND;TZID=Europe/Prague:20221125T140000
DTSTAMP:20260423T114008
CREATED:20221114T194843Z
LAST-MODIFIED:20221114T195338Z
UID:10936-1669363200-1669384800@www.oavm.cz
SUMMARY:Soutěž DUEL - Ekon. fak. VŠB Ostrava
DESCRIPTION:Dne 25. 11. 2022 proběhne na Ekonomické fakultě VŠB-TUO již 8. ročník soutěže DUEL\, určené studentům obchodních akademií a jiných středních škol s ekonomickým zaměřením.
URL:https://www.oavm.cz/akce/soutez-duel-ekon-fak-vsb-ostrava/
LOCATION:Ekonomická fakulta VŠB TUO\, Sokolská tř. 33\, Ostrava
CATEGORIES:vzdělávací
ORGANIZER;CN="Ing. Alena Stib%C5%AFrkov%C3%A1":MAILTO:alena.stiburkova@oavm.cz
END:VEVENT
BEGIN:VEVENT
DTSTART;VALUE=DATE:20221122
DTEND;VALUE=DATE:20221123
DTSTAMP:20260423T114008
CREATED:20221114T193505Z
LAST-MODIFIED:20221114T195856Z
UID:10929-1669075200-1669161599@www.oavm.cz
SUMMARY:Regionální soutěž UCE
DESCRIPTION:Vybraní žáci se zůčastní regionálního kola soutěže v účetnictví.
URL:https://www.oavm.cz/akce/regionalni-soutez-uce/
LOCATION:Obchodní akademie a VOŠ\, Masarykova 101/18\, Krásno nad Bečvou\, Valašské Meziříčí\, 757 01
CATEGORIES:vzdělávací
ORGANIZER;CN="Ing. Alena Machalov%C3%A1":MAILTO:alena.machalova@oavm.cz
END:VEVENT
BEGIN:VEVENT
DTSTART;VALUE=DATE:20221116
DTEND;VALUE=DATE:20221117
DTSTAMP:20260423T114008
CREATED:20221114T185706Z
LAST-MODIFIED:20221114T195649Z
UID:10915-1668556800-1668643199@www.oavm.cz
SUMMARY:Školní turnaj ve florbalu - dívky
DESCRIPTION:Ve středu 16. 11. proběhne školní kolo turnaje ve florbalu. \nZůčastní se přihlášené dívčí týmy.
URL:https://www.oavm.cz/akce/skolni-turnaj-ve-florbalu-divky/
LOCATION:tělocvična Obchodní akademie\, Masarykova 101/18\, Valašské Meziříčí\, 757 01
CATEGORIES:sportovní
ORGANIZER;CN="Mgr. Petr Pokorn%C3%BD":MAILTO:petr. pokorny@oavm.cz
END:VEVENT
BEGIN:VEVENT
DTSTART;VALUE=DATE:20221115
DTEND;VALUE=DATE:20221117
DTSTAMP:20260423T114008
CREATED:20221114T192256Z
LAST-MODIFIED:20221114T195714Z
UID:10920-1668470400-1668643199@www.oavm.cz
SUMMARY:EKOTÝM 2022 - celostátní kolo
DESCRIPTION:Tým 4. A bude reprezentovat naši školu v celostátní soutěži EKOTÝM 2022.
URL:https://www.oavm.cz/akce/ekotym-2022-celostatni-kolo/
LOCATION:Obchodní akademie Havlíčkův Brod\, Bratříků 851\, Havlíčkův Brod\, 580 02\, Česká republika
CATEGORIES:vzdělávací
ORGANIZER;CN="Ing. Jaroslav Ji%C5%99%C3%AD%C4%8Dek":MAILTO:jaroslav.jiricek@oavm.cz
END:VEVENT
BEGIN:VEVENT
DTSTART;VALUE=DATE:20221115
DTEND;VALUE=DATE:20221116
DTSTAMP:20260423T114008
CREATED:20221114T185456Z
LAST-MODIFIED:20221114T195628Z
UID:10911-1668470400-1668556799@www.oavm.cz
SUMMARY:Školní turnaj ve florbalu - chlapci
DESCRIPTION:V úterý 15. 11. proběhne školní kolo turnaje ve florbalu. \nZůčastní se přihlášené chlapecké týmy.
URL:https://www.oavm.cz/akce/skolni-turnaj-ve-florbalu-chlapci/
LOCATION:tělocvična Obchodní akademie\, Masarykova 101/18\, Valašské Meziříčí\, 757 01
CATEGORIES:sportovní
ORGANIZER;CN="Mgr. Petr Pokorn%C3%BD":MAILTO:petr. pokorny@oavm.cz
END:VEVENT
BEGIN:VEVENT
DTSTART;TZID=Europe/Prague:20221108T080000
DTEND;TZID=Europe/Prague:20221108T120000
DTSTAMP:20260423T114008
CREATED:20221107T113850Z
LAST-MODIFIED:20221114T195505Z
UID:10857-1667894400-1667908800@www.oavm.cz
SUMMARY:Oblastní kolo soutěže "pIšQworky" pro ZŠ
DESCRIPTION:V úterý 8. 11. proběhne na naší škole oblastní školní kolo soutěže „pIšQworky“. Zůčastní se žáci základních škol.
URL:https://www.oavm.cz/akce/oblastni-kolo-souteze-piskvorky/
LOCATION:1. B\, Masarykova 101/18\, Valašské Meziříčí\, 75701
ORGANIZER;CN="Mgr. Petr Pokorn%C3%BD":MAILTO:petr. pokorny@oavm.cz
END:VEVENT
BEGIN:VEVENT
DTSTART;TZID=Europe/Prague:20221018T103000
DTEND;TZID=Europe/Prague:20221018T111500
DTSTAMP:20260423T114008
CREATED:20221011T100441Z
LAST-MODIFIED:20221011T100441Z
UID:10726-1666089000-1666091700@www.oavm.cz
SUMMARY:Školní kolo soutěže UCE
DESCRIPTION:Vybraní žáci z prvního kola\, ze tříd 4A a 4B\, se zůčastní školního kola soutěže v účetnictví.
URL:https://www.oavm.cz/akce/skolni-kolo-souteze-uce/
LOCATION:Obchodní akademie a VOŠ\, Masarykova 101/18\, Krásno nad Bečvou\, Valašské Meziříčí\, 757 01
ORGANIZER;CN="Ing. Alena Stib%C5%AFrkov%C3%A1":MAILTO:alena.stiburkova@oavm.cz
END:VEVENT
BEGIN:VEVENT
DTSTART;TZID=Europe/Prague:20221017T121500
DTEND;TZID=Europe/Prague:20221017T135000
DTSTAMP:20260423T114008
CREATED:20221011T091256Z
LAST-MODIFIED:20221011T091332Z
UID:10711-1666008900-1666014600@www.oavm.cz
SUMMARY:Školní kolo soutěže pIšQworky
DESCRIPTION:V pondělí 17. 10. proběhne školní kolo soutěže „pIšQworky“. Zůčastní se pouze přihlášení žáci.
URL:https://www.oavm.cz/akce/skolni-kolo-souteze-piskvorky/
LOCATION:učebna 102\, Masarykova 101/18\, Valašské Meziříčí\, 75701
ORGANIZER;CN="Mgr. Petr Pokorn%C3%BD":MAILTO:petr. pokorny@oavm.cz
END:VEVENT
BEGIN:VEVENT
DTSTART;VALUE=DATE:20221014
DTEND;VALUE=DATE:20221015
DTSTAMP:20260423T114008
CREATED:20221011T094452Z
LAST-MODIFIED:20221011T094452Z
UID:10718-1665705600-1665791999@www.oavm.cz
SUMMARY:Šenovský datel 2022
DESCRIPTION:Vybraní žáci 2. ročníků se zůčastní soutěže v grafických disciplínách Šenovský datel 2022.
URL:https://www.oavm.cz/akce/senovsky-datel-2022/
LOCATION:Mendelova SŠ\, Divadelní 138/4\, Nový Jičín\, 74101
ORGANIZER;CN="Mgr. Mel%C3%A1nie Kratinov%C3%A1":MAILTO:melanie.kratinova@oavm.cz
END:VEVENT
BEGIN:VEVENT
DTSTART;TZID=Europe/Prague:20221013T130500
DTEND;TZID=Europe/Prague:20221013T153000
DTSTAMP:20260423T114008
CREATED:20221011T094139Z
LAST-MODIFIED:20221011T094518Z
UID:10715-1665666300-1665675000@www.oavm.cz
SUMMARY:Šenovský datel 2022
DESCRIPTION:Vybraní žáci 2. ročníků se zůčastní soutěže v grafických disciplínách Šenovský datel 2022.
URL:https://www.oavm.cz/akce/senovsky-datel/
LOCATION:Mendelova SŠ\, Divadelní 138/4\, Nový Jičín\, 74101
ORGANIZER;CN="Mgr. Mel%C3%A1nie Kratinov%C3%A1":MAILTO:melanie.kratinova@oavm.cz
END:VEVENT
BEGIN:VEVENT
DTSTART;TZID=Europe/Prague:20221013T074500
DTEND;TZID=Europe/Prague:20221013T153000
DTSTAMP:20260423T114008
CREATED:20221011T095817Z
LAST-MODIFIED:20221011T095817Z
UID:10723-1665647100-1665675000@www.oavm.cz
SUMMARY:Okresní kolo - fotbal
DESCRIPTION:Zúčastní se hráči\, kteří budou na soupisce\, kterou sestaví Mgr. Vašek.
URL:https://www.oavm.cz/akce/okresni-kolo-fotbal/
LOCATION:Fotbalový stadion Valašské Meziříčí\, Zašovská 784\, Valašské Meziříčí\, 75701
CATEGORIES:sportovní
ORGANIZER;CN="Mgr. Dalibor Va%C5%A1ek":MAILTO:dalibor.vasek@oavm.cz
END:VEVENT
BEGIN:VEVENT
DTSTART;VALUE=DATE:20221013
DTEND;VALUE=DATE:20221014
DTSTAMP:20260423T114008
CREATED:20221011T095305Z
LAST-MODIFIED:20221011T095305Z
UID:10721-1665619200-1665705599@www.oavm.cz
SUMMARY:Okrskové kolo - basket - dívky
DESCRIPTION:Organizátor: SPŠ Stavební Valašské Meziříčí \nZúčastní se hráči\, kteří budou na soupisce\, kterou sestaví Mgr. Perutka.
URL:https://www.oavm.cz/akce/okrskove-kolo-basket-divky/
LOCATION:SPŠ stavební Valašské Meziříčí\, Máchova 628/10\, Valašské Meziříčí\, 757 01
CATEGORIES:sportovní
ORGANIZER;CN="Mgr. Tom%C3%A1%C5%A1 Perutka":MAILTO:tomas.perutka@oavm.cz
END:VEVENT
BEGIN:VEVENT
DTSTART;TZID=Europe/Prague:20221010T080000
DTEND;TZID=Europe/Prague:20221010T140000
DTSTAMP:20260423T114008
CREATED:20220921T073644Z
LAST-MODIFIED:20220921T073644Z
UID:10656-1665388800-1665410400@www.oavm.cz
SUMMARY:Krajské kolo soutěže EKO tým
DESCRIPTION:Účastnit se budou dvě tříčlenná družstva 4.A a 4.B. \nČasy jsou orientační a mohou se změnit.
URL:https://www.oavm.cz/akce/krajske-kolo-souteze-eko-tym/
LOCATION:Vyšší odborná škola\, Na Šištotě 159\, Valašské Meziříčí\, 757 01
CATEGORIES:vzdělávací
ORGANIZER;CN="Ing. Helena %C5%A0krlov%C3%A1":MAILTO:helena.skrlova@oavm.cz
END:VEVENT
BEGIN:VEVENT
DTSTART;TZID=Europe/Prague:20221010T074500
DTEND;TZID=Europe/Prague:20221010T130000
DTSTAMP:20260423T114008
CREATED:20221010T103347Z
LAST-MODIFIED:20221010T103347Z
UID:10682-1665387900-1665406800@www.oavm.cz
SUMMARY:Okresní kolo - přespolní běh
DESCRIPTION:Ogranizátor: ZŠ Vyhlídka Valašské Meziříčí \nZúčastní se žáci\, kteří postoupili z okrskového kola soutěže. \nDružstvo povede Mgr.  Koláček.
URL:https://www.oavm.cz/akce/okresni-kolo-prespolni-beh/
LOCATION:ZŠ Vyhlídka\, Králova 380\, Valašské Meziříčí\, 757 01
CATEGORIES:sportovní
ORGANIZER;CN="Mgr. Ivo Kol%C3%A1%C4%8Dek":MAILTO:ivo.kolacek@oavm.cz
END:VEVENT
BEGIN:VEVENT
DTSTART;VALUE=DATE:20220420
DTEND;VALUE=DATE:20220422
DTSTAMP:20260423T114008
CREATED:20220407T115617Z
LAST-MODIFIED:20220407T115617Z
UID:10286-1650412800-1650585599@www.oavm.cz
SUMMARY:Mistrovství ČR žáků ve zpracování textů 2022 - republikové kolo
DESCRIPTION:Soutěž vybraných žáků postupujících z krajských kol v disciplínách ve zpracování textů.
URL:https://www.oavm.cz/akce/mistrovstvi-cr-zaku-ve-zpracovani-textu-2022-republikove-kolo/
LOCATION:OA Hovorčovická\, U Vinohradského hřbitova 3\, Praha 3\, 130 00
ORGANIZER;CN="OA Hovor%C4%8Dovick%C3%A1":MAILTO:skola@oahovorcovicka.cz
END:VEVENT
BEGIN:VEVENT
DTSTART;TZID=Europe/Prague:20220310T094000
DTEND;TZID=Europe/Prague:20220310T111500
DTSTAMP:20260423T114008
CREATED:20220304T144448Z
LAST-MODIFIED:20220304T144448Z
UID:10087-1646905200-1646910900@www.oavm.cz
SUMMARY:Školní kolo matematické soutěže pro 1. a 2. ročník
DESCRIPTION:
URL:https://www.oavm.cz/akce/skolni-kolo-matematicke-souteze-pro-1-a-2-rocnik/
LOCATION:Obchodní akademie a VOŠ\, Masarykova 101/18\, Krásno nad Bečvou\, Valašské Meziříčí\, 757 01
CATEGORIES:vzdělávací
ORGANIZER;CN="Mgr. V%C3%ADt Han%C3%A1k":MAILTO:vit.hanak@oavm.cz
END:VEVENT
BEGIN:VEVENT
DTSTART;TZID=Europe/Prague:20211012T074500
DTEND;TZID=Europe/Prague:20211012T135000
DTSTAMP:20260423T114008
CREATED:20211007T122537Z
LAST-MODIFIED:20211007T122631Z
UID:9688-1634024700-1634046600@www.oavm.cz
SUMMARY:Šenovský datel 2021
DESCRIPTION:Zúčastní se vybraní žáci 2. ročníku\, učebna 129.
URL:https://www.oavm.cz/akce/senovsky-datel-2021/
LOCATION:učebna 129\, Masarykova 101/18\, Krásno nad Bečvou\, Valašské Meziříčí\, 757 01
ORGANIZER;CN="Mgr. Robert Sigmund%2C DiS.":MAILTO:robert.sigmund@oavm.cz
END:VEVENT
BEGIN:VEVENT
DTSTART;VALUE=DATE:20200220
DTEND;VALUE=DATE:20200221
DTSTAMP:20260423T114008
CREATED:20200128T204526Z
LAST-MODIFIED:20200128T204526Z
UID:7988-1582156800-1582243199@www.oavm.cz
SUMMARY:Veletrh fiktivních firem Ostrava
DESCRIPTION:Zúčastní se vybraní žáci tříd 4. A a 4. B.
URL:https://www.oavm.cz/akce/veletrh-fiktivnich-firem-ostrava-2/
LOCATION:Výstaviště Černá louka\, Černá louka 3235\, Ostrava - Moravská Ostrava\, 702 00
ORGANIZER;CN="Ing. Helena %C5%A0krlov%C3%A1":MAILTO:helena.skrlova@oavm.cz
END:VEVENT
BEGIN:VEVENT
DTSTART;TZID=Europe/Prague:20200127T100000
DTEND;TZID=Europe/Prague:20200128T140000
DTSTAMP:20260423T114008
CREATED:20191220T155043Z
LAST-MODIFIED:20191220T155043Z
UID:7893-1580119200-1580220000@www.oavm.cz
SUMMARY:14. ročník "Má dáti dal"
DESCRIPTION:Katedra Účetnictví a finančního řízení podniku na SVŠE Znojmo ve spolupráci se vzdělávacím střediskem Ing. Pavel Štohl\, s.r.o.\, vyhlašuje třináctý ročník soutěže v účetnictví „MÁ DATI – DAL“\, jehož celostátní finále se bude konat ve Znojmě\, a to ve dnech 27. – 28. 1. 2020. Soutěž je určena pro studenty čtvrtých ročníků obchodních akademií a ostatních středních odborných škol s výukou účetnictví.
URL:https://www.oavm.cz/akce/14-rocnik-ma-dati-dal/
LOCATION:Soukromá vysoká škola ekonimická Znojmo\, Loucká 21\, Znojmo\, 669 02
ORGANIZER;CN="Ing. Elen V%C3%A1lkov%C3%A1":MAILTO:elen.valkova@oavm.cz
END:VEVENT
BEGIN:VEVENT
DTSTART;VALUE=DATE:20191129
DTEND;VALUE=DATE:20191130
DTSTAMP:20260423T114008
CREATED:20191126T072525Z
LAST-MODIFIED:20191126T072525Z
UID:7718-1574985600-1575071999@www.oavm.cz
SUMMARY:Ekonomická soutěž DUEL
DESCRIPTION:Zúčastní se tito žáci: \nCabáková Hana\, Hajdík Lukáš\, Vávrová Denisa.
URL:https://www.oavm.cz/akce/ekonomicka-soutez-duel/
CATEGORIES:vzdělávací
ORGANIZER;CN="Ing. Helena %C5%A0krlov%C3%A1":MAILTO:helena.skrlova@oavm.cz
END:VEVENT
BEGIN:VEVENT
DTSTART;VALUE=DATE:20191122
DTEND;VALUE=DATE:20191123
DTSTAMP:20260423T114008
CREATED:20191111T071321Z
LAST-MODIFIED:20191111T071321Z
UID:7663-1574380800-1574467199@www.oavm.cz
SUMMARY:Oblastní kolo Pišqworky 2019
DESCRIPTION:Naše škola společně s celostátní organizátorem  spolkem Student Cyber Games bude 22. 11. 2019 organizovat oblastní kolo soutěže „Pišqworky 2019“. Jednotlivé zápasy se uskuteční v třídách VOŠky. Z naší školy se nominovala čtyři družstva postavená podle výsledků školního kola.
URL:https://www.oavm.cz/akce/oblastni-kolo-pisqworky-2019/
LOCATION:Vyšší odborná škola\, Na Šištotě 159\, Valašské Meziříčí\, 757 01
ORGANIZER;CN="Ing. V%C3%A1clav Majkus":MAILTO:vaclav.majkus@oavm.cz
END:VEVENT
BEGIN:VEVENT
DTSTART;VALUE=DATE:20191121
DTEND;VALUE=DATE:20191122
DTSTAMP:20260423T114008
CREATED:20191118T142542Z
LAST-MODIFIED:20191118T142542Z
UID:7701-1574294400-1574380799@www.oavm.cz
SUMMARY:Regionální soutěž v účetnictví
DESCRIPTION:Dne 21. 11. 2019 se vybraní žáci 4. ročníku oboru Obchodní akademie zúčastní REGIONÁLNÍ SOUTĚŽE V ÚČETNICTVÍ na Obchodní akademii v Přerově. Jedná se už o 15. ročník soutěže\, my jsme byli do Olomouckého kraje pozváni poprvé\, tak zkusíme poměřit své znalosti a dovednosti. Našim soutěžícím přejeme hodně štěstí. \nIng. Elen Válková
URL:https://www.oavm.cz/akce/regionalni-soutez-v-ucetnictvi/
LOCATION:OA Přerov\, Bartošova 24\, Přerov\, 750 02
CATEGORIES:vzdělávací
ORGANIZER;CN="Ing. Elen V%C3%A1lkov%C3%A1":MAILTO:elen.valkova@oavm.cz
END:VEVENT
BEGIN:VEVENT
DTSTART;TZID=Europe/Prague:20191022T130000
DTEND;TZID=Europe/Prague:20191022T150000
DTSTAMP:20260423T114008
CREATED:20191014T073832Z
LAST-MODIFIED:20191014T073832Z
UID:7526-1571749200-1571756400@www.oavm.cz
SUMMARY:Pišqworky 2019 - školní kolo
DESCRIPTION:Dne 22. října 2019 se uskuteční školní kolo populární soutěže Pišqworky 2019. Zveme všechny žáky naší školy k účasti. Podmínkou je vytvořit pětičlenný tým s jedním kapitánem a přihlásit se do pátku 18. října 2019 panu učiteli Václavu Majkusovi (kabinet 113) nebo v hodinách informatiky přítomnému učiteli.  \nSoutěž proběhne v učebnách na VOŠ.
URL:https://www.oavm.cz/akce/pisqworky-2019-skolni-kolo/
LOCATION:Vyšší odborná škola\, Na Šištotě 159\, Valašské Meziříčí\, 757 01
ORGANIZER;CN="Ing. V%C3%A1clav Majkus":MAILTO:vaclav.majkus@oavm.cz
END:VEVENT
BEGIN:VEVENT
DTSTART;VALUE=DATE:20191022
DTEND;VALUE=DATE:20191023
DTSTAMP:20260423T114008
CREATED:20191017T070121Z
LAST-MODIFIED:20191017T072122Z
UID:7569-1571702400-1571788799@www.oavm.cz
SUMMARY:2. kolo soutěže účetních znalostí
DESCRIPTION:Zúčastní se vybraní žáci oboru Obchodní akademie. Povoleny jsou účtové rozvrhy a kalkulačky.
URL:https://www.oavm.cz/akce/1-kolo-souteze-ucetnich-znalosti-4-b-2-2/
LOCATION:Obchodní akademie a VOŠ\, Masarykova 101/18\, Krásno nad Bečvou\, Valašské Meziříčí\, 757 01
CATEGORIES:vzdělávací
ORGANIZER;CN="Ing. Alena Stib%C5%AFrkov%C3%A1":MAILTO:alena.stiburkova@oavm.cz
END:VEVENT
BEGIN:VEVENT
DTSTART;VALUE=DATE:20191015
DTEND;VALUE=DATE:20191016
DTSTAMP:20260423T114008
CREATED:20191011T120121Z
LAST-MODIFIED:20191011T120242Z
UID:7524-1571097600-1571183999@www.oavm.cz
SUMMARY:1. kolo soutěže účetních znalostí - 4. A
DESCRIPTION:Soutěž je určena maturantům oboru Obchodní akademie\, v tomto termínu se zúčastní třída 4. A. Znalostní test v rozsahu 37 otázek proběhne v rámci výuky EKU na PC. Povoleny jsou účtové rozvrhy a kalkulačky. Vyhodnocení úspěšnosti bude žákům ihned k dispozici.
URL:https://www.oavm.cz/akce/1-kolo-souteze-ucetnich-znalosti-4-b-2/
LOCATION:Obchodní akademie a VOŠ\, Masarykova 101/18\, Krásno nad Bečvou\, Valašské Meziříčí\, 757 01
CATEGORIES:vzdělávací
ORGANIZER;CN="Ing. Alena Stib%C5%AFrkov%C3%A1":MAILTO:alena.stiburkova@oavm.cz
END:VEVENT
BEGIN:VEVENT
DTSTART;VALUE=DATE:20191014
DTEND;VALUE=DATE:20191015
DTSTAMP:20260423T114008
CREATED:20191011T120121Z
LAST-MODIFIED:20191011T120121Z
UID:7522-1571011200-1571097599@www.oavm.cz
SUMMARY:1. kolo soutěže účetních znalostí - 4. B
DESCRIPTION:Soutěž je určena maturantům oboru Obchodní akademie\, v tomto termínu se zúčastní třída 4. B. Znalostní test v rozsahu 37 otázek proběhne v rámci výuky EKU na PC. Povoleny jsou účtové rozvrhy a kalkulačky. Vyhodnocení úspěšnosti bude žákům ihned k dispozici.
URL:https://www.oavm.cz/akce/1-kolo-souteze-ucetnich-znalosti-4-b/
LOCATION:Obchodní akademie a VOŠ\, Masarykova 101/18\, Krásno nad Bečvou\, Valašské Meziříčí\, 757 01
CATEGORIES:vzdělávací
ORGANIZER;CN="Ing. Alena Stib%C5%AFrkov%C3%A1":MAILTO:alena.stiburkova@oavm.cz
END:VEVENT
END:VCALENDAR