BEGIN:VCALENDAR
VERSION:2.0
PRODID:-//Obchodní akademie a VOŠ Valašské Meziříčí - ECPv6.15.20//NONSGML v1.0//EN
CALSCALE:GREGORIAN
METHOD:PUBLISH
X-ORIGINAL-URL:https://www.oavm.cz
X-WR-CALDESC:Akce na Obchodní akademie a VOŠ Valašské Meziříčí
REFRESH-INTERVAL;VALUE=DURATION:PT1H
X-Robots-Tag:noindex
X-PUBLISHED-TTL:PT1H
BEGIN:VTIMEZONE
TZID:Europe/Prague
BEGIN:DAYLIGHT
TZOFFSETFROM:+0100
TZOFFSETTO:+0200
TZNAME:CEST
DTSTART:20180325T010000
END:DAYLIGHT
BEGIN:STANDARD
TZOFFSETFROM:+0200
TZOFFSETTO:+0100
TZNAME:CET
DTSTART:20181028T010000
END:STANDARD
BEGIN:DAYLIGHT
TZOFFSETFROM:+0100
TZOFFSETTO:+0200
TZNAME:CEST
DTSTART:20190331T010000
END:DAYLIGHT
BEGIN:STANDARD
TZOFFSETFROM:+0200
TZOFFSETTO:+0100
TZNAME:CET
DTSTART:20191027T010000
END:STANDARD
BEGIN:DAYLIGHT
TZOFFSETFROM:+0100
TZOFFSETTO:+0200
TZNAME:CEST
DTSTART:20200329T010000
END:DAYLIGHT
BEGIN:STANDARD
TZOFFSETFROM:+0200
TZOFFSETTO:+0100
TZNAME:CET
DTSTART:20201025T010000
END:STANDARD
END:VTIMEZONE
BEGIN:VEVENT
DTSTART;TZID=Europe/Prague:20190613T100000
DTEND;TZID=Europe/Prague:20190613T113000
DTSTAMP:20260421T165424
CREATED:20190513T132243Z
LAST-MODIFIED:20190513T132243Z
UID:6800-1560420000-1560425400@www.oavm.cz
SUMMARY:Nehodou to začíná - přednáška pro 2. ročník
DESCRIPTION:Nehodou to začíná je interaktivní preventivně edukační pořad pro studenty ve věku 15-20 let. Je určen všem začínajícím i budoucím řidičům motorových vozidel. Nečekejte však nudnou přednášku\, ba naopak velmi zajímavý až zábavný pořad\, využívající interaktivní prvky\, které studenty vtáhnou do dění. \nSoučástí přednášky\, která trvá 90 minut jsou: moderátor\, psycholog\, dopravní expert\, záchranář.
URL:https://www.oavm.cz/akce/nehodou-to-zacina-prednaska-pro-2-rocnik/
LOCATION:Kulturní zařízení města Valašského Meziříčí\, Komenského 1\, Valašské Meziříčí\, 757 01
CATEGORIES:vzdělávací
ORGANIZER;CN="Mgr. Andrea Hlavat%C3%A1":MAILTO:andrea.hlavata@oavm.cz
END:VEVENT
BEGIN:VEVENT
DTSTART;TZID=Europe/Prague:20190521T082500
DTEND;TZID=Europe/Prague:20190521T115500
DTSTAMP:20260421T165424
CREATED:20190403T143231Z
LAST-MODIFIED:20190403T143608Z
UID:6607-1558427100-1558439700@www.oavm.cz
SUMMARY:Vztahy - seminář pro 2. ročník
DESCRIPTION:Seminář se školní psycholožkou se uskuteční 2.-5. vyučovací hodinu.
URL:https://www.oavm.cz/akce/seminar-pro-2-rocnik-vztahy/
LOCATION:učebna 218\, Masarykova 101/18\, Valašské Meziříčí\, 757 01
ORGANIZER;CN="PaedDr. et Mgr. V%C4%9Bra Facov%C3%A1":MAILTO:verafacova@seznam.cz
END:VEVENT
BEGIN:VEVENT
DTSTART;TZID=Europe/Prague:20190503T073000
DTEND;TZID=Europe/Prague:20190503T115500
DTSTAMP:20260421T165424
CREATED:20190418T200905Z
LAST-MODIFIED:20190418T200905Z
UID:6710-1556868600-1556884500@www.oavm.cz
SUMMARY:Přednáška - hasiči
DESCRIPTION:Přednáška pro 1. ročník. Sraz žáků přímo v aule VOŠ.
URL:https://www.oavm.cz/akce/prednaska-hasici/
LOCATION:Aula VOŠ\, Na Šištotě 159\, Valašské Meziříčí\, 757 01
ORGANIZER;CN="Mgr. Andrea Hlavat%C3%A1":MAILTO:andrea.hlavata@oavm.cz
END:VEVENT
BEGIN:VEVENT
DTSTART;VALUE=DATE:20190503
DTEND;VALUE=DATE:20190504
DTSTAMP:20260421T165424
CREATED:20190418T200633Z
LAST-MODIFIED:20190418T200633Z
UID:6707-1556841600-1556927999@www.oavm.cz
SUMMARY:Rakovina - přednáška
DESCRIPTION:Přednáška pro 2 skupiny 3. ročníků. Pedagogický dozor a čas bude doplněn.
URL:https://www.oavm.cz/akce/rakovina-prednaska/
LOCATION:1. C\, Masarykova 101/18\, Valašské Meziříčí\, 757 01
CATEGORIES:vzdělávací
ORGANIZER;CN="Mgr. Andrea Hlavat%C3%A1":MAILTO:andrea.hlavata@oavm.cz
END:VEVENT
BEGIN:VEVENT
DTSTART;TZID=Europe/Prague:20190411T080000
DTEND;TZID=Europe/Prague:20190411T100000
DTSTAMP:20260421T165424
CREATED:20190207T201906Z
LAST-MODIFIED:20190221T083050Z
UID:6357-1554969600-1554976800@www.oavm.cz
SUMMARY:Sv(j)et kolem - přednáška
DESCRIPTION:Za tři roky projeli desítky tisíc kilometrů a zažili neuvěřitelná dobrodružství. snadno přivykli kočovnému životu a lehkosti bytí\, které přináší cestování na kole s pěti brašnami. \nPřednáška pro žáky I. a II. ročníku. \nPřednáší:\nZuzana a Michal Klímkovi
URL:https://www.oavm.cz/akce/prednaska-3-r-spotrebitelska-problematika-2/
LOCATION:Aula VOŠ\, Na Šištotě 159\, Valašské Meziříčí\, 757 01
ATTACH;FMTTYPE=image/jpeg:https://www.oavm.cz/wp-content/uploads/2019/02/5729.jpg
ORGANIZER;CN="Mgr. Robert Sigmund%2C DiS.":MAILTO:robert.sigmund@oavm.cz
END:VEVENT
BEGIN:VEVENT
DTSTART;VALUE=DATE:20190410
DTEND;VALUE=DATE:20190411
DTSTAMP:20260421T165424
CREATED:20190207T201906Z
LAST-MODIFIED:20190207T201906Z
UID:6300-1554854400-1554940799@www.oavm.cz
SUMMARY:Přednáška 3. r. - Spotřebitelská problematika
DESCRIPTION:Pořadatel – Ministerstvo průmyslu a obchodu ve spolupráci s Českou obchodní inspekcí. \nTýká se všech žáků 3. ročníku.
URL:https://www.oavm.cz/akce/prednaska-3-r-spotrebitelska-problematika/
LOCATION:Obchodní akademie a VOŠ\, Masarykova 101/18\, Krásno nad Bečvou\, Valašské Meziříčí\, 757 01
CATEGORIES:vzdělávací
END:VEVENT
BEGIN:VEVENT
DTSTART;TZID=Europe/Prague:20190305T082500
DTEND;TZID=Europe/Prague:20190305T115500
DTSTAMP:20260421T165424
CREATED:20190207T200024Z
LAST-MODIFIED:20190215T101847Z
UID:6281-1551774300-1551786900@www.oavm.cz
SUMMARY:Přednáška - Systém učení\, vztahy ve třídě
DESCRIPTION:Seminář pro 1. ročníky se školní psycholožkou.  \n2. VH – 1. A\n3. VH – 1. B\n4. VH – 1. C\n5. VH – 1. D
URL:https://www.oavm.cz/akce/prednaska-system-uceni-vztahy-ve-tride/
LOCATION:učebna 218\, Masarykova 101/18\, Valašské Meziříčí\, 757 01
CATEGORIES:vzdělávací
ORGANIZER;CN="PaedDr. et Mgr. V%C4%9Bra Facov%C3%A1":MAILTO:verafacova@seznam.cz
END:VEVENT
BEGIN:VEVENT
DTSTART;TZID=Europe/Prague:20190211T082500
DTEND;TZID=Europe/Prague:20190211T133500
DTSTAMP:20260421T165424
CREATED:20190130T185352Z
LAST-MODIFIED:20190130T190353Z
UID:6194-1549873500-1549892100@www.oavm.cz
SUMMARY:Přednáška - Mediální výchova - úniková hra Fakescape
DESCRIPTION:Organizátorka: Mgr. Irena Kadlová  \nCena: 15\,- Kč/osobu  \nTřídy: 2A\, 2B\, 3A\, 3B\, 3C\, 3D  \nRozpis tříd: 2VH 3VH 4VH 5VH 6VH 7VH
URL:https://www.oavm.cz/akce/prednaska-unikova-hra-fakescape/
LOCATION:Učebna 364\, Obchodní akademie a VOŠ\, Valašské Meziříčí\, 757 01
CATEGORIES:vzdělávací
ORGANIZER;CN="Mgr. Irena Kadlov%C3%A1":MAILTO:irena.kadlova@oavm.cz
END:VEVENT
BEGIN:VEVENT
DTSTART;TZID=Europe/Prague:20190206T080000
DTEND;TZID=Europe/Prague:20190206T090000
DTSTAMP:20260421T165424
CREATED:20190130T183918Z
LAST-MODIFIED:20190130T184849Z
UID:6188-1549440000-1549443600@www.oavm.cz
SUMMARY:Přednáška firmy Walter
DESCRIPTION:Organizátor Mgr. Dalibor Vašek. Zúčastní se vybraní přihlášení zájemci.
URL:https://www.oavm.cz/akce/prednaska-firmy-walter/
LOCATION:Učebna 364\, Obchodní akademie a VOŠ\, Valašské Meziříčí\, 757 01
ORGANIZER;CN="Mgr. Dalibor Va%C5%A1ek":MAILTO:dalibor.vasek@oavm.cz
END:VEVENT
BEGIN:VEVENT
DTSTART;TZID=Europe/Prague:20190129T101500
DTEND;TZID=Europe/Prague:20190129T114500
DTSTAMP:20260421T165424
CREATED:20190106T100604Z
LAST-MODIFIED:20190106T100734Z
UID:5769-1548756900-1548762300@www.oavm.cz
SUMMARY:Seminář "Můžeš podnikat"
DESCRIPTION:Źáci 3. A\, 3. B a 3. D se zúčastní semináře „Můžeš podnikat“\, který povedou Michal Ondra z NEW WAVE SERVICE a Petr Zelík ze společnosti OXALIS\, spol. s r. o.
URL:https://www.oavm.cz/akce/seminar-muzes-podnikat/
LOCATION:Učebna 364\, Obchodní akademie a VOŠ\, Valašské Meziříčí\, 757 01
ORGANIZER;CN="Ing. Helena %C5%A0krlov%C3%A1":MAILTO:helena.skrlova@oavm.cz
END:VEVENT
BEGIN:VEVENT
DTSTART;TZID=Europe/Prague:20190124T080000
DTEND;TZID=Europe/Prague:20190124T091500
DTSTAMP:20260421T165424
CREATED:20181208T183343Z
LAST-MODIFIED:20181208T183616Z
UID:5338-1548316800-1548321300@www.oavm.cz
SUMMARY:Planeta Země 3000 - Myanmar
DESCRIPTION:Žáci 2. a 3. ročníku se zúčastní přednášky v rámci projektu Planeta Země 3000 – Myanmar. Akci organizuje RNDr. Eva Čtveráčková. Více informací o projektu najdete na těchto stránkách.
URL:https://www.oavm.cz/akce/planeta-zeme-3000-myanmar/
LOCATION:Obchodní akademie a VOŠ\, Masarykova 101/18\, Krásno nad Bečvou\, Valašské Meziříčí\, 757 01
CATEGORIES:vzdělávací
ORGANIZER;CN="RNDr. Eva %C4%8Ctver%C3%A1%C4%8Dkov%C3%A1":MAILTO:eva.ctverackova@oavm.cz
END:VEVENT
END:VCALENDAR