BEGIN:VCALENDAR
VERSION:2.0
PRODID:-//Obchodní akademie a VOŠ Valašské Meziříčí - ECPv6.15.20//NONSGML v1.0//EN
CALSCALE:GREGORIAN
METHOD:PUBLISH
X-ORIGINAL-URL:https://www.oavm.cz
X-WR-CALDESC:Akce na Obchodní akademie a VOŠ Valašské Meziříčí
REFRESH-INTERVAL;VALUE=DURATION:PT1H
X-Robots-Tag:noindex
X-PUBLISHED-TTL:PT1H
BEGIN:VTIMEZONE
TZID:Europe/Prague
BEGIN:DAYLIGHT
TZOFFSETFROM:+0100
TZOFFSETTO:+0200
TZNAME:CEST
DTSTART:20210328T010000
END:DAYLIGHT
BEGIN:STANDARD
TZOFFSETFROM:+0200
TZOFFSETTO:+0100
TZNAME:CET
DTSTART:20211031T010000
END:STANDARD
BEGIN:DAYLIGHT
TZOFFSETFROM:+0100
TZOFFSETTO:+0200
TZNAME:CEST
DTSTART:20220327T010000
END:DAYLIGHT
BEGIN:STANDARD
TZOFFSETFROM:+0200
TZOFFSETTO:+0100
TZNAME:CET
DTSTART:20221030T010000
END:STANDARD
BEGIN:DAYLIGHT
TZOFFSETFROM:+0100
TZOFFSETTO:+0200
TZNAME:CEST
DTSTART:20230326T010000
END:DAYLIGHT
BEGIN:STANDARD
TZOFFSETFROM:+0200
TZOFFSETTO:+0100
TZNAME:CET
DTSTART:20231029T010000
END:STANDARD
BEGIN:DAYLIGHT
TZOFFSETFROM:+0100
TZOFFSETTO:+0200
TZNAME:CEST
DTSTART:20240331T010000
END:DAYLIGHT
BEGIN:STANDARD
TZOFFSETFROM:+0200
TZOFFSETTO:+0100
TZNAME:CET
DTSTART:20241027T010000
END:STANDARD
END:VTIMEZONE
BEGIN:VEVENT
DTSTART;VALUE=DATE:20230302
DTEND;VALUE=DATE:20230303
DTSTAMP:20260421T164000
CREATED:20230221T231151Z
LAST-MODIFIED:20230221T231151Z
UID:11436-1677715200-1677801599@www.oavm.cz
SUMMARY:Exkurze - knihovna Zbrojnice a Britské centrum v Olomouci
DESCRIPTION:Exkurze 2.A
URL:https://www.oavm.cz/akce/exkurze-knihovna-zbrojnice-a-britske-centrum-v-olomouci-3/
CATEGORIES:exkurze,vzdělávací
ORGANIZER;CN="Mgr. Alena Sedl%C3%A1%C4%8Dkov%C3%A1":MAILTO:alena.sedlackova@oavm.cz
END:VEVENT
BEGIN:VEVENT
DTSTART;TZID=Europe/Prague:20230301T144500
DTEND;TZID=Europe/Prague:20230301T153000
DTSTAMP:20260421T164000
CREATED:20230221T233401Z
LAST-MODIFIED:20230221T233401Z
UID:11452-1677681900-1677684600@www.oavm.cz
SUMMARY:Představení oborů Ekomonické fakulty\, katedry Účetnictví a daní\, VŠB-TU Ostrava
DESCRIPTION:Akce pro studenty 4. ročníků.
URL:https://www.oavm.cz/akce/predstaveni-oboru-ekomonicke-fakulty-katedry-ucetnictvi-a-dani-vsb-tu-ostrava/
LOCATION:Obchodní akademie a VOŠ\, Masarykova 101/18\, Krásno nad Bečvou\, Valašské Meziříčí\, 757 01
CATEGORIES:vzdělávací
ORGANIZER;CN="Obchodn%C3%AD akademie a VO%C5%A0 Vala%C5%A1sk%C3%A9 Mezi%C5%99%C3%AD%C4%8D%C3%AD":MAILTO:oavalmez@oavm.cz
END:VEVENT
BEGIN:VEVENT
DTSTART;TZID=Europe/Prague:20230228T153000
DTEND;TZID=Europe/Prague:20230228T170000
DTSTAMP:20260421T164000
CREATED:20230221T232441Z
LAST-MODIFIED:20230221T233124Z
UID:11443-1677598200-1677603600@www.oavm.cz
SUMMARY:Přípravný kurz CJL na přijímací zkoušky
DESCRIPTION:Přípravné kurzy pro žáky základních škol. \nPodrobnosti najdete na této stránce.
URL:https://www.oavm.cz/akce/pripravny-kurz-cjl-na-prijimaci-zkousky/
LOCATION:Obchodní akademie a VOŠ\, Masarykova 101/18\, Krásno nad Bečvou\, Valašské Meziříčí\, 757 01
CATEGORIES:přijímací zkoušky,vzdělávací
END:VEVENT
BEGIN:VEVENT
DTSTART;TZID=Europe/Prague:20230228T094000
DTEND;TZID=Europe/Prague:20230228T102500
DTSTAMP:20260421T164000
CREATED:20230221T232945Z
LAST-MODIFIED:20230221T232945Z
UID:11447-1677577200-1677579900@www.oavm.cz
SUMMARY:Kam směřuji\, jak si poradit s nasměřováním vlastní kariéry
DESCRIPTION:Setkání studentů 3. D se školní psycholožkou.
URL:https://www.oavm.cz/akce/kam-smeruji-jak-si-poradit-s-nasmerovanim-vlastni-kariery-4/
LOCATION:218\, Masarykova 101/18\, Valašské Meziříčí\, 75701
CATEGORIES:vzdělávací
ORGANIZER;CN="Mgr. Robert Sigmund%2C DiS.":MAILTO:robert.sigmund@oavm.cz
END:VEVENT
BEGIN:VEVENT
DTSTART;TZID=Europe/Prague:20230228T084000
DTEND;TZID=Europe/Prague:20230228T092500
DTSTAMP:20260421T164000
CREATED:20230221T232820Z
LAST-MODIFIED:20230221T232820Z
UID:11445-1677573600-1677576300@www.oavm.cz
SUMMARY:Kam směřuji\, jak si poradit s nasměřováním vlastní kariéry
DESCRIPTION:Setkání studentů 3. C se školní psycholožkou.
URL:https://www.oavm.cz/akce/kam-smeruji-jak-si-poradit-s-nasmerovanim-vlastni-kariery-3/
LOCATION:218\, Masarykova 101/18\, Valašské Meziříčí\, 75701
CATEGORIES:vzdělávací
ORGANIZER;CN="Mgr. Robert Sigmund%2C DiS.":MAILTO:robert.sigmund@oavm.cz
END:VEVENT
BEGIN:VEVENT
DTSTART;TZID=Europe/Prague:20230227T153000
DTEND;TZID=Europe/Prague:20230227T170000
DTSTAMP:20260421T164000
CREATED:20230221T232212Z
LAST-MODIFIED:20230221T233142Z
UID:11441-1677511800-1677517200@www.oavm.cz
SUMMARY:Přípravný kurz MAT na přijímací zkoušky
DESCRIPTION:Přípravné kurzy pro žáky základních škol. \nPodrobnosti najdete na této stránce.
URL:https://www.oavm.cz/akce/pripravny-kurz-mat-na-prijimaci-zkousky-6/
LOCATION:Obchodní akademie a VOŠ\, Masarykova 101/18\, Krásno nad Bečvou\, Valašské Meziříčí\, 757 01
CATEGORIES:přijímací zkoušky,vzdělávací
END:VEVENT
BEGIN:VEVENT
DTSTART;TZID=Europe/Prague:20230222T130000
DTEND;TZID=Europe/Prague:20230222T153000
DTSTAMP:20260421T164000
CREATED:20230221T230613Z
LAST-MODIFIED:20230221T230613Z
UID:11432-1677070800-1677079800@www.oavm.cz
SUMMARY:Soutěž v ANJ - školní kolo
DESCRIPTION:Zúčastní se vybraní žáci. \nMgr. Alžběta Juránková
URL:https://www.oavm.cz/akce/soutez-v-anj-skolni-kolo/
LOCATION:1. D\, Masarykova 101/18\, Valašské Meziříčí\, 75701
ORGANIZER;CN="Mgr. Al%C5%BEb%C4%9Bta Jur%C3%A1nkov%C3%A1":MAILTO:alzbeta.jurankova@oavm.cz
END:VEVENT
BEGIN:VEVENT
DTSTART;VALUE=DATE:20230213
DTEND;VALUE=DATE:20230220
DTSTAMP:20260421T164000
CREATED:20230203T080200Z
LAST-MODIFIED:20230203T080336Z
UID:11377-1676246400-1676851199@www.oavm.cz
SUMMARY:Jarní prázdniny
DESCRIPTION:
URL:https://www.oavm.cz/akce/jarni-prazdniny-2/
LOCATION:Obchodní akademie a VOŠ\, Masarykova 101/18\, Krásno nad Bečvou\, Valašské Meziříčí\, 757 01
ORGANIZER;CN="Obchodn%C3%AD akademie a VO%C5%A0 Vala%C5%A1sk%C3%A9 Mezi%C5%99%C3%AD%C4%8D%C3%AD":MAILTO:oavalmez@oavm.cz
END:VEVENT
BEGIN:VEVENT
DTSTART;VALUE=DATE:20230209
DTEND;VALUE=DATE:20230210
DTSTAMP:20260421T164000
CREATED:20230206T055137Z
LAST-MODIFIED:20230206T060120Z
UID:11383-1675900800-1675987199@www.oavm.cz
SUMMARY:Exkurze - knihovna Zbrojnice a Britské centrum v Olomouci
DESCRIPTION:Exkurze 3.B
URL:https://www.oavm.cz/akce/exkurze-knihovna-zbrojnice-a-britske-centrum-v-olomouci/
CATEGORIES:exkurze,vzdělávací
ORGANIZER;CN="Mgr. Andrea Je%C5%BEkov%C3%A1":MAILTO:andrea.jezkova@oavm.cz
END:VEVENT
BEGIN:VEVENT
DTSTART;TZID=Europe/Prague:20230207T094000
DTEND;TZID=Europe/Prague:20230207T102500
DTSTAMP:20260421T164000
CREATED:20230206T054423Z
LAST-MODIFIED:20230206T055332Z
UID:11381-1675762800-1675765500@www.oavm.cz
SUMMARY:Kam směřuji\, jak si poradit s nasměřováním vlastní kariéry
DESCRIPTION:Setkání se školní psycholožkou. 3.A
URL:https://www.oavm.cz/akce/kam-smeruji-jak-si-poradit-s-nasmerovanim-vlastni-kariery-2/
LOCATION:218\, Masarykova 101/18\, Valašské Meziříčí\, 75701
CATEGORIES:vzdělávací
ORGANIZER;CN="Obchodn%C3%AD akademie a VO%C5%A0 Vala%C5%A1sk%C3%A9 Mezi%C5%99%C3%AD%C4%8D%C3%AD":MAILTO:oavalmez@oavm.cz
END:VEVENT
BEGIN:VEVENT
DTSTART;TZID=Europe/Prague:20230207T084000
DTEND;TZID=Europe/Prague:20230207T092500
DTSTAMP:20260421T164000
CREATED:20230206T054309Z
LAST-MODIFIED:20230206T055403Z
UID:11379-1675759200-1675761900@www.oavm.cz
SUMMARY:Kam směřuji\, jak si poradit s nasměřováním vlastní kariéry
DESCRIPTION:Setkání se školní psycholožkou. 3.B
URL:https://www.oavm.cz/akce/kam-smeruji-jak-si-poradit-s-nasmerovanim-vlastni-kariery/
LOCATION:218\, Masarykova 101/18\, Valašské Meziříčí\, 75701
CATEGORIES:vzdělávací
ORGANIZER;CN="Obchodn%C3%AD akademie a VO%C5%A0 Vala%C5%A1sk%C3%A9 Mezi%C5%99%C3%AD%C4%8D%C3%AD":MAILTO:oavalmez@oavm.cz
END:VEVENT
BEGIN:VEVENT
DTSTART;VALUE=DATE:20230203
DTEND;VALUE=DATE:20230204
DTSTAMP:20260421T164000
CREATED:20230203T075755Z
LAST-MODIFIED:20230203T080245Z
UID:11375-1675382400-1675468799@www.oavm.cz
SUMMARY:Pololetní prázdniny
DESCRIPTION:
URL:https://www.oavm.cz/akce/pololetni-prazdniny/
LOCATION:Obchodní akademie a VOŠ\, Masarykova 101/18\, Krásno nad Bečvou\, Valašské Meziříčí\, 757 01
ORGANIZER;CN="Obchodn%C3%AD akademie a VO%C5%A0 Vala%C5%A1sk%C3%A9 Mezi%C5%99%C3%AD%C4%8D%C3%AD":MAILTO:oavalmez@oavm.cz
END:VEVENT
BEGIN:VEVENT
DTSTART;TZID=Europe/Prague:20230202T112500
DTEND;TZID=Europe/Prague:20230202T153000
DTSTAMP:20260421T164000
CREATED:20230131T103919Z
LAST-MODIFIED:20230131T103919Z
UID:11367-1675337100-1675351800@www.oavm.cz
SUMMARY:Krajské kolo mistrovství ČR ve zpracování textů
DESCRIPTION:Soutěž vybraných žáků v disciplínách zpracování textů.
URL:https://www.oavm.cz/akce/krajske-kolo-mistrovstvi-cr-ve-zpracovani-textu-2/
LOCATION:učebna 129\, Masarykova 101/18\, Krásno nad Bečvou\, Valašské Meziříčí\, 757 01
ORGANIZER;CN="Mgr. Robert Sigmund%2C DiS.":MAILTO:robert.sigmund@oavm.cz
END:VEVENT
BEGIN:VEVENT
DTSTART;TZID=Europe/Prague:20230201T112500
DTEND;TZID=Europe/Prague:20230201T153000
DTSTAMP:20260421T164000
CREATED:20230131T103723Z
LAST-MODIFIED:20230131T103723Z
UID:11365-1675250700-1675265400@www.oavm.cz
SUMMARY:Krajské kolo mistrovství ČR ve zpracování textů
DESCRIPTION:Soutěž vybraných žáků v disciplínách zpracování textů.
URL:https://www.oavm.cz/akce/krajske-kolo-mistrovstvi-cr-ve-zpracovani-textu/
LOCATION:učebna 129\, Masarykova 101/18\, Krásno nad Bečvou\, Valašské Meziříčí\, 757 01
ORGANIZER;CN="Mgr. Robert Sigmund%2C DiS.":MAILTO:robert.sigmund@oavm.cz
END:VEVENT
BEGIN:VEVENT
DTSTART;TZID=Europe/Prague:20230131T113000
DTEND;TZID=Europe/Prague:20230131T130000
DTSTAMP:20260421T164000
CREATED:20230131T102852Z
LAST-MODIFIED:20230131T103041Z
UID:11363-1675164600-1675170000@www.oavm.cz
SUMMARY:Předávání výpisů vysvědčení
DESCRIPTION:
URL:https://www.oavm.cz/akce/predavani-vypisu-vysvedceni-2/
LOCATION:Obchodní akademie a VOŠ\, Masarykova 101/18\, Krásno nad Bečvou\, Valašské Meziříčí\, 757 01
ORGANIZER;CN="Mgr. Andrea Hlavat%C3%A1":MAILTO:andrea.hlavata@oavm.cz
END:VEVENT
BEGIN:VEVENT
DTSTART;TZID=Europe/Prague:20230127T193000
DTEND;TZID=Europe/Prague:20230128T020000
DTSTAMP:20260421T164000
CREATED:20230112T210253Z
LAST-MODIFIED:20230112T210304Z
UID:11267-1674847800-1674871200@www.oavm.cz
SUMMARY:Maturitní ples Obchodní akademie 2023
DESCRIPTION:Přijdte se pobavit na tradiční maturitní ples 4. ročníků Obchodní akademie.
URL:https://www.oavm.cz/akce/maturitni-ples-obchodni-akademie/
LOCATION:Kulturní zařízení města Valašského Meziříčí\, Komenského 1\, Valašské Meziříčí\, 757 01
ORGANIZER;CN="Obchodn%C3%AD akademie a VO%C5%A0 Vala%C5%A1sk%C3%A9 Mezi%C5%99%C3%AD%C4%8D%C3%AD":MAILTO:oavalmez@oavm.cz
END:VEVENT
BEGIN:VEVENT
DTSTART;VALUE=DATE:20230125
DTEND;VALUE=DATE:20230127
DTSTAMP:20260421T164000
CREATED:20230112T204809Z
LAST-MODIFIED:20230112T204809Z
UID:11264-1674604800-1674777599@www.oavm.cz
SUMMARY:Účetní soutěž - Má dáti dal - republikové finále\, Znojmo
DESCRIPTION:Adéla Hurtíková a Lukáš Goláň ze 4.A budou reprezentovat naši školu v republikovém finále soutěže „Má dáti dal“ ve Znojmě.
URL:https://www.oavm.cz/akce/ucetni-soutez-ma-dati-dal-republikove-finale-znojmo/
LOCATION:Obchodní akademie Znojmo\, Přemyslovců 4\, Znojmo\, Česká republika
CATEGORIES:vzdělávací
END:VEVENT
BEGIN:VEVENT
DTSTART;VALUE=DATE:20230123
DTEND;VALUE=DATE:20230128
DTSTAMP:20260421T164000
CREATED:20230112T201329Z
LAST-MODIFIED:20230112T201417Z
UID:11261-1674432000-1674863999@www.oavm.cz
SUMMARY:Lyžařský výcvik - 1. ročníky
DESCRIPTION:V uvedených dnech se koná tradiční lyžařský výcvik pro žáky 1. ročníku.
URL:https://www.oavm.cz/akce/lyzarsky-vycvik-1-rocnik-2/
CATEGORIES:sportovní
ORGANIZER;CN="Obchodn%C3%AD akademie a VO%C5%A0 Vala%C5%A1sk%C3%A9 Mezi%C5%99%C3%AD%C4%8D%C3%AD":MAILTO:oavalmez@oavm.cz
END:VEVENT
BEGIN:VEVENT
DTSTART;TZID=Europe/Prague:20230120T080000
DTEND;TZID=Europe/Prague:20230120T160000
DTSTAMP:20260421T164000
CREATED:20230112T200540Z
LAST-MODIFIED:20230112T200542Z
UID:11258-1674201600-1674230400@www.oavm.cz
SUMMARY:Den otevřených dveří
DESCRIPTION:V pátek 20. ledna se koná den otevřených dveří. Přijďte se podívat\, jak probíhá výuka\, jak to u nás vypadá a co všechno vás čeká\, když se rozhodnete pro naši školu. \nŠkolou vás provedou žáci naší školy\, kteří vás seznámí s aktivitami\, která škola pořádá nebo se jich účastní. \nVaše dotazy zodpoví vyučující i vedení školy. \nJste srdečně vítáni!
URL:https://www.oavm.cz/akce/den-otevrenych-dveri-6/
LOCATION:Obchodní akademie a VOŠ\, Masarykova 101/18\, Krásno nad Bečvou\, Valašské Meziříčí\, 757 01
CATEGORIES:DOD
ORGANIZER;CN="Obchodn%C3%AD akademie a VO%C5%A0 Vala%C5%A1sk%C3%A9 Mezi%C5%99%C3%AD%C4%8D%C3%AD":MAILTO:oavalmez@oavm.cz
END:VEVENT
BEGIN:VEVENT
DTSTART;VALUE=DATE:20230115
DTEND;VALUE=DATE:20230129
DTSTAMP:20260421T164000
CREATED:20230112T195708Z
LAST-MODIFIED:20230112T195708Z
UID:11256-1673740800-1674950399@www.oavm.cz
SUMMARY:Zahraniční praxe Dublin - 3. ročníky
DESCRIPTION:Vybraní studenti 3. ročníků se zúčastní zahraniční praxe v irském Dublinu.
URL:https://www.oavm.cz/akce/zahranicni-praxe-dublin-3-rocniky/
LOCATION:Dublin\, Dublin\, Irsko
CATEGORIES:vzdělávací
ORGANIZER;CN="Obchodn%C3%AD akademie a VO%C5%A0 Vala%C5%A1sk%C3%A9 Mezi%C5%99%C3%AD%C4%8D%C3%AD":MAILTO:oavalmez@oavm.cz
END:VEVENT
BEGIN:VEVENT
DTSTART;TZID=Europe/Prague:20221220T100000
DTEND;TZID=Europe/Prague:20221220T120000
DTSTAMP:20260421T164000
CREATED:20221209T083732Z
LAST-MODIFIED:20221209T084208Z
UID:11080-1671530400-1671537600@www.oavm.cz
SUMMARY:Návštěva Hvězdárny Valašské Meziříčí - 1.B
DESCRIPTION:Studenti 1.B se zúčastní přednášky na téma „Gravitace“. Odchod od školy v 9:30.
URL:https://www.oavm.cz/akce/navsteva-hvezdarny-valasske-mezirici-1-b/
LOCATION:Hvězdárna Valašské Meziříčí\, Vsetínská 78\, Valašské Meziříčí\, 75701\, Česká republika
CATEGORIES:exkurze,vzdělávací
END:VEVENT
BEGIN:VEVENT
DTSTART;TZID=Europe/Prague:20221220T083000
DTEND;TZID=Europe/Prague:20221220T100000
DTSTAMP:20260421T164000
CREATED:20221209T083524Z
LAST-MODIFIED:20221209T084223Z
UID:11078-1671525000-1671530400@www.oavm.cz
SUMMARY:Návštěva Hvězdárny Valašské Meziříčí - 1.A\, 1.C
DESCRIPTION:Studenti 1.A\, 1.C se zúčastní přednášky na téma „Gravitace“. Odchod od školy v 8:00.
URL:https://www.oavm.cz/akce/navsteva-hvezdarny-valasske-mezirici-3/
LOCATION:Hvězdárna Valašské Meziříčí\, Vsetínská 78\, Valašské Meziříčí\, 75701\, Česká republika
CATEGORIES:exkurze,vzdělávací
END:VEVENT
BEGIN:VEVENT
DTSTART;TZID=Europe/Prague:20221219T113000
DTEND;TZID=Europe/Prague:20221219T153000
DTSTAMP:20260421T164000
CREATED:20221209T084151Z
LAST-MODIFIED:20221209T084151Z
UID:11085-1671449400-1671463800@www.oavm.cz
SUMMARY:Exkurze - soudní jednání\, soud Valašské Meziříčí
DESCRIPTION:Studenti 3. C se zúčastní soudního jednání u Okresního soudu Vsetín\, pobočka Valašské Meziříčí.
URL:https://www.oavm.cz/akce/exkurze-soudni-jednani-soud-valasske-mezirici-4/
LOCATION:Okresní soud ve Vsetíně – pobočka Valašské Meziříčí\, Legií 1374\, Valašské Meziříčí\, 757 01
CATEGORIES:exkurze,vzdělávací
ORGANIZER;CN="Mgr. Lenka Volkov%C3%A1 Pal%C3%A1tov%C3%A1":MAILTO:lenka.volkova@oavm.cz
END:VEVENT
BEGIN:VEVENT
DTSTART;TZID=Europe/Prague:20221219T100000
DTEND;TZID=Europe/Prague:20221219T120000
DTSTAMP:20260421T164000
CREATED:20221209T082444Z
LAST-MODIFIED:20221209T084254Z
UID:11073-1671444000-1671451200@www.oavm.cz
SUMMARY:Návštěva Hvězdárny Valašské Meziříčí - 1.D
DESCRIPTION:Studenti 1.D se zúčastní přednášky na téma „Gravitace“. Odchod od školy v 9:30.
URL:https://www.oavm.cz/akce/navsteva-hvezdarny-valasske-mezirici-2/
LOCATION:Hvězdárna Valašské Meziříčí\, Vsetínská 78\, Valašské Meziříčí\, 75701\, Česká republika
CATEGORIES:exkurze,vzdělávací
END:VEVENT
BEGIN:VEVENT
DTSTART;TZID=Europe/Prague:20221219T083000
DTEND;TZID=Europe/Prague:20221219T103000
DTSTAMP:20260421T164000
CREATED:20221209T082020Z
LAST-MODIFIED:20221209T084556Z
UID:11070-1671438600-1671445800@www.oavm.cz
SUMMARY:Návštěva Hvězdárny Valašské Meziříčí - 2.D
DESCRIPTION:Studenti 2.D se zúčastní přednášky na téma „Optika“. Odchod od školy v 8:00.
URL:https://www.oavm.cz/akce/navsteva-hvezdarny-valasske-mezirici/
LOCATION:Hvězdárna Valašské Meziříčí\, Vsetínská 78\, Valašské Meziříčí\, 75701\, Česká republika
CATEGORIES:exkurze,vzdělávací
END:VEVENT
BEGIN:VEVENT
DTSTART;TZID=Europe/Prague:20221214T094000
DTEND;TZID=Europe/Prague:20221214T111500
DTSTAMP:20260421T164000
CREATED:20221209T080607Z
LAST-MODIFIED:20221209T080607Z
UID:11066-1671010800-1671016500@www.oavm.cz
SUMMARY:On-line semifinálové kolo celorepublikové soutěže Má dáti Dal
DESCRIPTION:Vybraní studenti 4. ročníku se zúčastní semifinálového kola 16. ročníku soutěže „Má dáti dal“. Soutěž proběhne online formou.
URL:https://www.oavm.cz/akce/on-line-semifinalove-kolo-celorepublikove-souteze-ma-dati-dal/
LOCATION:Infocentrum Obchodni Akademie\, Masarykova 101/18\, Valašské Meziříčí
CATEGORIES:vzdělávací
ORGANIZER;CN="Ing. Alena Stib%C5%AFrkov%C3%A1":MAILTO:alena.stiburkova@oavm.cz
END:VEVENT
BEGIN:VEVENT
DTSTART;TZID=Europe/Prague:20221201T112500
DTEND;TZID=Europe/Prague:20221201T153000
DTSTAMP:20260421T164000
CREATED:20221114T200905Z
LAST-MODIFIED:20221116T151115Z
UID:10943-1669893900-1669908600@www.oavm.cz
SUMMARY:Exkurze - soudní jednání\, soud Valašské Meziříčí
DESCRIPTION:Studenti 3. C se zúčastní soudního jednání u Okresního soudu Vsetín\, pobočka Valašské Meziříčí.
URL:https://www.oavm.cz/akce/exkurze-soudni-jednani-soud-valasske-mezirici-3/
LOCATION:Okresní soud ve Vsetíně – pobočka Valašské Meziříčí\, Legií 1374\, Valašské Meziříčí\, 757 01
CATEGORIES:exkurze,vzdělávací
ORGANIZER;CN="Mgr. Lenka Volkov%C3%A1 Pal%C3%A1tov%C3%A1":MAILTO:lenka.volkova@oavm.cz
END:VEVENT
BEGIN:VEVENT
DTSTART;TZID=Europe/Prague:20221201T084000
DTEND;TZID=Europe/Prague:20221201T121500
DTSTAMP:20260421T164000
CREATED:20221031T215241Z
LAST-MODIFIED:20221118T105931Z
UID:10833-1669884000-1669896900@www.oavm.cz
SUMMARY:Staň se "NA DEN STŘEDOŠKOLÁKEM" - obor Veřejnosprávní činnost
DESCRIPTION:VELMI NÁS TO MRZÍ\, ALE PŘIHLAŠOVÁNÍ PRO OBOR OBCHODNÍ AKADEMIE JE UKONČENO Z DŮVODU NAPLNĚNÍ KAPACITY! \nAkce „NA DEN STŘEDOŠKOLÁKEM“ je určena žákům 9. tříd základních škol\, kteří mají zájem o studium na naší škole a je zdarma. Tento termín je určen zájemcům o obor Veřejnosprávní činnost. Vyzkoušíte si předměty: \n\nprávo\,\nveřejná správa\,\nšpanělština\,\nfrancouzština\,\nruština\,\nněmčina\,\npísemná a elektronická komunikace.\n\nŽák obdrží potvrzení\, že se výuky zúčastnil. Výuka začíná v 8:40 a končí 12:15. \nMáte jedinečnou příležitost vyzkoušet si zasednout do školních lavic střední školy. \nPo vyplnění přihlášky budou vaše údaje zpracovány pro účely pouze této akce. Případné dotazy Vám zodpoví Mgr. Robert Sigmund\, výchovný poradce\, na telefonním čísle 777 636 274  nebo na e-mailové adrese: robert.sigmund@oavm.cz.
URL:https://www.oavm.cz/akce/stan-se-na-den-stredoskolakem-obor-verejnospravni-cinnost-3/
LOCATION:Obchodní akademie a VOŠ\, Masarykova 101/18\, Krásno nad Bečvou\, Valašské Meziříčí\, 757 01
ORGANIZER;CN="Obchodn%C3%AD akademie a VO%C5%A0 Vala%C5%A1sk%C3%A9 Mezi%C5%99%C3%AD%C4%8D%C3%AD":MAILTO:oavalmez@oavm.cz
END:VEVENT
BEGIN:VEVENT
DTSTART;TZID=Europe/Prague:20221130T084000
DTEND;TZID=Europe/Prague:20221130T121500
DTSTAMP:20260421T164000
CREATED:20221031T215136Z
LAST-MODIFIED:20221115T140725Z
UID:10831-1669797600-1669810500@www.oavm.cz
SUMMARY:Staň se "NA DEN STŘEDOŠKOLÁKEM" - obor Informační technologie
DESCRIPTION:VELMI NÁS TO MRZÍ\, ALE PŘIHLAŠOVÁNÍ PRO OBOR OBCHODNÍ AKADEMIE JE UKONČENO Z DŮVODU NAPLNĚNÍ KAPACITY! \nAkce „NA DEN STŘEDOŠKOLÁKEM“ je určena žákům 9. tříd základních škol\, kteří mají zájem o studium na naší škole a je zdarma. Tento termín je určen zájemcům o obor Informační technologie. Vyzkoušíte si předměty: \n\ngrafika\,\nprogramování\,\nwebové stránky\,\npočítačové sítě.\n\nŽák obdrží potvrzení\, že se výuky zúčastnil. Výuka začíná v 8:40 a končí 12:15. \nMáte jedinečnou příležitost vyzkoušet si zasednout do školních lavic střední školy. \nPo vyplnění přihlášky budou vaše údaje zpracovány pro účely pouze této akce. Případné dotazy Vám zodpoví Mgr. Robert Sigmund\, výchovný poradce\, na telefonním čísle 777 636 274  nebo na e-mailové adrese: robert.sigmund@oavm.cz.
URL:https://www.oavm.cz/akce/stan-se-na-den-stredoskolakem-obor-informacni-technologie-3/
LOCATION:Obchodní akademie a VOŠ\, Masarykova 101/18\, Krásno nad Bečvou\, Valašské Meziříčí\, 757 01
CATEGORIES:vzdělávací
ORGANIZER;CN="Obchodn%C3%AD akademie a VO%C5%A0 Vala%C5%A1sk%C3%A9 Mezi%C5%99%C3%AD%C4%8D%C3%AD":MAILTO:oavalmez@oavm.cz
END:VEVENT
BEGIN:VEVENT
DTSTART;TZID=Europe/Prague:20221129T084000
DTEND;TZID=Europe/Prague:20221129T121500
DTSTAMP:20260421T164000
CREATED:20221031T214932Z
LAST-MODIFIED:20221114T200108Z
UID:10829-1669711200-1669724100@www.oavm.cz
SUMMARY:Staň se "NA DEN STŘEDOŠKOLÁKEM" - obor Obchodní akademie
DESCRIPTION:VELMI NÁS TO MRZÍ\, ALE PŘIHLAŠOVÁNÍ PRO OBOR OBCHODNÍ AKADEMIE JE UKONČENO Z DŮVODU NAPLNĚNÍ KAPACITY! \nAkce „NA DEN STŘEDOŠKOLÁKEM“ je určena žákům 9. tříd základních škol\, kteří mají zájem o studium na naší škole a je zdarma. Tento termín je určen zájemcům o obor Obchodní akademie. Vyzkoušíte si předměty: \n\nekonomika\,\núčetnictví\,\nšpanělština\,\nfrancouzština\,\nněmčina\,\nruština\,\nfiktivní firma\,\nreálná firma.\n\nŽák obdrží potvrzení\, že se výuky zúčastnil. Výuka začíná v 8:40 a končí 12:15. \nMáte jedinečnou příležitost vyzkoušet si zasednout do školních lavic střední školy. \nPo vyplnění přihlášky budou vaše údaje zpracovány pro účely pouze této akce. Případné dotazy Vám zodpoví Mgr. Robert Sigmund\, výchovný poradce\, na telefonním čísle 777 636 274  nebo na e-mailové adrese: robert.sigmund@oavm.cz.
URL:https://www.oavm.cz/akce/stan-se-na-den-stredoskolakem-obor-obchodni-akademie-5/
LOCATION:Obchodní akademie a VOŠ\, Masarykova 101/18\, Krásno nad Bečvou\, Valašské Meziříčí\, 757 01
CATEGORIES:vzdělávací
ORGANIZER;CN="Obchodn%C3%AD akademie a VO%C5%A0 Vala%C5%A1sk%C3%A9 Mezi%C5%99%C3%AD%C4%8D%C3%AD":MAILTO:oavalmez@oavm.cz
END:VEVENT
END:VCALENDAR