BEGIN:VCALENDAR
VERSION:2.0
PRODID:-//Obchodní akademie a VOŠ Valašské Meziříčí - ECPv6.15.20//NONSGML v1.0//EN
CALSCALE:GREGORIAN
METHOD:PUBLISH
X-ORIGINAL-URL:https://www.oavm.cz
X-WR-CALDESC:Akce na Obchodní akademie a VOŠ Valašské Meziříčí
REFRESH-INTERVAL;VALUE=DURATION:PT1H
X-Robots-Tag:noindex
X-PUBLISHED-TTL:PT1H
BEGIN:VTIMEZONE
TZID:Europe/Prague
BEGIN:DAYLIGHT
TZOFFSETFROM:+0100
TZOFFSETTO:+0200
TZNAME:CEST
DTSTART:20220327T010000
END:DAYLIGHT
BEGIN:STANDARD
TZOFFSETFROM:+0200
TZOFFSETTO:+0100
TZNAME:CET
DTSTART:20221030T010000
END:STANDARD
BEGIN:DAYLIGHT
TZOFFSETFROM:+0100
TZOFFSETTO:+0200
TZNAME:CEST
DTSTART:20230326T010000
END:DAYLIGHT
BEGIN:STANDARD
TZOFFSETFROM:+0200
TZOFFSETTO:+0100
TZNAME:CET
DTSTART:20231029T010000
END:STANDARD
BEGIN:DAYLIGHT
TZOFFSETFROM:+0100
TZOFFSETTO:+0200
TZNAME:CEST
DTSTART:20240331T010000
END:DAYLIGHT
BEGIN:STANDARD
TZOFFSETFROM:+0200
TZOFFSETTO:+0100
TZNAME:CET
DTSTART:20241027T010000
END:STANDARD
END:VTIMEZONE
BEGIN:VEVENT
DTSTART;TZID=Europe/Prague:20230510T074500
DTEND;TZID=Europe/Prague:20230510T121000
DTSTAMP:20260421T121858
CREATED:20230510T043658Z
LAST-MODIFIED:20230510T043911Z
UID:12408-1683704700-1683720600@www.oavm.cz
SUMMARY:Náhradní termín přijímací zkoušky
DESCRIPTION:Rozpis učeben bude vyvěšen ve vestibulu.
URL:https://www.oavm.cz/akce/nahradni-termin-prijimaci-zkousky/
LOCATION:Obchodní akademie a VOŠ\, Masarykova 101/18\, Krásno nad Bečvou\, Valašské Meziříčí\, 757 01
CATEGORIES:přijímací zkoušky
ORGANIZER;CN="Obchodn%C3%AD akademie a VO%C5%A0 Vala%C5%A1sk%C3%A9 Mezi%C5%99%C3%AD%C4%8D%C3%AD":MAILTO:oavalmez@oavm.cz
END:VEVENT
BEGIN:VEVENT
DTSTART;TZID=Europe/Prague:20230503T080000
DTEND;TZID=Europe/Prague:20230503T110000
DTSTAMP:20260421T121858
CREATED:20230419T075056Z
LAST-MODIFIED:20230419T075056Z
UID:12037-1683100800-1683111600@www.oavm.cz
SUMMARY:Didaktické testy CJL
DESCRIPTION:
URL:https://www.oavm.cz/akce/didakticke-testy-cjl/
LOCATION:Obchodní akademie a VOŠ\, Masarykova 101/18\, Krásno nad Bečvou\, Valašské Meziříčí\, 757 01
CATEGORIES:maturita
ORGANIZER;CN="Obchodn%C3%AD akademie a VO%C5%A0 Vala%C5%A1sk%C3%A9 Mezi%C5%99%C3%AD%C4%8D%C3%AD":MAILTO:oavalmez@oavm.cz
END:VEVENT
BEGIN:VEVENT
DTSTART;TZID=Europe/Prague:20230502T080000
DTEND;TZID=Europe/Prague:20230502T150000
DTSTAMP:20260421T121858
CREATED:20230419T074934Z
LAST-MODIFIED:20230419T074934Z
UID:12035-1683014400-1683039600@www.oavm.cz
SUMMARY:Didaktické testy MAT\, ANJ
DESCRIPTION:
URL:https://www.oavm.cz/akce/didakticke-testy-mat-anj/
LOCATION:Obchodní akademie a VOŠ\, Masarykova 101/18\, Krásno nad Bečvou\, Valašské Meziříčí\, 757 01
CATEGORIES:maturita
ORGANIZER;CN="Obchodn%C3%AD akademie a VO%C5%A0 Vala%C5%A1sk%C3%A9 Mezi%C5%99%C3%AD%C4%8D%C3%AD":MAILTO:oavalmez@oavm.cz
END:VEVENT
BEGIN:VEVENT
DTSTART;TZID=Europe/Prague:20230427T073000
DTEND;TZID=Europe/Prague:20230427T120000
DTSTAMP:20260421T121858
CREATED:20230419T073145Z
LAST-MODIFIED:20230419T073145Z
UID:12030-1682580600-1682596800@www.oavm.cz
SUMMARY:Praktická maturitní zkouška
DESCRIPTION:
URL:https://www.oavm.cz/akce/prakticka-maturitni-zkouska-5/
LOCATION:Obchodní akademie a VOŠ\, Masarykova 101/18\, Krásno nad Bečvou\, Valašské Meziříčí\, 757 01
CATEGORIES:maturita
ORGANIZER;CN="Obchodn%C3%AD akademie a VO%C5%A0 Vala%C5%A1sk%C3%A9 Mezi%C5%99%C3%AD%C4%8D%C3%AD":MAILTO:oavalmez@oavm.cz
END:VEVENT
BEGIN:VEVENT
DTSTART;TZID=Europe/Prague:20230414T083000
DTEND;TZID=Europe/Prague:20230414T121000
DTSTAMP:20260421T121858
CREATED:20230412T190038Z
LAST-MODIFIED:20230412T190038Z
UID:11729-1681461000-1681474200@www.oavm.cz
SUMMARY:Přijímací zkoušky
DESCRIPTION:Rozpis učeben bude vyvěšen ve vestibulu.
URL:https://www.oavm.cz/akce/prijimaci-zkousky-4/
LOCATION:Obchodní akademie a VOŠ\, Masarykova 101/18\, Krásno nad Bečvou\, Valašské Meziříčí\, 757 01
CATEGORIES:přijímací zkoušky
ORGANIZER;CN="Obchodn%C3%AD akademie a VO%C5%A0 Vala%C5%A1sk%C3%A9 Mezi%C5%99%C3%AD%C4%8D%C3%AD":MAILTO:oavalmez@oavm.cz
END:VEVENT
BEGIN:VEVENT
DTSTART;TZID=Europe/Prague:20230414T074500
DTEND;TZID=Europe/Prague:20230414T102500
DTSTAMP:20260421T121858
CREATED:20230412T185722Z
LAST-MODIFIED:20230412T190017Z
UID:11725-1681458300-1681467900@www.oavm.cz
SUMMARY:Písemné maturitní zkoušky
DESCRIPTION:Budova VOŠ – 2. a 4. patro – 406 Rozpis do učeben bude zaslán do Bakaláře a bude umístěn ve vestibulu školy a na dveřích učeben.
URL:https://www.oavm.cz/akce/pisemne-maturitni-zkousky-2/
LOCATION:Vyšší odborná škola\, Na Šištotě 159\, Valašské Meziříčí\, 757 01
CATEGORIES:maturita
ORGANIZER;CN="Obchodn%C3%AD akademie a VO%C5%A0 Vala%C5%A1sk%C3%A9 Mezi%C5%99%C3%AD%C4%8D%C3%AD":MAILTO:oavalmez@oavm.cz
END:VEVENT
BEGIN:VEVENT
DTSTART;TZID=Europe/Prague:20230413T083000
DTEND;TZID=Europe/Prague:20230413T121000
DTSTAMP:20260421T121858
CREATED:20230412T185942Z
LAST-MODIFIED:20230412T185942Z
UID:11727-1681374600-1681387800@www.oavm.cz
SUMMARY:Přijímací zkoušky
DESCRIPTION:Rozpis učeben bude vyvěšen ve vestibulu.
URL:https://www.oavm.cz/akce/prijimaci-zkousky-3/
LOCATION:Obchodní akademie a VOŠ\, Masarykova 101/18\, Krásno nad Bečvou\, Valašské Meziříčí\, 757 01
CATEGORIES:přijímací zkoušky
ORGANIZER;CN="Obchodn%C3%AD akademie a VO%C5%A0 Vala%C5%A1sk%C3%A9 Mezi%C5%99%C3%AD%C4%8D%C3%AD":MAILTO:oavalmez@oavm.cz
END:VEVENT
BEGIN:VEVENT
DTSTART;TZID=Europe/Prague:20230413T074500
DTEND;TZID=Europe/Prague:20230413T102500
DTSTAMP:20260421T121858
CREATED:20230412T185639Z
LAST-MODIFIED:20230412T190005Z
UID:11723-1681371900-1681381500@www.oavm.cz
SUMMARY:Písemné maturitní zkoušky
DESCRIPTION:Budova VOŠ – 2. a 4. patro – 406 Rozpis do učeben bude zaslán do Bakaláře a bude umístěn ve vestibulu školy a na dveřích učeben.
URL:https://www.oavm.cz/akce/pisemne-maturitni-zkousky/
LOCATION:Vyšší odborná škola\, Na Šištotě 159\, Valašské Meziříčí\, 757 01
CATEGORIES:maturita
ORGANIZER;CN="Obchodn%C3%AD akademie a VO%C5%A0 Vala%C5%A1sk%C3%A9 Mezi%C5%99%C3%AD%C4%8D%C3%AD":MAILTO:oavalmez@oavm.cz
END:VEVENT
BEGIN:VEVENT
DTSTART;TZID=Europe/Prague:20230405T150000
DTEND;TZID=Europe/Prague:20230405T170000
DTSTAMP:20260421T121858
CREATED:20230403T043212Z
LAST-MODIFIED:20230403T043212Z
UID:11611-1680706800-1680714000@www.oavm.cz
SUMMARY:Testování EDCL
DESCRIPTION:Více informací na webu školy.
URL:https://www.oavm.cz/akce/testovani-edcl/
LOCATION:počítačová učebna 344\, Masarykova 101/18\, Krásno nad Bečvou\, Valašské Meziříčí\, 757 01
CATEGORIES:vzdělávací
ORGANIZER;CN="Obchodn%C3%AD akademie a VO%C5%A0 Vala%C5%A1sk%C3%A9 Mezi%C5%99%C3%AD%C4%8D%C3%AD":MAILTO:oavalmez@oavm.cz
END:VEVENT
BEGIN:VEVENT
DTSTART;TZID=Europe/Prague:20230405T093000
DTEND;TZID=Europe/Prague:20230405T143000
DTSTAMP:20260421T121858
CREATED:20230403T042804Z
LAST-MODIFIED:20230403T042804Z
UID:11609-1680687000-1680705000@www.oavm.cz
SUMMARY:Wenza Cap - futsal dívky
DESCRIPTION:24. ročník velikonočního futsalu Wenza cap.
URL:https://www.oavm.cz/akce/wenza-cap-futsal-divky/
LOCATION:tělocvična Obchodní akademie\, Masarykova 101/18\, Valašské Meziříčí\, 757 01
CATEGORIES:sportovní
ORGANIZER;CN="Mgr. Dalibor Va%C5%A1ek":MAILTO:dalibor.vasek@oavm.cz
END:VEVENT
BEGIN:VEVENT
DTSTART;TZID=Europe/Prague:20230404T093000
DTEND;TZID=Europe/Prague:20230404T143000
DTSTAMP:20260421T121858
CREATED:20230403T042541Z
LAST-MODIFIED:20230403T042541Z
UID:11607-1680600600-1680618600@www.oavm.cz
SUMMARY:Wenza Cap - futsal chlapci
DESCRIPTION:24. ročník velikonočního futsalu Wenza cap. \n 
URL:https://www.oavm.cz/akce/wenza-cap-futsal-chlapci/
LOCATION:tělocvična Obchodní akademie\, Masarykova 101/18\, Valašské Meziříčí\, 757 01
CATEGORIES:sportovní
ORGANIZER;CN="Mgr. Dalibor Va%C5%A1ek":MAILTO:dalibor.vasek@oavm.cz
END:VEVENT
BEGIN:VEVENT
DTSTART;VALUE=DATE:20230329
DTEND;VALUE=DATE:20230331
DTSTAMP:20260421T121858
CREATED:20230306T062520Z
LAST-MODIFIED:20230306T062520Z
UID:11514-1680048000-1680220799@www.oavm.cz
SUMMARY:Mistrovství republiky ve zpracování textů - celostátní finále
DESCRIPTION:Mistrovství republiky žáků ve zpracování textů – celostátní finále v Havlíčkově Brodě \nNaši školu budou reprezentovat Gabriela Žambochová a Martin Krutílek – oba v opise a auditranscription\, dále pak Jan Houdek pouze v audiotrancription a Adéla Vráblová v korektuře textu.
URL:https://www.oavm.cz/akce/mistrovstvi-republiky-ve-zpracovani-textu-celostatni-finale/
LOCATION:Obchodní akademie Havlíčkův Brod\, Bratříků 851\, Havlíčkův Brod\, 580 02\, Česká republika
ORGANIZER;CN="Mgr. Robert Sigmund%2C DiS.":MAILTO:robert.sigmund@oavm.cz
END:VEVENT
BEGIN:VEVENT
DTSTART;TZID=Europe/Prague:20230328T153000
DTEND;TZID=Europe/Prague:20230328T170000
DTSTAMP:20260421T121858
CREATED:20230306T053603Z
LAST-MODIFIED:20230306T053603Z
UID:11486-1680017400-1680022800@www.oavm.cz
SUMMARY:Přípravný kurz CJL na přijímací zkoušky
DESCRIPTION:Přípravné kurzy pro žáky základních škol. \nPodrobnosti najdete na této stránce.
URL:https://www.oavm.cz/akce/pripravny-kurz-cjl-na-prijimaci-zkousky-9/
LOCATION:Obchodní akademie a VOŠ\, Masarykova 101/18\, Krásno nad Bečvou\, Valašské Meziříčí\, 757 01
CATEGORIES:přijímací zkoušky,vzdělávací
ORGANIZER;CN="Obchodn%C3%AD akademie a VO%C5%A0 Vala%C5%A1sk%C3%A9 Mezi%C5%99%C3%AD%C4%8D%C3%AD":MAILTO:oavalmez@oavm.cz
END:VEVENT
BEGIN:VEVENT
DTSTART;TZID=Europe/Prague:20230327T153000
DTEND;TZID=Europe/Prague:20230327T170000
DTSTAMP:20260421T121858
CREATED:20230306T053804Z
LAST-MODIFIED:20230306T053804Z
UID:11493-1679931000-1679936400@www.oavm.cz
SUMMARY:Přípravný kurz MAT na přijímací zkoušky
DESCRIPTION:Přípravné kurzy pro žáky základních škol. \nPodrobnosti najdete na této stránce.
URL:https://www.oavm.cz/akce/pripravny-kurz-mat-na-prijimaci-zkousky-10/
LOCATION:Obchodní akademie a VOŠ\, Masarykova 101/18\, Krásno nad Bečvou\, Valašské Meziříčí\, 757 01
CATEGORIES:přijímací zkoušky,vzdělávací
ORGANIZER;CN="Obchodn%C3%AD akademie a VO%C5%A0 Vala%C5%A1sk%C3%A9 Mezi%C5%99%C3%AD%C4%8D%C3%AD":MAILTO:oavalmez@oavm.cz
END:VEVENT
BEGIN:VEVENT
DTSTART;TZID=Europe/Prague:20230324T080000
DTEND;TZID=Europe/Prague:20230324T153000
DTSTAMP:20260421T121858
CREATED:20230306T061300Z
LAST-MODIFIED:20230306T061300Z
UID:11512-1679644800-1679671800@www.oavm.cz
SUMMARY:Celostátní matematická soutěž
DESCRIPTION:Zúčastní se jen vybraní žáci.
URL:https://www.oavm.cz/akce/celostatni-matematicka-soutez-2/
LOCATION:Obchodní akademie a VOŠ\, Masarykova 101/18\, Krásno nad Bečvou\, Valašské Meziříčí\, 757 01
ORGANIZER;CN="Mgr. V%C3%ADt Han%C3%A1k":MAILTO:vit.hanak@oavm.cz
END:VEVENT
BEGIN:VEVENT
DTSTART;VALUE=DATE:20230323
DTEND;VALUE=DATE:20230324
DTSTAMP:20260421T121858
CREATED:20230306T055947Z
LAST-MODIFIED:20230306T055947Z
UID:11507-1679529600-1679615999@www.oavm.cz
SUMMARY:Basketbal - školní kolo dívky
DESCRIPTION:Účastní se jen přihlášení žáci a řídí se pokyny organizátora\, které budou zveřejněny.
URL:https://www.oavm.cz/akce/basketbal-skolni-kolo-divky-2/
LOCATION:tělocvična Obchodní akademie\, Masarykova 101/18\, Valašské Meziříčí\, 757 01
CATEGORIES:sportovní
ORGANIZER;CN="Mgr. Tom%C3%A1%C5%A1 Perutka":MAILTO:tomas.perutka@oavm.cz
END:VEVENT
BEGIN:VEVENT
DTSTART;VALUE=DATE:20230323
DTEND;VALUE=DATE:20230324
DTSTAMP:20260421T121858
CREATED:20230306T060856Z
LAST-MODIFIED:20230306T060856Z
UID:11509-1679529600-1679615999@www.oavm.cz
SUMMARY:Veletrh Fiktivních firem - Ostrava
DESCRIPTION:Zúčastní se vybraní žáci předmětu Fiktivní firma.
URL:https://www.oavm.cz/akce/veletrh-fiktivnich-firem-ostrava-3/
LOCATION:výstaviště Černá louka Ostrava\, Ostrava
ORGANIZER;CN="Ing. Alena Machalov%C3%A1":MAILTO:alena.machalova@oavm.cz
END:VEVENT
BEGIN:VEVENT
DTSTART;VALUE=DATE:20230322
DTEND;VALUE=DATE:20230323
DTSTAMP:20260421T121858
CREATED:20230306T055729Z
LAST-MODIFIED:20230306T055901Z
UID:11505-1679443200-1679529599@www.oavm.cz
SUMMARY:Basketbal - školní kolo chlapci
DESCRIPTION:Účastní se jen přihlášení žáci a řídí se pokyny organizátora\, které budou zveřejněny.
URL:https://www.oavm.cz/akce/basketbal-skolni-kolo-chlapci/
LOCATION:tělocvična Obchodní akademie\, Masarykova 101/18\, Valašské Meziříčí\, 757 01
CATEGORIES:sportovní
ORGANIZER;CN="Mgr. Tom%C3%A1%C5%A1 Perutka":MAILTO:tomas.perutka@oavm.cz
END:VEVENT
BEGIN:VEVENT
DTSTART;TZID=Europe/Prague:20230321T153000
DTEND;TZID=Europe/Prague:20230321T170000
DTSTAMP:20260421T121858
CREATED:20230306T053522Z
LAST-MODIFIED:20230306T053522Z
UID:11483-1679412600-1679418000@www.oavm.cz
SUMMARY:Přípravný kurz CJL na přijímací zkoušky
DESCRIPTION:Přípravné kurzy pro žáky základních škol. \nPodrobnosti najdete na této stránce.
URL:https://www.oavm.cz/akce/pripravny-kurz-cjl-na-prijimaci-zkousky-8/
LOCATION:Obchodní akademie a VOŠ\, Masarykova 101/18\, Krásno nad Bečvou\, Valašské Meziříčí\, 757 01
CATEGORIES:přijímací zkoušky,vzdělávací
ORGANIZER;CN="Obchodn%C3%AD akademie a VO%C5%A0 Vala%C5%A1sk%C3%A9 Mezi%C5%99%C3%AD%C4%8D%C3%AD":MAILTO:oavalmez@oavm.cz
END:VEVENT
BEGIN:VEVENT
DTSTART;TZID=Europe/Prague:20230320T153000
DTEND;TZID=Europe/Prague:20230320T170000
DTSTAMP:20260421T121858
CREATED:20230306T053744Z
LAST-MODIFIED:20230306T053744Z
UID:11491-1679326200-1679331600@www.oavm.cz
SUMMARY:Přípravný kurz MAT na přijímací zkoušky
DESCRIPTION:Přípravné kurzy pro žáky základních škol. \nPodrobnosti najdete na této stránce.
URL:https://www.oavm.cz/akce/pripravny-kurz-mat-na-prijimaci-zkousky-9/
LOCATION:Obchodní akademie a VOŠ\, Masarykova 101/18\, Krásno nad Bečvou\, Valašské Meziříčí\, 757 01
CATEGORIES:přijímací zkoušky,vzdělávací
ORGANIZER;CN="Obchodn%C3%AD akademie a VO%C5%A0 Vala%C5%A1sk%C3%A9 Mezi%C5%99%C3%AD%C4%8D%C3%AD":MAILTO:oavalmez@oavm.cz
END:VEVENT
BEGIN:VEVENT
DTSTART;TZID=Europe/Prague:20230317T080000
DTEND;TZID=Europe/Prague:20230317T170000
DTSTAMP:20260421T121858
CREATED:20230306T055447Z
LAST-MODIFIED:20230306T055512Z
UID:11503-1679040000-1679072400@www.oavm.cz
SUMMARY:Matematická soutěž KLOKAN
DESCRIPTION:Zúčastní se jen přihlášení žáci. Přihlásit se můžete u svých vyučujících MAT.
URL:https://www.oavm.cz/akce/matematicka-soutez-klokan-2/
LOCATION:Obchodní akademie a VOŠ\, Masarykova 101/18\, Krásno nad Bečvou\, Valašské Meziříčí\, 757 01
ORGANIZER;CN="RNDr. Eva %C4%8Ctver%C3%A1%C4%8Dkov%C3%A1":MAILTO:eva.ctverackova@oavm.cz
END:VEVENT
BEGIN:VEVENT
DTSTART;VALUE=DATE:20230316
DTEND;VALUE=DATE:20230317
DTSTAMP:20260421T121858
CREATED:20230306T055117Z
LAST-MODIFIED:20230306T055117Z
UID:11501-1678924800-1679011199@www.oavm.cz
SUMMARY:Futsal - okrskové kolo
DESCRIPTION:
URL:https://www.oavm.cz/akce/futsal-okrskove-kolo/
LOCATION:tělocvična Obchodní akademie\, Masarykova 101/18\, Valašské Meziříčí\, 757 01
CATEGORIES:sportovní
ORGANIZER;CN="Mgr. Dalibor Va%C5%A1ek":MAILTO:dalibor.vasek@oavm.cz
END:VEVENT
BEGIN:VEVENT
DTSTART;TZID=Europe/Prague:20230315T084000
DTEND;TZID=Europe/Prague:20230315T102500
DTSTAMP:20260421T121858
CREATED:20230306T054418Z
LAST-MODIFIED:20230306T054418Z
UID:11498-1678869600-1678875900@www.oavm.cz
SUMMARY:Matematická soutěž - školní kolo 1. ročníky
DESCRIPTION:Zúčastní se jen vybraní žáci 1. ročníku.
URL:https://www.oavm.cz/akce/matematicka-soutez-skolni-kolo-1-rocniky/
LOCATION:učebna 254\, Masarykova 101/18\, Valašské Meziříčí\, 757 01
CATEGORIES:vzdělávací
ORGANIZER;CN="Mgr. Marek Zahradn%C3%AD%C4%8Dek":MAILTO:marek.zahradnicek@oavm.cz
END:VEVENT
BEGIN:VEVENT
DTSTART;TZID=Europe/Prague:20230314T153000
DTEND;TZID=Europe/Prague:20230314T170000
DTSTAMP:20260421T121858
CREATED:20230306T053315Z
LAST-MODIFIED:20230306T053502Z
UID:11481-1678807800-1678813200@www.oavm.cz
SUMMARY:Přípravný kurz CJL na přijímací zkoušky
DESCRIPTION:Přípravné kurzy pro žáky základních škol. \nPodrobnosti najdete na této stránce.
URL:https://www.oavm.cz/akce/pripravny-kurz-cjl-na-prijimaci-zkousky-7/
LOCATION:Obchodní akademie a VOŠ\, Masarykova 101/18\, Krásno nad Bečvou\, Valašské Meziříčí\, 757 01
CATEGORIES:přijímací zkoušky,vzdělávací
ORGANIZER;CN="Obchodn%C3%AD akademie a VO%C5%A0 Vala%C5%A1sk%C3%A9 Mezi%C5%99%C3%AD%C4%8D%C3%AD":MAILTO:oavalmez@oavm.cz
END:VEVENT
BEGIN:VEVENT
DTSTART;VALUE=DATE:20230314
DTEND;VALUE=DATE:20230315
DTSTAMP:20260421T121858
CREATED:20230306T054209Z
LAST-MODIFIED:20230306T055038Z
UID:11495-1678752000-1678838399@www.oavm.cz
SUMMARY:Futsal - okrskové kolo
DESCRIPTION:
URL:https://www.oavm.cz/akce/salova-kopana-okrskove-kolo/
LOCATION:tělocvična Obchodní akademie\, Masarykova 101/18\, Valašské Meziříčí\, 757 01
CATEGORIES:sportovní
ORGANIZER;CN="Mgr. Dalibor Va%C5%A1ek":MAILTO:dalibor.vasek@oavm.cz
END:VEVENT
BEGIN:VEVENT
DTSTART;TZID=Europe/Prague:20230313T153000
DTEND;TZID=Europe/Prague:20230313T170000
DTSTAMP:20260421T121858
CREATED:20230306T053640Z
LAST-MODIFIED:20230306T053640Z
UID:11489-1678721400-1678726800@www.oavm.cz
SUMMARY:Přípravný kurz MAT na přijímací zkoušky
DESCRIPTION:Přípravné kurzy pro žáky základních škol. \nPodrobnosti najdete na této stránce.
URL:https://www.oavm.cz/akce/pripravny-kurz-mat-na-prijimaci-zkousky-8/
LOCATION:Obchodní akademie a VOŠ\, Masarykova 101/18\, Krásno nad Bečvou\, Valašské Meziříčí\, 757 01
CATEGORIES:přijímací zkoušky,vzdělávací
ORGANIZER;CN="Obchodn%C3%AD akademie a VO%C5%A0 Vala%C5%A1sk%C3%A9 Mezi%C5%99%C3%AD%C4%8D%C3%AD":MAILTO:oavalmez@oavm.cz
END:VEVENT
BEGIN:VEVENT
DTSTART;VALUE=DATE:20230309
DTEND;VALUE=DATE:20230310
DTSTAMP:20260421T121858
CREATED:20230206T055800Z
LAST-MODIFIED:20230306T054613Z
UID:11387-1678320000-1678406399@www.oavm.cz
SUMMARY:Exkurze - knihovna Zbrojnice a Britské centrum v Olomouci
DESCRIPTION:Exkurze 2.B
URL:https://www.oavm.cz/akce/exkurze-knihovna-zbrojnice-a-britske-centrum-v-olomouci-2/
CATEGORIES:exkurze,vzdělávací
ORGANIZER;CN="Mgr. Pavla Havlov%C3%A1":MAILTO:pavla.havlova@oavm.cz
END:VEVENT
BEGIN:VEVENT
DTSTART;TZID=Europe/Prague:20230307T153000
DTEND;TZID=Europe/Prague:20230307T170000
DTSTAMP:20260421T121858
CREATED:20230306T053151Z
LAST-MODIFIED:20230306T053151Z
UID:11479-1678203000-1678208400@www.oavm.cz
SUMMARY:Přípravný kurz CJL na přijímací zkoušky
DESCRIPTION:Přípravné kurzy pro žáky základních škol. \nPodrobnosti najdete na této stránce.
URL:https://www.oavm.cz/akce/pripravny-kurz-cjl-na-prijimaci-zkousky-6/
LOCATION:Obchodní akademie a VOŠ\, Masarykova 101/18\, Krásno nad Bečvou\, Valašské Meziříčí\, 757 01
CATEGORIES:přijímací zkoušky,vzdělávací
ORGANIZER;CN="Obchodn%C3%AD akademie a VO%C5%A0 Vala%C5%A1sk%C3%A9 Mezi%C5%99%C3%AD%C4%8D%C3%AD":MAILTO:oavalmez@oavm.cz
END:VEVENT
BEGIN:VEVENT
DTSTART;TZID=Europe/Prague:20230306T153000
DTEND;TZID=Europe/Prague:20230306T170000
DTSTAMP:20260421T121858
CREATED:20230306T053028Z
LAST-MODIFIED:20230306T053028Z
UID:11477-1678116600-1678122000@www.oavm.cz
SUMMARY:Přípravný kurz MAT na přijímací zkoušky
DESCRIPTION:Přípravné kurzy pro žáky základních škol. \nPodrobnosti najdete na této stránce.
URL:https://www.oavm.cz/akce/pripravny-kurz-mat-na-prijimaci-zkousky-7/
LOCATION:Obchodní akademie a VOŠ\, Masarykova 101/18\, Krásno nad Bečvou\, Valašské Meziříčí\, 757 01
CATEGORIES:přijímací zkoušky,vzdělávací
ORGANIZER;CN="Obchodn%C3%AD akademie a VO%C5%A0 Vala%C5%A1sk%C3%A9 Mezi%C5%99%C3%AD%C4%8D%C3%AD":MAILTO:oavalmez@oavm.cz
END:VEVENT
BEGIN:VEVENT
DTSTART;TZID=Europe/Prague:20230303T080000
DTEND;TZID=Europe/Prague:20230303T153000
DTSTAMP:20260421T121858
CREATED:20230221T231708Z
LAST-MODIFIED:20230221T233452Z
UID:11439-1677830400-1677857400@www.oavm.cz
SUMMARY:Turnaj CS:GO
DESCRIPTION:V pátek 3. 3. proběhne první školní turnaj v populární počítačové hře Counter-Strike: Global Offensive. \nZůčastní se vybraní studenti školy.
URL:https://www.oavm.cz/akce/turnaj-csgo/
LOCATION:Infocentrum Obchodni Akademie\, Masarykova 101/18\, Valašské Meziříčí
END:VEVENT
END:VCALENDAR