BEGIN:VCALENDAR
VERSION:2.0
PRODID:-//Obchodní akademie a VOŠ Valašské Meziříčí - ECPv6.15.20//NONSGML v1.0//EN
CALSCALE:GREGORIAN
METHOD:PUBLISH
X-WR-CALNAME:Obchodní akademie a VOŠ Valašské Meziříčí
X-ORIGINAL-URL:https://www.oavm.cz
X-WR-CALDESC:Akce na Obchodní akademie a VOŠ Valašské Meziříčí
REFRESH-INTERVAL;VALUE=DURATION:PT1H
X-Robots-Tag:noindex
X-PUBLISHED-TTL:PT1H
BEGIN:VTIMEZONE
TZID:Europe/Prague
BEGIN:DAYLIGHT
TZOFFSETFROM:+0100
TZOFFSETTO:+0200
TZNAME:CEST
DTSTART:20170326T010000
END:DAYLIGHT
BEGIN:STANDARD
TZOFFSETFROM:+0200
TZOFFSETTO:+0100
TZNAME:CET
DTSTART:20171029T010000
END:STANDARD
BEGIN:DAYLIGHT
TZOFFSETFROM:+0100
TZOFFSETTO:+0200
TZNAME:CEST
DTSTART:20180325T010000
END:DAYLIGHT
BEGIN:STANDARD
TZOFFSETFROM:+0200
TZOFFSETTO:+0100
TZNAME:CET
DTSTART:20181028T010000
END:STANDARD
BEGIN:DAYLIGHT
TZOFFSETFROM:+0100
TZOFFSETTO:+0200
TZNAME:CEST
DTSTART:20190331T010000
END:DAYLIGHT
BEGIN:STANDARD
TZOFFSETFROM:+0200
TZOFFSETTO:+0100
TZNAME:CET
DTSTART:20191027T010000
END:STANDARD
BEGIN:DAYLIGHT
TZOFFSETFROM:+0100
TZOFFSETTO:+0200
TZNAME:CEST
DTSTART:20200329T010000
END:DAYLIGHT
BEGIN:STANDARD
TZOFFSETFROM:+0200
TZOFFSETTO:+0100
TZNAME:CET
DTSTART:20201025T010000
END:STANDARD
END:VTIMEZONE
BEGIN:VEVENT
DTSTART;VALUE=DATE:20190307
DTEND;VALUE=DATE:20190308
DTSTAMP:20260425T025859
CREATED:20190207T192747Z
LAST-MODIFIED:20190207T193043Z
UID:6260-1551916800-1552003199@www.oavm.cz
SUMMARY:Veletrh fiktivních firem Ostrava
DESCRIPTION:Zúčastní se vybraní žáci 4. A a 4. B\, kteří mají fiktivní firmu. \nOrganizátor vybírá účastnický poplatek 300\,- Kč za firmu. \nKontaktní osoba:\nIng. Irena Schnirchová\ntel.: 599 524 234\nirena.schnirchova@oao.cz \nPropozice veletrhu:\nOstrava 2019.zip
URL:https://www.oavm.cz/akce/veletrh-fiktivnich-firem-ostrava/
LOCATION:Výstaviště Černá louka\, Černá louka 3235\, Ostrava - Moravská Ostrava\, 702 00
ORGANIZER;CN="Ing. Alena Machalov%C3%A1":MAILTO:alena.machalova@oavm.cz
END:VEVENT
BEGIN:VEVENT
DTSTART;TZID=Europe/Prague:20190305T151500
DTEND;TZID=Europe/Prague:20190305T164500
DTSTAMP:20260425T025859
CREATED:20190207T194559Z
LAST-MODIFIED:20190207T195443Z
UID:6279-1551798900-1551804300@www.oavm.cz
SUMMARY:Přípravný kurz CJL na přijímací zkoušky
DESCRIPTION:Podrobnosti najdete na této stránce.
URL:https://www.oavm.cz/akce/pripravny-kurz-cjl-na-prijimaci-zkousky-2-2/
LOCATION:Obchodní akademie a VOŠ\, Masarykova 101/18\, Krásno nad Bečvou\, Valašské Meziříčí\, 757 01
END:VEVENT
BEGIN:VEVENT
DTSTART;TZID=Europe/Prague:20190305T082500
DTEND;TZID=Europe/Prague:20190305T115500
DTSTAMP:20260425T025859
CREATED:20190207T200024Z
LAST-MODIFIED:20190215T101847Z
UID:6281-1551774300-1551786900@www.oavm.cz
SUMMARY:Přednáška - Systém učení\, vztahy ve třídě
DESCRIPTION:Seminář pro 1. ročníky se školní psycholožkou.  \n2. VH – 1. A\n3. VH – 1. B\n4. VH – 1. C\n5. VH – 1. D
URL:https://www.oavm.cz/akce/prednaska-system-uceni-vztahy-ve-tride/
LOCATION:učebna 218\, Masarykova 101/18\, Valašské Meziříčí\, 757 01
CATEGORIES:vzdělávací
ORGANIZER;CN="PaedDr. et Mgr. V%C4%9Bra Facov%C3%A1":MAILTO:verafacova@seznam.cz
END:VEVENT
BEGIN:VEVENT
DTSTART;TZID=Europe/Prague:20190304T151500
DTEND;TZID=Europe/Prague:20190304T164500
DTSTAMP:20260425T025859
CREATED:20190207T194559Z
LAST-MODIFIED:20190207T195419Z
UID:6277-1551712500-1551717900@www.oavm.cz
SUMMARY:Přípravný kurz MAT na přijímací zkoušky
DESCRIPTION:Podrobnosti najdete na této stránce.
URL:https://www.oavm.cz/akce/pripravny-kurz-mat-na-prijimaci-zkousky-2/
LOCATION:Obchodní akademie a VOŠ\, Masarykova 101/18\, Krásno nad Bečvou\, Valašské Meziříčí\, 757 01
END:VEVENT
BEGIN:VEVENT
DTSTART;TZID=Europe/Prague:20190219T151500
DTEND;TZID=Europe/Prague:20190219T164500
DTSTAMP:20260425T025859
CREATED:20190207T194559Z
LAST-MODIFIED:20190207T194726Z
UID:6275-1550589300-1550594700@www.oavm.cz
SUMMARY:Přípravný kurz CJL na přijímací zkoušky
DESCRIPTION:Podrobnosti najdete na této stránce.
URL:https://www.oavm.cz/akce/pripravny-kurz-cjl-na-prijimaci-zkousky-2/
LOCATION:Obchodní akademie a VOŠ\, Masarykova 101/18\, Krásno nad Bečvou\, Valašské Meziříčí\, 757 01
END:VEVENT
BEGIN:VEVENT
DTSTART;TZID=Europe/Prague:20190218T151500
DTEND;TZID=Europe/Prague:20190218T164500
DTSTAMP:20260425T025859
CREATED:20190207T194559Z
LAST-MODIFIED:20190207T194559Z
UID:6272-1550502900-1550508300@www.oavm.cz
SUMMARY:Přípravný kurz MAT na přijímací zkoušky
DESCRIPTION:Podrobnosti najdete na této stránce.
URL:https://www.oavm.cz/akce/pripravny-kurz-mat-na-prijimaci-zkousky/
LOCATION:Obchodní akademie a VOŠ\, Masarykova 101/18\, Krásno nad Bečvou\, Valašské Meziříčí\, 757 01
END:VEVENT
BEGIN:VEVENT
DTSTART;TZID=Europe/Prague:20190218T084500
DTEND;TZID=Europe/Prague:20190218T153000
DTSTAMP:20260425T025859
CREATED:20190208T110847Z
LAST-MODIFIED:20190208T111053Z
UID:6310-1550479500-1550503800@www.oavm.cz
SUMMARY:Soutěž - Účetní tým 2019
DESCRIPTION:Náš tým ve složení Skýpalová Eliška\, Smilková Vendula a Svoboda Daniel se zúčastní soutěže Účetní tým 2019.
URL:https://www.oavm.cz/akce/soutez-ucetni-tym-2019/
LOCATION:VŠ mezinárodních a veřejných vztahů Praha\, U Santošky 17\, Praha 5 – Smíchov\, 150 00
CATEGORIES:vzdělávací
ORGANIZER;CN="Ing. Alena Machalov%C3%A1":MAILTO:alena.machalova@oavm.cz
END:VEVENT
BEGIN:VEVENT
DTSTART;VALUE=DATE:20190215
DTEND;VALUE=DATE:20190216
DTSTAMP:20260425T025859
CREATED:20190206T194007Z
LAST-MODIFIED:20190206T194339Z
UID:6234-1550188800-1550275199@www.oavm.cz
SUMMARY:Maturitní trénink - matematika
DESCRIPTION:Pro přihlášené žáky. Bude probíhat dle samostatného rozpisu.
URL:https://www.oavm.cz/akce/maturitni-trenink-matematika/
LOCATION:Obchodní akademie a VOŠ\, Masarykova 101/18\, Krásno nad Bečvou\, Valašské Meziříčí\, 757 01
ORGANIZER;CN="Mgr. Andrea Hlavat%C3%A1":MAILTO:andrea.hlavata@oavm.cz
END:VEVENT
BEGIN:VEVENT
DTSTART;VALUE=DATE:20190212
DTEND;VALUE=DATE:20190213
DTSTAMP:20260425T025859
CREATED:20190206T194007Z
LAST-MODIFIED:20190206T194209Z
UID:6232-1549929600-1550015999@www.oavm.cz
SUMMARY:Maturitní trénink - anglický jazyk
DESCRIPTION:Pro přihlášené žáky. Bude probíhat dle samostatného rozpisu.
URL:https://www.oavm.cz/akce/maturitni-trenink-anglicky-jazyk/
LOCATION:Obchodní akademie a VOŠ\, Masarykova 101/18\, Krásno nad Bečvou\, Valašské Meziříčí\, 757 01
ORGANIZER;CN="Mgr. Andrea Hlavat%C3%A1":MAILTO:andrea.hlavata@oavm.cz
END:VEVENT
BEGIN:VEVENT
DTSTART;TZID=Europe/Prague:20190211T082500
DTEND;TZID=Europe/Prague:20190211T133500
DTSTAMP:20260425T025859
CREATED:20190130T185352Z
LAST-MODIFIED:20190130T190353Z
UID:6194-1549873500-1549892100@www.oavm.cz
SUMMARY:Přednáška - Mediální výchova - úniková hra Fakescape
DESCRIPTION:Organizátorka: Mgr. Irena Kadlová  \nCena: 15\,- Kč/osobu  \nTřídy: 2A\, 2B\, 3A\, 3B\, 3C\, 3D  \nRozpis tříd: 2VH 3VH 4VH 5VH 6VH 7VH
URL:https://www.oavm.cz/akce/prednaska-unikova-hra-fakescape/
LOCATION:Učebna 364\, Obchodní akademie a VOŠ\, Valašské Meziříčí\, 757 01
CATEGORIES:vzdělávací
ORGANIZER;CN="Mgr. Irena Kadlov%C3%A1":MAILTO:irena.kadlova@oavm.cz
END:VEVENT
BEGIN:VEVENT
DTSTART;VALUE=DATE:20190211
DTEND;VALUE=DATE:20190216
DTSTAMP:20260425T025900
CREATED:20190130T184813Z
LAST-MODIFIED:20190207T190008Z
UID:6191-1549843200-1550275199@www.oavm.cz
SUMMARY:Projekt EDISON
DESCRIPTION:Stážisté ze zahraničí\, 3 žáci. Budou přiděleni do výuky dle rozpisu.
URL:https://www.oavm.cz/akce/projekt-edison/
LOCATION:seminární místnost\, Masarykova 101/18\, Valašské Meziříčí\, 757 01
ORGANIZER;CN="RNDr. Anna Neumanov%C3%A1":MAILTO:anna.neumanova@oavm.cz
END:VEVENT
BEGIN:VEVENT
DTSTART;TZID=Europe/Prague:20190208T193000
DTEND;TZID=Europe/Prague:20190208T235900
DTSTAMP:20260425T025900
CREATED:20190207T200957Z
LAST-MODIFIED:20190207T200957Z
UID:6289-1549654200-1549670340@www.oavm.cz
SUMMARY:Maturitní ples žáků 4. ročníku
DESCRIPTION:Tradiční ples s představením maturantů\, bohatým programem a tombolou.
URL:https://www.oavm.cz/akce/maturitni-ples-zaku-4-rocniku/
LOCATION:Kulturní zařízení města Valašského Meziříčí\, Komenského 1\, Valašské Meziříčí\, 757 01
ORGANIZER;CN="Ing. Alena Stib%C5%AFrkov%C3%A1":MAILTO:alena.stiburkova@oavm.cz
END:VEVENT
BEGIN:VEVENT
DTSTART;TZID=Europe/Prague:20190206T080000
DTEND;TZID=Europe/Prague:20190206T090000
DTSTAMP:20260425T025900
CREATED:20190130T183918Z
LAST-MODIFIED:20190130T184849Z
UID:6188-1549440000-1549443600@www.oavm.cz
SUMMARY:Přednáška firmy Walter
DESCRIPTION:Organizátor Mgr. Dalibor Vašek. Zúčastní se vybraní přihlášení zájemci.
URL:https://www.oavm.cz/akce/prednaska-firmy-walter/
LOCATION:Učebna 364\, Obchodní akademie a VOŠ\, Valašské Meziříčí\, 757 01
ORGANIZER;CN="Mgr. Dalibor Va%C5%A1ek":MAILTO:dalibor.vasek@oavm.cz
END:VEVENT
BEGIN:VEVENT
DTSTART;TZID=Europe/Prague:20190129T101500
DTEND;TZID=Europe/Prague:20190129T114500
DTSTAMP:20260425T025900
CREATED:20190106T100604Z
LAST-MODIFIED:20190106T100734Z
UID:5769-1548756900-1548762300@www.oavm.cz
SUMMARY:Seminář "Můžeš podnikat"
DESCRIPTION:Źáci 3. A\, 3. B a 3. D se zúčastní semináře „Můžeš podnikat“\, který povedou Michal Ondra z NEW WAVE SERVICE a Petr Zelík ze společnosti OXALIS\, spol. s r. o.
URL:https://www.oavm.cz/akce/seminar-muzes-podnikat/
LOCATION:Učebna 364\, Obchodní akademie a VOŠ\, Valašské Meziříčí\, 757 01
ORGANIZER;CN="Ing. Helena %C5%A0krlov%C3%A1":MAILTO:helena.skrlova@oavm.cz
END:VEVENT
BEGIN:VEVENT
DTSTART;TZID=Europe/Prague:20190126T080000
DTEND;TZID=Europe/Prague:20190126T120000
DTSTAMP:20260425T025900
CREATED:20180925T154013Z
LAST-MODIFIED:20190121T110316Z
UID:4726-1548489600-1548504000@www.oavm.cz
SUMMARY:Den otevřených dveří - sobota
DESCRIPTION:V pátek 25. ledna a v sobotu 26. ledna se koná den otevřených dveří. Přijďte se podívat\, jak probíhá výuka\, jak to u nás vypadá a co všechno vás čeká\, když se rozhodnete pro naši školu. \nJste srdečně vítáni!
URL:https://www.oavm.cz/akce/den-otevrenych-dveri-leden-sobota/
LOCATION:Obchodní akademie a VOŠ\, Masarykova 101/18\, Krásno nad Bečvou\, Valašské Meziříčí\, 757 01
CATEGORIES:DOD
ORGANIZER;CN="Obchodn%C3%AD akademie a VO%C5%A0 Vala%C5%A1sk%C3%A9 Mezi%C5%99%C3%AD%C4%8D%C3%AD":MAILTO:oavalmez@oavm.cz
END:VEVENT
BEGIN:VEVENT
DTSTART;TZID=Europe/Prague:20190125T080000
DTEND;TZID=Europe/Prague:20190125T160000
DTSTAMP:20260425T025900
CREATED:20180925T154013Z
LAST-MODIFIED:20190106T111251Z
UID:4723-1548403200-1548432000@www.oavm.cz
SUMMARY:Den otevřených dveří - pátek
DESCRIPTION:V pátek 25. ledna a v sobotu 26. ledna se koná den otevřených dveří. Přijďte se podívat\, jak probíhá výuka\, jak to u nás vypadá a co všechno vás čeká\, když se rozhodnete pro naši školu. \nJste srdečně vítáni!
URL:https://www.oavm.cz/akce/den-otevrenych-dveri-leden-patek/
LOCATION:Obchodní akademie a VOŠ\, Masarykova 101/18\, Krásno nad Bečvou\, Valašské Meziříčí\, 757 01
CATEGORIES:DOD
ORGANIZER;CN="Obchodn%C3%AD akademie a VO%C5%A0 Vala%C5%A1sk%C3%A9 Mezi%C5%99%C3%AD%C4%8D%C3%AD":MAILTO:oavalmez@oavm.cz
END:VEVENT
BEGIN:VEVENT
DTSTART;TZID=Europe/Prague:20190124T080000
DTEND;TZID=Europe/Prague:20190124T091500
DTSTAMP:20260425T025900
CREATED:20181208T183343Z
LAST-MODIFIED:20181208T183616Z
UID:5338-1548316800-1548321300@www.oavm.cz
SUMMARY:Planeta Země 3000 - Myanmar
DESCRIPTION:Žáci 2. a 3. ročníku se zúčastní přednášky v rámci projektu Planeta Země 3000 – Myanmar. Akci organizuje RNDr. Eva Čtveráčková. Více informací o projektu najdete na těchto stránkách.
URL:https://www.oavm.cz/akce/planeta-zeme-3000-myanmar/
LOCATION:Obchodní akademie a VOŠ\, Masarykova 101/18\, Krásno nad Bečvou\, Valašské Meziříčí\, 757 01
CATEGORIES:vzdělávací
ORGANIZER;CN="RNDr. Eva %C4%8Ctver%C3%A1%C4%8Dkov%C3%A1":MAILTO:eva.ctverackova@oavm.cz
END:VEVENT
BEGIN:VEVENT
DTSTART;VALUE=DATE:20190121
DTEND;VALUE=DATE:20190126
DTSTAMP:20260425T025900
CREATED:20181208T184922Z
LAST-MODIFIED:20190107T102437Z
UID:5344-1548028800-1548460799@www.oavm.cz
SUMMARY:Lyžařský výcvik
DESCRIPTION:Ve dnech 21. – 25. ledna 2019 se uskuteční v lyžařském středisku na Bílé lyžařský a snowboardový výcvikový kurz pro studenty 1. ročníku. Pod vedením 7 zkušených instruktorů se budou účastníci po dobu pěti dnů zdokonalovat ve své technice jízdy na lyžích a na snowboardu. \nLyžařské středisko na Bílé disponuje tradičně dobrou kvalitou technického sněhu a v našem okolí se jedná o nejpříznivější lokalitu\, kde je možné lyžařský kurz pořádat podle našich představ. Ubytování je zajištěno na Středním odborném učilišti lesnickém přímo pod sjezdovkami. \n  \nPokyny pro účastníky\n 
URL:https://www.oavm.cz/akce/lyzarsky-vycvik/
LOCATION:lyžařské středisko Bílá\, Bílá 173\, Staré Hamry\, 739 15
CATEGORIES:sportovní
ORGANIZER;CN="Mgr. Tom%C3%A1%C5%A1 Perutka":MAILTO:tomas.perutka@oavm.cz
END:VEVENT
BEGIN:VEVENT
DTSTART;TZID=Europe/Prague:20190116T073000
DTEND;TZID=Europe/Prague:20190116T140000
DTSTAMP:20260425T025900
CREATED:20190109T105807Z
LAST-MODIFIED:20190109T110428Z
UID:5827-1547623800-1547647200@www.oavm.cz
SUMMARY:Okrskové kolo ve florbalu - chlapci
DESCRIPTION:V úterý a ve středu proběhne okrskové kolo dívek\, resp. chlapců\, ve florbalu. Vedoucí družstev je Mgr. Pokorný. \nPropozice turnaje je možno stáhnout zde: \nPropozice turnaje
URL:https://www.oavm.cz/akce/okrskove-kolo-ve-florbalu-chlapci/
LOCATION:tělocvična Obchodní akademie\, Masarykova 101/18\, Valašské Meziříčí\, 757 01
CATEGORIES:sportovní
ORGANIZER;CN="Mgr. Stanislav Z%C3%A1le%C5%A1%C3%A1k":MAILTO:stanislav.zalesak@oavm.cz
END:VEVENT
BEGIN:VEVENT
DTSTART;TZID=Europe/Prague:20190115T073000
DTEND;TZID=Europe/Prague:20190115T140000
DTSTAMP:20260425T025900
CREATED:20190109T105807Z
LAST-MODIFIED:20190109T105807Z
UID:5816-1547537400-1547560800@www.oavm.cz
SUMMARY:Okrskové kolo ve florbalu - dívky
DESCRIPTION:V úterý a ve středu proběhne okrskové kolo dívek\, resp. chlapců\, ve florbalu. Vedoucí družstev je Mgr. Pokorný. \nPropozice turnaje je možno stáhnout zde: \nPropozice turnaje
URL:https://www.oavm.cz/akce/okrskove-kolo-ve-florbalu-divky/
LOCATION:tělocvična Obchodní akademie\, Masarykova 101/18\, Valašské Meziříčí\, 757 01
CATEGORIES:sportovní
ORGANIZER;CN="Mgr. Stanislav Z%C3%A1le%C5%A1%C3%A1k":MAILTO:stanislav.zalesak@oavm.cz
END:VEVENT
BEGIN:VEVENT
DTSTART;TZID=Europe/Prague:20190109T073000
DTEND;TZID=Europe/Prague:20190109T130000
DTSTAMP:20260425T025900
CREATED:20181030T125901Z
LAST-MODIFIED:20190107T101535Z
UID:3836-1547019000-1547038800@www.oavm.cz
SUMMARY:Státní zkouška z psaní na klávesnici
DESCRIPTION:Dne 9. ledna 2019 se budou konat ve škole státní zkoušky z psaní na klávesnici a ze zprácování textů. Přihlásit se mohou i zájemci z jiných škol a veřejnosti. \n  \nProč složit státní zkoušku? \nProtože absolvováním státních zkoušek získá úspěšný uchazeč vysvědčení\, dokládající jeho znalosti a zejména dovednosti z písemné komunikace\, které podporují efektivní výkon především administrativních činností. \nNa rozdíl od řady komerčních certifikátů je toto vysvědčení vydáváno a garantováno přímo ministerstvem školství\, a tudíž dává svému držiteli značnou výhodu při pracovních pohovorech. \nStátní zkoušky mají více než šedesátiletou tradici a jsou obecně velmi známé mezi zaměstnavateli\, kteří vědí\, že absolvování zkoušek garantuje vysokou úroveň dosažených znalostí a dovedností. Uchazeči tak absolvování zkoušky pomáhá při uplatnění se na trhu práce. \n  \n1. Státní zkouška ze zpracování textu\n30 minut\, korektura textu\, opis textu – cena 700 Kč\, přihlášky Mgr. Robert Sigmund. \n2. Státní zkouška z psaní na klávesnici\n10minutový opis\, dopis\, tabulka – cena 600 Kč\, přihlášky Mgr. Melánie Kratinová. \n  \nTermín uzávěrky přihlášek je 30. listopadu 2018. Obě zkoušky proběhnou v jednom dni v uvedeném pořadí. Časový harmonogram upřesníme podle počtu přihlášených zájemců. \nRobert Sigmund
URL:https://www.oavm.cz/akce/statni-zkouska-z-psani-na-klavesnici/
LOCATION:Obchodní akademie a VOŠ\, Masarykova 101/18\, Krásno nad Bečvou\, Valašské Meziříčí\, 757 01
ORGANIZER;CN="Mgr. Mel%C3%A1nie Kratinov%C3%A1":MAILTO:melanie.kratinova@oavm.cz
END:VEVENT
BEGIN:VEVENT
DTSTART;TZID=Europe/Prague:20190109T073000
DTEND;TZID=Europe/Prague:20190109T130000
DTSTAMP:20260425T025900
CREATED:20181030T125901Z
LAST-MODIFIED:20190107T101620Z
UID:3918-1547019000-1547038800@www.oavm.cz
SUMMARY:Státní zkouška ze zpracování textu
DESCRIPTION:Dne 9. ledna 2019 se budou konat ve škole státní zkoušky z psaní na klávesnici a ze zprácování textů. Přihlásit se mohou i zájemci z jiných škol a veřejnosti. \n  \nProč složit státní zkoušku? \nProtože absolvováním státních zkoušek získá úspěšný uchazeč vysvědčení\, dokládající jeho znalosti a zejména dovednosti z písemné komunikace\, které podporují efektivní výkon především administrativních činností. \nNa rozdíl od řady komerčních certifikátů je toto vysvědčení vydáváno a garantováno přímo ministerstvem školství\, a tudíž dává svému držiteli značnou výhodu při pracovních pohovorech. \nStátní zkoušky mají více než šedesátiletou tradici a jsou obecně velmi známé mezi zaměstnavateli\, kteří vědí\, že absolvování zkoušek garantuje vysokou úroveň dosažených znalostí a dovedností. Uchazeči tak absolvování zkoušky pomáhá při uplatnění se na trhu práce. \n  \n1. Státní zkouška ze zpracování textu\n30 minut\, korektura textu\, opis textu – cena 700 Kč\, přihlášky Mgr. Robert Sigmund. \n2. Státní zkouška z psaní na klávesnici\n10minutový opis\, dopis\, tabulka – cena 600 Kč\, přihlášky Mgr. Melánie Kratinová. \n  \nTermín uzávěrky přihlášek je 30. listopadu 2018. Obě zkoušky proběhnou v jednom dni v uvedeném pořadí. Časový harmonogram upřesníme podle počtu přihlášených zájemců. \nRobert Sigmund
URL:https://www.oavm.cz/akce/statni-zkouska-ze-zpracovani-textu/
LOCATION:Obchodní akademie a VOŠ\, Masarykova 101/18\, Krásno nad Bečvou\, Valašské Meziříčí\, 757 01
ORGANIZER;CN="Mgr. Robert Sigmund%2C DiS.":MAILTO:robert.sigmund@oavm.cz
END:VEVENT
BEGIN:VEVENT
DTSTART;VALUE=DATE:20181221
DTEND;VALUE=DATE:20181222
DTSTAMP:20260425T025900
CREATED:20181113T204005Z
LAST-MODIFIED:20181113T204308Z
UID:4731-1545350400-1545436799@www.oavm.cz
SUMMARY:Vánoční volejbal - mix
DESCRIPTION:Třídy se řídí pokyny organizátora Mgr. Koláčka.
URL:https://www.oavm.cz/akce/vanocni-volejbal-mix/
LOCATION:tělocvična Obchodní akademie\, Masarykova 101/18\, Valašské Meziříčí\, 757 01
CATEGORIES:sportovní
ORGANIZER;CN="Mgr. Ivo Kol%C3%A1%C4%8Dek":MAILTO:ivo.kolacek@oavm.cz
END:VEVENT
BEGIN:VEVENT
DTSTART;VALUE=DATE:20181220
DTEND;VALUE=DATE:20181221
DTSTAMP:20260425T025900
CREATED:20181113T204005Z
LAST-MODIFIED:20181113T204005Z
UID:4728-1545264000-1545350399@www.oavm.cz
SUMMARY:Školní kolo - volejbal - dívky\, hoši
DESCRIPTION:Třídy se řídí pokyny organizátora Mgr. Koláčka.
URL:https://www.oavm.cz/akce/skolni-kolo-volejbal-divky-hosi/
LOCATION:tělocvična Obchodní akademie\, Masarykova 101/18\, Valašské Meziříčí\, 757 01
CATEGORIES:sportovní
ORGANIZER;CN="Mgr. Ivo Kol%C3%A1%C4%8Dek":MAILTO:ivo.kolacek@oavm.cz
END:VEVENT
BEGIN:VEVENT
DTSTART;VALUE=DATE:20181220
DTEND;VALUE=DATE:20181221
DTSTAMP:20260425T025900
CREATED:20181113T202856Z
LAST-MODIFIED:20181113T202856Z
UID:4720-1545264000-1545350399@www.oavm.cz
SUMMARY:Projektový den 3. D a 4. D
DESCRIPTION:Žáci tříd 3. D a 4. D budou obhajovat své projekty. Zúčastní se i třída 2. D\, aby žáci věděli\, co je čeká v dalších letech.
URL:https://www.oavm.cz/akce/projektovy-den-3-d-a-4-d/
LOCATION:Učebna 364\, Obchodní akademie a VOŠ\, Valašské Meziříčí\, 757 01
CATEGORIES:vzdělávací
ORGANIZER;CN="Obchodn%C3%AD akademie a VO%C5%A0 Vala%C5%A1sk%C3%A9 Mezi%C5%99%C3%AD%C4%8D%C3%AD":MAILTO:oavalmez@oavm.cz
END:VEVENT
BEGIN:VEVENT
DTSTART;VALUE=DATE:20181219
DTEND;VALUE=DATE:20181220
DTSTAMP:20260425T025900
CREATED:20180923T140016Z
LAST-MODIFIED:20181113T202130Z
UID:4715-1545177600-1545263999@www.oavm.cz
SUMMARY:Florbal - školní kolo chlapci
DESCRIPTION:Třídy se řídí pokyny organizátora Mgr. Pokorného.
URL:https://www.oavm.cz/akce/florbal-skolni-kolo-chlapci/
LOCATION:tělocvična Obchodní akademie\, Masarykova 101/18\, Valašské Meziříčí\, 757 01
CATEGORIES:sportovní
ORGANIZER;CN="Mgr. Petr Pokorn%C3%BD":MAILTO:petr. pokorny@oavm.cz
END:VEVENT
BEGIN:VEVENT
DTSTART;VALUE=DATE:20181219
DTEND;VALUE=DATE:20181220
DTSTAMP:20260425T025900
CREATED:20181113T202420Z
LAST-MODIFIED:20181113T202420Z
UID:4717-1545177600-1545263999@www.oavm.cz
SUMMARY:Zájezd do předvánoční Vídně - 2. ročníky
DESCRIPTION:Žáci 2. ročníků se zúčastní každoročního zájezdu do předvánoční Vídně.
URL:https://www.oavm.cz/akce/zajezd-do-predvanocni-vidne-2-rocniky/
LOCATION:Vídeň\, Vídeň\, Rakousko
ORGANIZER;CN="Obchodn%C3%AD akademie a VO%C5%A0 Vala%C5%A1sk%C3%A9 Mezi%C5%99%C3%AD%C4%8D%C3%AD":MAILTO:oavalmez@oavm.cz
END:VEVENT
BEGIN:VEVENT
DTSTART;VALUE=DATE:20181218
DTEND;VALUE=DATE:20181219
DTSTAMP:20260425T025900
CREATED:20180923T140016Z
LAST-MODIFIED:20180923T140046Z
UID:349-1545091200-1545177599@www.oavm.cz
SUMMARY:Florbal - školní kolo dívky
DESCRIPTION:Třídy se řídí pokyny organizátora Mgr. Pokorného.
URL:https://www.oavm.cz/akce/florbal-skolni-kolo-divky/
LOCATION:tělocvična Obchodní akademie\, Masarykova 101/18\, Valašské Meziříčí\, 757 01
CATEGORIES:sportovní
ORGANIZER;CN="Mgr. Petr Pokorn%C3%BD":MAILTO:petr. pokorny@oavm.cz
END:VEVENT
BEGIN:VEVENT
DTSTART;TZID=Europe/Prague:20181213T082500
DTEND;TZID=Europe/Prague:20181213T115500
DTSTAMP:20260425T025900
CREATED:20181013T090456Z
LAST-MODIFIED:20181207T120153Z
UID:1447-1544689500-1544702100@www.oavm.cz
SUMMARY:Staň se "NA DEN STŘEDOŠKOLÁKEM" - obor Veřejnosprávní činnost
DESCRIPTION:Akce „NA DEN STŘEDOŠKOLÁKEM“ je určena žákům 9. tříd základních škol\, kteří mají zájem o studium na naší škole a je zdarma. Tento termín je určen zájemcům o obor Veřejnosprávni činnost. Vyzkoušíte si předměty: \n\nPrávo\,\nVeřejná správa\,\nSpolečenská kultura\,\nPísemná a elektronická komunikace.\n\nŽák obdrží potvrzení\, že se výuky zúčastnil. Výuka začíná v 8:25 a končí 11:55. \nMáte jedinečnou příležitost vyzkoušet si zasednout do školních lavic střední školy. \nPo vyplnění přihlášky budou vaše údaje zpracovány pro účely pouze této akce. Případné dotazy Vám zodpoví Mgr. Robert Sigmund\, výchovný poradce\, na e-mailové adrese: robert.sigmund@oavm.cz. \nMinimálně týden před akcí obdží zákonný zástupce další informace na e-mailovou adresu\, kterou uvedl v přihlášce. \nPŘIHLAŠOVÁNÍ UKONČENO!
URL:https://www.oavm.cz/akce/stan-se-na-den-stredoskolakem-obor-obchodni-akademie-2-2/
LOCATION:Obchodní akademie a VOŠ\, Masarykova 101/18\, Krásno nad Bečvou\, Valašské Meziříčí\, 757 01
ORGANIZER;CN="Obchodn%C3%AD akademie a VO%C5%A0 Vala%C5%A1sk%C3%A9 Mezi%C5%99%C3%AD%C4%8D%C3%AD":MAILTO:oavalmez@oavm.cz
END:VEVENT
BEGIN:VEVENT
DTSTART;TZID=Europe/Prague:20181212T082500
DTEND;TZID=Europe/Prague:20181212T115500
DTSTAMP:20260425T025900
CREATED:20181013T090456Z
LAST-MODIFIED:20181207T120219Z
UID:1442-1544603100-1544615700@www.oavm.cz
SUMMARY:Staň se "NA DEN STŘEDOŠKOLÁKEM" - obor Informační technologie
DESCRIPTION:Akce „NA DEN STŘEDOŠKOLÁKEM“ je určena žákům 9. tříd základních škol\, kteří mají zájem o studium na naší škole a je zdarma. Tento termín je určen zájemcům o obor Informační technologie. Vyzkoušíte si předměty: \n\nGrafika\,\nProgramování\,\nWebové aplikace\,\nPočítačové sítě.\n\nŽák obdrží potvrzení\, že se výuky zúčastnil. Výuka začíná v 8:25 a končí 11:55. \nMáte jedinečnou příležitost vyzkoušet si zasednout do školních lavic střední školy. \nPo vyplnění přihlášky budou vaše údaje zpracovány pro účely pouze této akce. Případné dotazy Vám zodpoví Mgr. Robert Sigmund\, výchovný poradce\, na e-mailové adrese: robert.sigmund@oavm.cz. \nV případě překročení kapacity bude přihlašování ukončeno. Minimálně týden před akcí obdží zákonný zástupce další informace na e-mailovou adresu\, kterou uvedl v přihlášce. \nPŘIHLAŠOVÁNÍ UKONČENO!
URL:https://www.oavm.cz/akce/stan-se-na-den-stredoskolakem-obor-obchodni-akademie-2/
LOCATION:Obchodní akademie a VOŠ\, Masarykova 101/18\, Krásno nad Bečvou\, Valašské Meziříčí\, 757 01
ORGANIZER;CN="Obchodn%C3%AD akademie a VO%C5%A0 Vala%C5%A1sk%C3%A9 Mezi%C5%99%C3%AD%C4%8D%C3%AD":MAILTO:oavalmez@oavm.cz
END:VEVENT
END:VCALENDAR