BEGIN:VCALENDAR
VERSION:2.0
PRODID:-//Obchodní akademie a VOŠ Valašské Meziříčí - ECPv6.15.20//NONSGML v1.0//EN
CALSCALE:GREGORIAN
METHOD:PUBLISH
X-ORIGINAL-URL:https://www.oavm.cz
X-WR-CALDESC:Akce na Obchodní akademie a VOŠ Valašské Meziříčí
REFRESH-INTERVAL;VALUE=DURATION:PT1H
X-Robots-Tag:noindex
X-PUBLISHED-TTL:PT1H
BEGIN:VTIMEZONE
TZID:Europe/Prague
BEGIN:DAYLIGHT
TZOFFSETFROM:+0100
TZOFFSETTO:+0200
TZNAME:CEST
DTSTART:20180325T010000
END:DAYLIGHT
BEGIN:STANDARD
TZOFFSETFROM:+0200
TZOFFSETTO:+0100
TZNAME:CET
DTSTART:20181028T010000
END:STANDARD
BEGIN:DAYLIGHT
TZOFFSETFROM:+0100
TZOFFSETTO:+0200
TZNAME:CEST
DTSTART:20190331T010000
END:DAYLIGHT
BEGIN:STANDARD
TZOFFSETFROM:+0200
TZOFFSETTO:+0100
TZNAME:CET
DTSTART:20191027T010000
END:STANDARD
BEGIN:DAYLIGHT
TZOFFSETFROM:+0100
TZOFFSETTO:+0200
TZNAME:CEST
DTSTART:20200329T010000
END:DAYLIGHT
BEGIN:STANDARD
TZOFFSETFROM:+0200
TZOFFSETTO:+0100
TZNAME:CET
DTSTART:20201025T010000
END:STANDARD
END:VTIMEZONE
BEGIN:VEVENT
DTSTART;TZID=Europe/Prague:20190611T153000
DTEND;TZID=Europe/Prague:20190611T163000
DTSTAMP:20260424T221746
CREATED:20190430T135010Z
LAST-MODIFIED:20190430T135010Z
UID:6792-1560267000-1560270600@www.oavm.cz
SUMMARY:Informační schůzka pro rodiče budoucích 1. ročníků
DESCRIPTION:Rodiče budou informováni např. o volbě druhého cizího jazyka\, stravování\, lyžařském kurzu\, informačním centru školy a jiném.
URL:https://www.oavm.cz/akce/informacni-schuzka-pro-rodice-budoucich-1-rocniku/
LOCATION:Aula VOŠ\, Na Šištotě 159\, Valašské Meziříčí\, 757 01
ORGANIZER;CN="Mgr. Andrea Hlavat%C3%A1":MAILTO:andrea.hlavata@oavm.cz
END:VEVENT
BEGIN:VEVENT
DTSTART;VALUE=DATE:20190608
DTEND;VALUE=DATE:20190616
DTSTAMP:20260424T221746
CREATED:20190520T060246Z
LAST-MODIFIED:20190520T060246Z
UID:6893-1559952000-1560643199@www.oavm.cz
SUMMARY:Sportovní kurz Chorvatsko 3. B\, 3. D
DESCRIPTION:
URL:https://www.oavm.cz/akce/sportovni-kurz-chorvatsko-3-b-3-d/
LOCATION:Drvenik\, Donja Vala\, 21333\, Chorvatsko
CATEGORIES:sportovní
ORGANIZER;CN="Mgr. Ivo Kol%C3%A1%C4%8Dek":MAILTO:ivo.kolacek@oavm.cz
END:VEVENT
BEGIN:VEVENT
DTSTART;TZID=Europe/Prague:20190607T080000
DTEND;TZID=Europe/Prague:20190607T150000
DTSTAMP:20260424T221746
CREATED:20190520T133157Z
LAST-MODIFIED:20190520T133431Z
UID:6898-1559894400-1559919600@www.oavm.cz
SUMMARY:Mezinárodní turnaj přátelství ve volejbale a kopané
DESCRIPTION:Gymnázium Františka Palackého pořádá MEZINÁRODNÍ TURNAJ PŘÁTELSTVÍ ve volejbale dívek a v kopané chlapců. Zúčastní se vybraní žáci.\n \nPropozice turnaje\n 
URL:https://www.oavm.cz/akce/mezinarodni-turnaj-pratelstvi-ve-volejbale-a-kopane/
LOCATION:Gymnázium Františka Palackého\, Husova 146/2\, Valašské Meziříčí\, 757 01
CATEGORIES:sportovní
ORGANIZER;CN="Mgr. Tom%C3%A1%C5%A1 Perutka":MAILTO:tomas.perutka@oavm.cz
END:VEVENT
BEGIN:VEVENT
DTSTART;TZID=Europe/Prague:20190605T140000
DTEND;TZID=Europe/Prague:20190605T160000
DTSTAMP:20260424T221746
CREATED:20190418T202342Z
LAST-MODIFIED:20190418T202342Z
UID:6715-1559743200-1559750400@www.oavm.cz
SUMMARY:Předávání maturitních vysvědčení
DESCRIPTION:V tomto termínu proběhne slavnostní předání maturitních vysvědčení absolventům naší školy.
URL:https://www.oavm.cz/akce/predavani-maturitnich-vysvedceni/
LOCATION:Kino Valmez\, Nábřeží 268\, Valašské Meziříčí\, 757 01
ORGANIZER;CN="Mgr. Andrea Hlavat%C3%A1":MAILTO:andrea.hlavata@oavm.cz
END:VEVENT
BEGIN:VEVENT
DTSTART;TZID=Europe/Prague:20190528T073000
DTEND;TZID=Europe/Prague:20190528T110000
DTSTAMP:20260424T221746
CREATED:20190520T055246Z
LAST-MODIFIED:20190520T055246Z
UID:6890-1559028600-1559041200@www.oavm.cz
SUMMARY:Soudní jednání 2. C
DESCRIPTION:
URL:https://www.oavm.cz/akce/soudni-jednani-2-c/
LOCATION:Okresní soud ve Vsetíně – pobočka Valašské Meziříčí\, Legií 1374\, Valašské Meziříčí\, 757 01
ORGANIZER;CN="Ing. Elen V%C3%A1lkov%C3%A1":MAILTO:elen.valkova@oavm.cz
END:VEVENT
BEGIN:VEVENT
DTSTART;VALUE=DATE:20190523
DTEND;VALUE=DATE:20190524
DTSTAMP:20260424T221746
CREATED:20190403T143516Z
LAST-MODIFIED:20190403T143516Z
UID:6609-1558569600-1558655999@www.oavm.cz
SUMMARY:Nohejbal - školní kolo
DESCRIPTION:Třídy se řídí pokyny organizátora Mgr. Perutky.
URL:https://www.oavm.cz/akce/nohejbal-skolni-kolo/
LOCATION:tělocvična Obchodní akademie\, Masarykova 101/18\, Valašské Meziříčí\, 757 01
CATEGORIES:sportovní
ORGANIZER;CN="Mgr. Tom%C3%A1%C5%A1 Perutka":MAILTO:tomas.perutka@oavm.cz
END:VEVENT
BEGIN:VEVENT
DTSTART;TZID=Europe/Prague:20190521T082500
DTEND;TZID=Europe/Prague:20190521T115500
DTSTAMP:20260424T221746
CREATED:20190403T143231Z
LAST-MODIFIED:20190403T143608Z
UID:6607-1558427100-1558439700@www.oavm.cz
SUMMARY:Vztahy - seminář pro 2. ročník
DESCRIPTION:Seminář se školní psycholožkou se uskuteční 2.-5. vyučovací hodinu.
URL:https://www.oavm.cz/akce/seminar-pro-2-rocnik-vztahy/
LOCATION:učebna 218\, Masarykova 101/18\, Valašské Meziříčí\, 757 01
ORGANIZER;CN="PaedDr. et Mgr. V%C4%9Bra Facov%C3%A1":MAILTO:verafacova@seznam.cz
END:VEVENT
BEGIN:VEVENT
DTSTART;VALUE=DATE:20190519
DTEND;VALUE=DATE:20190602
DTSTAMP:20260424T221746
CREATED:20190515T104358Z
LAST-MODIFIED:20190515T104527Z
UID:6854-1558224000-1559433599@www.oavm.cz
SUMMARY:Londýn - odborná praxe žáků 3. ročníku
DESCRIPTION:12 žáků 3. ročníku se zúčastní odborné praxe v londýnských firmách. Podrobné informace a průběžné zprávy z pobytu vč. fotografií najdete v aktualitách.
URL:https://www.oavm.cz/akce/londyn-odborna-praxe-zaku-3-rocniku/
LOCATION:Londýn\, London\, Spojené království
ORGANIZER;CN="Ing. Alena Machalov%C3%A1":MAILTO:alena.machalova@oavm.cz
END:VEVENT
BEGIN:VEVENT
DTSTART;TZID=Europe/Prague:20190506T094500
DTEND;TZID=Europe/Prague:20190506T113000
DTSTAMP:20260424T221746
CREATED:20190418T201559Z
LAST-MODIFIED:20190418T201559Z
UID:6712-1557135900-1557142200@www.oavm.cz
SUMMARY:The Last Wish - ang. divadlo pro 1. ročník
DESCRIPTION:Představení The Last Wish od činoherní skupiny Divadelní centrum Zlín. Je na motivy příběhu Jana Wericha. Jedná se o inscenovanou učební pomůcku. Začíná v 10:15 hodin.
URL:https://www.oavm.cz/akce/the-last-wish-ang-divadlo-pro-1-rocnik/
LOCATION:Kulturní zařízení města Valašského Meziříčí\, Komenského 1\, Valašské Meziříčí\, 757 01
CATEGORIES:vzdělávací
ORGANIZER;CN="Mgr. Lenka %C5%A0tef%C3%A1nikov%C3%A1":MAILTO:lenka.stefanikova@oavm.cz
END:VEVENT
BEGIN:VEVENT
DTSTART;TZID=Europe/Prague:20190503T073000
DTEND;TZID=Europe/Prague:20190503T115500
DTSTAMP:20260424T221746
CREATED:20190418T200905Z
LAST-MODIFIED:20190418T200905Z
UID:6710-1556868600-1556884500@www.oavm.cz
SUMMARY:Přednáška - hasiči
DESCRIPTION:Přednáška pro 1. ročník. Sraz žáků přímo v aule VOŠ.
URL:https://www.oavm.cz/akce/prednaska-hasici/
LOCATION:Aula VOŠ\, Na Šištotě 159\, Valašské Meziříčí\, 757 01
ORGANIZER;CN="Mgr. Andrea Hlavat%C3%A1":MAILTO:andrea.hlavata@oavm.cz
END:VEVENT
BEGIN:VEVENT
DTSTART;VALUE=DATE:20190503
DTEND;VALUE=DATE:20190504
DTSTAMP:20260424T221746
CREATED:20190418T200633Z
LAST-MODIFIED:20190418T200633Z
UID:6707-1556841600-1556927999@www.oavm.cz
SUMMARY:Rakovina - přednáška
DESCRIPTION:Přednáška pro 2 skupiny 3. ročníků. Pedagogický dozor a čas bude doplněn.
URL:https://www.oavm.cz/akce/rakovina-prednaska/
LOCATION:1. C\, Masarykova 101/18\, Valašské Meziříčí\, 757 01
CATEGORIES:vzdělávací
ORGANIZER;CN="Mgr. Andrea Hlavat%C3%A1":MAILTO:andrea.hlavata@oavm.cz
END:VEVENT
BEGIN:VEVENT
DTSTART;TZID=Europe/Prague:20190502T110000
DTEND;TZID=Europe/Prague:20190502T151500
DTSTAMP:20260424T221746
CREATED:20190403T142913Z
LAST-MODIFIED:20190403T142913Z
UID:6605-1556794800-1556810100@www.oavm.cz
SUMMARY:Divadelní představení - Lakomec
DESCRIPTION:Divadlo Radka Brzobohatého Praha. Určeno žákům 2. ročníku.
URL:https://www.oavm.cz/akce/divadelni-predstaveni-lakomec/
LOCATION:Kulturní zařízení města Valašského Meziříčí\, Komenského 1\, Valašské Meziříčí\, 757 01
CATEGORIES:vzdělávací
ORGANIZER;CN="Mgr. Tom%C3%A1%C5%A1 Jur%C3%AD%C4%8Dek":MAILTO:tomas.juricek@oavm.cz
END:VEVENT
BEGIN:VEVENT
DTSTART;TZID=Europe/Prague:20190411T080000
DTEND;TZID=Europe/Prague:20190411T100000
DTSTAMP:20260424T221746
CREATED:20190207T201906Z
LAST-MODIFIED:20190221T083050Z
UID:6357-1554969600-1554976800@www.oavm.cz
SUMMARY:Sv(j)et kolem - přednáška
DESCRIPTION:Za tři roky projeli desítky tisíc kilometrů a zažili neuvěřitelná dobrodružství. snadno přivykli kočovnému životu a lehkosti bytí\, které přináší cestování na kole s pěti brašnami. \nPřednáška pro žáky I. a II. ročníku. \nPřednáší:\nZuzana a Michal Klímkovi
URL:https://www.oavm.cz/akce/prednaska-3-r-spotrebitelska-problematika-2/
LOCATION:Aula VOŠ\, Na Šištotě 159\, Valašské Meziříčí\, 757 01
ATTACH;FMTTYPE=image/jpeg:https://www.oavm.cz/wp-content/uploads/2019/02/5729.jpg
ORGANIZER;CN="Mgr. Robert Sigmund%2C DiS.":MAILTO:robert.sigmund@oavm.cz
END:VEVENT
BEGIN:VEVENT
DTSTART;TZID=Europe/Prague:20190411T080000
DTEND;TZID=Europe/Prague:20190411T090000
DTSTAMP:20260424T221746
CREATED:20190403T141002Z
LAST-MODIFIED:20190403T141002Z
UID:6603-1554969600-1554973200@www.oavm.cz
SUMMARY:Interaktivní prezentace - Business Logic
DESCRIPTION:Nabídka praxe pro žáky 3. ročníků.
URL:https://www.oavm.cz/akce/interaktivni-prezentace-business-logic/
LOCATION:Učebna 364\, Obchodní akademie a VOŠ\, Valašské Meziříčí\, 757 01
ORGANIZER;CN="Mgr. Andrea Hlavat%C3%A1":MAILTO:andrea.hlavata@oavm.cz
END:VEVENT
BEGIN:VEVENT
DTSTART;VALUE=DATE:20190410
DTEND;VALUE=DATE:20190411
DTSTAMP:20260424T221746
CREATED:20190207T201906Z
LAST-MODIFIED:20190207T201906Z
UID:6300-1554854400-1554940799@www.oavm.cz
SUMMARY:Přednáška 3. r. - Spotřebitelská problematika
DESCRIPTION:Pořadatel – Ministerstvo průmyslu a obchodu ve spolupráci s Českou obchodní inspekcí. \nTýká se všech žáků 3. ročníku.
URL:https://www.oavm.cz/akce/prednaska-3-r-spotrebitelska-problematika/
LOCATION:Obchodní akademie a VOŠ\, Masarykova 101/18\, Krásno nad Bečvou\, Valašské Meziříčí\, 757 01
CATEGORIES:vzdělávací
END:VEVENT
BEGIN:VEVENT
DTSTART;TZID=Europe/Prague:20190403T153000
DTEND;TZID=Europe/Prague:20190403T170000
DTSTAMP:20260424T221746
CREATED:20190326T135349Z
LAST-MODIFIED:20190326T135349Z
UID:6583-1554305400-1554310800@www.oavm.cz
SUMMARY:Třídní schůzky
DESCRIPTION:Milí rodiče\, \nchci Vás pozvat na třídní schůzky\, které se budou konat ve středu 3. dubna 2019 od 15.30 h ve třídách. \nProgram: \n\nprospěch a absence ve třídách a jednotlivých žáků\nchování žáků\nplánované akce do konce školního roku (maturity\, praxe\, exkurze\, Chorvatsko\, …)\nvolitelné předměty\nnadační fond\ndiskuse\n\nOd 16.00 h jsou k dispozici ostatní vyučující\, kteří Vám sdělí další podrobnosti o prospěchu či neprospěchu. Budou rozmístěni dle rozpisu ve vestibulu školy. \nOd 16.30 h v učebně fiktivní firmy se bude konat pravidelné setkání rady rodičů. \nMgr. Andrea Hlavatá
URL:https://www.oavm.cz/akce/tridni-schuzky-2/
LOCATION:Obchodní akademie a VOŠ\, Masarykova 101/18\, Krásno nad Bečvou\, Valašské Meziříčí\, 757 01
ORGANIZER;CN="Mgr. Andrea Hlavat%C3%A1":MAILTO:andrea.hlavata@oavm.cz
END:VEVENT
BEGIN:VEVENT
DTSTART;VALUE=DATE:20190329
DTEND;VALUE=DATE:20190330
DTSTAMP:20260424T221746
CREATED:20190206T195323Z
LAST-MODIFIED:20190207T191427Z
UID:6238-1553817600-1553903999@www.oavm.cz
SUMMARY:Celostátní matematická soutěž
DESCRIPTION:
URL:https://www.oavm.cz/akce/celostatni-matematicka-soutez/
LOCATION:Aula VOŠ\, Na Šištotě 159\, Valašské Meziříčí\, 757 01
CATEGORIES:vzdělávací
ORGANIZER;CN="Mgr. V%C3%ADt Han%C3%A1k":MAILTO:vit.hanak@oavm.cz
END:VEVENT
BEGIN:VEVENT
DTSTART;VALUE=DATE:20190328
DTEND;VALUE=DATE:20190329
DTSTAMP:20260424T221746
CREATED:20190215T102652Z
LAST-MODIFIED:20190215T102652Z
UID:6321-1553731200-1553817599@www.oavm.cz
SUMMARY:Projektový den 4. A\, 4. B
DESCRIPTION:Organizátorka: Ing. Stibůrková.  \nBližší informace budou zveřejněny.
URL:https://www.oavm.cz/akce/projektovy-den-4-a-4-b/
LOCATION:Obchodní akademie a VOŠ\, Masarykova 101/18\, Krásno nad Bečvou\, Valašské Meziříčí\, 757 01
CATEGORIES:vzdělávací
ORGANIZER;CN="Ing. Alena Stib%C5%AFrkov%C3%A1":MAILTO:alena.stiburkova@oavm.cz
END:VEVENT
BEGIN:VEVENT
DTSTART;TZID=Europe/Prague:20190326T151500
DTEND;TZID=Europe/Prague:20190326T164500
DTSTAMP:20260424T221746
CREATED:20190207T194559Z
LAST-MODIFIED:20190207T201503Z
UID:6298-1553613300-1553618700@www.oavm.cz
SUMMARY:Přípravný kurz CJL na přijímací zkoušky
DESCRIPTION:Podrobnosti najdete na této stránce.
URL:https://www.oavm.cz/akce/pripravny-kurz-cjl-na-prijimaci-zkousky-5/
LOCATION:Obchodní akademie a VOŠ\, Masarykova 101/18\, Krásno nad Bečvou\, Valašské Meziříčí\, 757 01
END:VEVENT
BEGIN:VEVENT
DTSTART;VALUE=DATE:20190326
DTEND;VALUE=DATE:20190327
DTSTAMP:20260424T221746
CREATED:20190206T195323Z
LAST-MODIFIED:20190311T154216Z
UID:6500-1553558400-1553644799@www.oavm.cz
SUMMARY:Krajské kolo soutěže v grafických předmětech
DESCRIPTION:Soutěžní disciplíny: \n\npsaní na klávesnici\,\nkorektura textu\,\nzáznam mluveného slova\,\nwordprocessing.\n\nÚčastníci: \n\nAdéla Kubenková 3. A\nFilip Krutil 1. D\nPetr Škrobák 2. B\nRoman Štěrba 3. B\n\n 
URL:https://www.oavm.cz/akce/krajske-kolo-souteze-v-grafickych-predmetech/
LOCATION:Obchodní akademie Kroměříž\, Obvodová 3503\, Kroměříž\, 767 01
CATEGORIES:vzdělávací
ORGANIZER;CN="Mgr. Robert Sigmund%2C DiS.":MAILTO:robert.sigmund@oavm.cz
END:VEVENT
BEGIN:VEVENT
DTSTART;TZID=Europe/Prague:20190325T151500
DTEND;TZID=Europe/Prague:20190325T164500
DTSTAMP:20260424T221746
CREATED:20190207T194559Z
LAST-MODIFIED:20190207T201428Z
UID:6296-1553526900-1553532300@www.oavm.cz
SUMMARY:Přípravný kurz MAT na přijímací zkoušky
DESCRIPTION:Podrobnosti najdete na této stránce.
URL:https://www.oavm.cz/akce/pripravny-kurz-mat-na-prijimaci-zkousky-5/
LOCATION:Obchodní akademie a VOŠ\, Masarykova 101/18\, Krásno nad Bečvou\, Valašské Meziříčí\, 757 01
END:VEVENT
BEGIN:VEVENT
DTSTART;TZID=Europe/Prague:20190322T110000
DTEND;TZID=Europe/Prague:20190322T160000
DTSTAMP:20260424T221746
CREATED:20190206T194820Z
LAST-MODIFIED:20190320T094130Z
UID:6236-1553252400-1553270400@www.oavm.cz
SUMMARY:Matematická soutěž Klokan
DESCRIPTION:Zúčastní se jen žáci\, kteří se přihlásíli u svých vyučujích MAT.
URL:https://www.oavm.cz/akce/matematicka-soutez-klokan/
LOCATION:Učebna 364\, Obchodní akademie a VOŠ\, Valašské Meziříčí\, 757 01
CATEGORIES:vzdělávací
ORGANIZER;CN="RNDr. Eva %C4%8Ctver%C3%A1%C4%8Dkov%C3%A1":MAILTO:eva.ctverackova@oavm.cz
END:VEVENT
BEGIN:VEVENT
DTSTART;VALUE=DATE:20190320
DTEND;VALUE=DATE:20190323
DTSTAMP:20260424T221746
CREATED:20190207T192747Z
LAST-MODIFIED:20190207T193956Z
UID:6267-1553040000-1553299199@www.oavm.cz
SUMMARY:Mezinárodní veletrh fiktivních firem Praha
DESCRIPTION:25. ročník mezinárodního veletrhu fiktivních firem. Veletrh pořádá FF Antre\, s. r. o. z OA Heroldovy Sady\, Praha 10. \nZúčastní se vybraní žáci 4. A a 4. B\, kteří mají fiktivní firmu. \nPropozice veletrhu:\nPraha mezinárodní 2019.doc
URL:https://www.oavm.cz/akce/veletrh-fiktivnich-firem-praha/
LOCATION:Výstaviště Praha Holešovice\, Areál Výstaviště 67\, Praha 7\, 170 00
ORGANIZER;CN="Ing. Alena Machalov%C3%A1":MAILTO:alena.machalova@oavm.cz
END:VEVENT
BEGIN:VEVENT
DTSTART;TZID=Europe/Prague:20190319T151500
DTEND;TZID=Europe/Prague:20190319T164500
DTSTAMP:20260424T221746
CREATED:20190207T194559Z
LAST-MODIFIED:20190207T201344Z
UID:6294-1553008500-1553013900@www.oavm.cz
SUMMARY:Přípravný kurz CJL na přijímací zkoušky
DESCRIPTION:Podrobnosti najdete na této stránce.
URL:https://www.oavm.cz/akce/pripravny-kurz-cjl-na-prijimaci-zkousky-4/
LOCATION:Obchodní akademie a VOŠ\, Masarykova 101/18\, Krásno nad Bečvou\, Valašské Meziříčí\, 757 01
END:VEVENT
BEGIN:VEVENT
DTSTART;TZID=Europe/Prague:20190319T082500
DTEND;TZID=Europe/Prague:20190319T101000
DTSTAMP:20260424T221746
CREATED:20190222T090152Z
LAST-MODIFIED:20190222T090152Z
UID:6374-1552983900-1552990200@www.oavm.cz
SUMMARY:Školní kolo matematické soutěže pro 1. ročník
DESCRIPTION:Soutěž pro naše žáky z 1. ročníku. Žáky do soutěže vyberou vyučující MAT. Žáci\, kteří se umístí na 1. a 2. místě\, postoupí do celostátního kola.
URL:https://www.oavm.cz/akce/skolni-kolo-matematicke-souteze-pro-1-rocnik/
LOCATION:učebna 254\, Masarykova 101/18\, Valašské Meziříčí\, 757 01
CATEGORIES:vzdělávací
ORGANIZER;CN="Mgr. Marek Zahradn%C3%AD%C4%8Dek":MAILTO:marek.zahradnicek@oavm.cz
END:VEVENT
BEGIN:VEVENT
DTSTART;VALUE=DATE:20190319
DTEND;VALUE=DATE:20190320
DTSTAMP:20260424T221746
CREATED:20190311T161948Z
LAST-MODIFIED:20190311T161948Z
UID:6509-1552953600-1553039999@www.oavm.cz
SUMMARY:Okrskové kolo v halové kopané
DESCRIPTION:
URL:https://www.oavm.cz/akce/okrskove-kolo-v-halove-kopane/
LOCATION:SPŠ stavební Valašské Meziříčí\, Máchova 628/10\, Valašské Meziříčí\, 757 01
CATEGORIES:sportovní
ORGANIZER;CN="Mgr. Dalibor Va%C5%A1ek":MAILTO:dalibor.vasek@oavm.cz
END:VEVENT
BEGIN:VEVENT
DTSTART;TZID=Europe/Prague:20190318T151500
DTEND;TZID=Europe/Prague:20190318T164500
DTSTAMP:20260424T221746
CREATED:20190207T194559Z
LAST-MODIFIED:20190207T201311Z
UID:6292-1552922100-1552927500@www.oavm.cz
SUMMARY:Přípravný kurz MAT na přijímací zkoušky
DESCRIPTION:Podrobnosti najdete na této stránce.
URL:https://www.oavm.cz/akce/pripravny-kurz-mat-na-prijimaci-zkousky-4/
LOCATION:Obchodní akademie a VOŠ\, Masarykova 101/18\, Krásno nad Bečvou\, Valašské Meziříčí\, 757 01
END:VEVENT
BEGIN:VEVENT
DTSTART;TZID=Europe/Prague:20190313T090000
DTEND;TZID=Europe/Prague:20190313T160000
DTSTAMP:20260424T221746
CREATED:20190311T161055Z
LAST-MODIFIED:20190311T161419Z
UID:6504-1552467600-1552492800@www.oavm.cz
SUMMARY:Veletrh pracovních příležitostí
DESCRIPTION:Na projektu veletrhu se tvůrčím dílem podílí Úřad práce\, město Valašské Meziříčí a Kulturní zařízení. \nHlavní cíle Veletrhu pracovních příležitostí a přínos pro budoucí uchazeče o práci jsou: \n\npředstavit absolventům pracovní možnosti v regionu\,\nodstranění bariér mezi budoucím uchazečem o práci a zaměstnavatelem.\n\nRozpis tříd a pedagogický doprovod: \n3A – 3\, 4 VH – JEZ\n3B – 4\, 5 VH – SIG\n3C – 6 VH – PAL\n3D – 4\, 5 VH – SIG\n4A – 3\, 4 VH – BEL\n4B – 4\, 5 VH – MACH\n4C – 5 VH – GAB\n4D – 3\, 4 VH – VAS
URL:https://www.oavm.cz/akce/veletrh-pracovnich-prilezitosti/
LOCATION:Kulturní zařízení města Valašského Meziříčí\, Komenského 1\, Valašské Meziříčí\, 757 01
END:VEVENT
BEGIN:VEVENT
DTSTART;TZID=Europe/Prague:20190312T151500
DTEND;TZID=Europe/Prague:20190312T164500
DTSTAMP:20260424T221746
CREATED:20190207T194559Z
LAST-MODIFIED:20190207T200252Z
UID:6287-1552403700-1552409100@www.oavm.cz
SUMMARY:Přípravný kurz CJL na přijímací zkoušky
DESCRIPTION:Podrobnosti najdete na této stránce.
URL:https://www.oavm.cz/akce/pripravny-kurz-cjl-na-prijimaci-zkousky-3/
LOCATION:Obchodní akademie a VOŠ\, Masarykova 101/18\, Krásno nad Bečvou\, Valašské Meziříčí\, 757 01
END:VEVENT
BEGIN:VEVENT
DTSTART;TZID=Europe/Prague:20190311T151500
DTEND;TZID=Europe/Prague:20190311T164500
DTSTAMP:20260424T221746
CREATED:20190207T194559Z
LAST-MODIFIED:20190207T200221Z
UID:6285-1552317300-1552322700@www.oavm.cz
SUMMARY:Přípravný kurz MAT na přijímací zkoušky
DESCRIPTION:Podrobnosti najdete na této stránce.
URL:https://www.oavm.cz/akce/pripravny-kurz-mat-na-prijimaci-zkousky-3/
LOCATION:Obchodní akademie a VOŠ\, Masarykova 101/18\, Krásno nad Bečvou\, Valašské Meziříčí\, 757 01
END:VEVENT
END:VCALENDAR