BEGIN:VCALENDAR
VERSION:2.0
PRODID:-//Obchodní akademie a VOŠ Valašské Meziříčí - ECPv6.15.20//NONSGML v1.0//EN
CALSCALE:GREGORIAN
METHOD:PUBLISH
X-WR-CALNAME:Obchodní akademie a VOŠ Valašské Meziříčí
X-ORIGINAL-URL:https://www.oavm.cz
X-WR-CALDESC:Akce na Obchodní akademie a VOŠ Valašské Meziříčí
REFRESH-INTERVAL;VALUE=DURATION:PT1H
X-Robots-Tag:noindex
X-PUBLISHED-TTL:PT1H
BEGIN:VTIMEZONE
TZID:Europe/Prague
BEGIN:DAYLIGHT
TZOFFSETFROM:+0100
TZOFFSETTO:+0200
TZNAME:CEST
DTSTART:20180325T010000
END:DAYLIGHT
BEGIN:STANDARD
TZOFFSETFROM:+0200
TZOFFSETTO:+0100
TZNAME:CET
DTSTART:20181028T010000
END:STANDARD
BEGIN:DAYLIGHT
TZOFFSETFROM:+0100
TZOFFSETTO:+0200
TZNAME:CEST
DTSTART:20190331T010000
END:DAYLIGHT
BEGIN:STANDARD
TZOFFSETFROM:+0200
TZOFFSETTO:+0100
TZNAME:CET
DTSTART:20191027T010000
END:STANDARD
BEGIN:DAYLIGHT
TZOFFSETFROM:+0100
TZOFFSETTO:+0200
TZNAME:CEST
DTSTART:20200329T010000
END:DAYLIGHT
BEGIN:STANDARD
TZOFFSETFROM:+0200
TZOFFSETTO:+0100
TZNAME:CET
DTSTART:20201025T010000
END:STANDARD
END:VTIMEZONE
BEGIN:VEVENT
DTSTART;TZID=Europe/Prague:20191113T163000
DTEND;TZID=Europe/Prague:20191113T173000
DTSTAMP:20260424T172738
CREATED:20191105T071926Z
LAST-MODIFIED:20191105T071926Z
UID:7625-1573662600-1573666200@www.oavm.cz
SUMMARY:Rada rodičů
DESCRIPTION:Setkání zástupců tříd a vedení školy. Koná se ve fiktivní firmě.
URL:https://www.oavm.cz/akce/rada-rodicu/
LOCATION:Obchodní akademie a VOŠ\, Masarykova 101/18\, Krásno nad Bečvou\, Valašské Meziříčí\, 757 01
END:VEVENT
BEGIN:VEVENT
DTSTART;TZID=Europe/Prague:20191113T153000
DTEND;TZID=Europe/Prague:20191113T160000
DTSTAMP:20260424T172738
CREATED:20191014T195445Z
LAST-MODIFIED:20191014T195531Z
UID:7559-1573659000-1573660800@www.oavm.cz
SUMMARY:Třídní schůzky a informace o prospěchu
DESCRIPTION:Třídní schůzky proběhnou v kmenových třídách. Přehled vyučujících a tříd bude vyvěšen ve vestibulu školy.  \nPo skončení třídních schůzek proběhnou konzultace k prospěchu žáků u jednotlivých vyučujících od 16:00 do 17:00.
URL:https://www.oavm.cz/akce/tridni-schuzky-a-informace-o-prospechu/
LOCATION:Obchodní akademie a VOŠ\, Masarykova 101/18\, Krásno nad Bečvou\, Valašské Meziříčí\, 757 01
ORGANIZER;CN="Mgr. Andrea Hlavat%C3%A1":MAILTO:andrea.hlavata@oavm.cz
END:VEVENT
BEGIN:VEVENT
DTSTART;VALUE=DATE:20191113
DTEND;VALUE=DATE:20191114
DTSTAMP:20260424T172738
CREATED:20190923T145327Z
LAST-MODIFIED:20190923T150718Z
UID:7441-1573603200-1573689599@www.oavm.cz
SUMMARY:Florbal - školní kolo dívky
DESCRIPTION:Účastní se jen přihlášení žáci a řídí se pokyny organizátora\, které budou zveřejněny.
URL:https://www.oavm.cz/akce/florbal-skolni-kolo-divky-2/
LOCATION:tělocvična Obchodní akademie\, Masarykova 101/18\, Valašské Meziříčí\, 757 01
CATEGORIES:sportovní
ORGANIZER;CN="Mgr. Petr Pokorn%C3%BD":MAILTO:petr. pokorny@oavm.cz
END:VEVENT
BEGIN:VEVENT
DTSTART;TZID=Europe/Prague:20191111T101500
DTEND;TZID=Europe/Prague:20191111T110000
DTSTAMP:20260424T172738
CREATED:20191105T062522Z
LAST-MODIFIED:20191105T062522Z
UID:7620-1573467300-1573470000@www.oavm.cz
SUMMARY:Přednáška spisovatelky Aleny Mornštajnové
DESCRIPTION:Přednáška pro všechny 4. ročníky.
URL:https://www.oavm.cz/akce/prednaska-spisovatelky-aleny-mornstajnove/
LOCATION:Učebna 364\, Obchodní akademie a VOŠ\, Valašské Meziříčí\, 757 01
CATEGORIES:vzdělávací
ORGANIZER;CN="Mgr. Tom%C3%A1%C5%A1 Jur%C3%AD%C4%8Dek":MAILTO:tomas.juricek@oavm.cz
END:VEVENT
BEGIN:VEVENT
DTSTART;TZID=Europe/Prague:20191109T080000
DTEND;TZID=Europe/Prague:20191109T120000
DTSTAMP:20260424T172738
CREATED:20190923T150013Z
LAST-MODIFIED:20190923T150459Z
UID:7437-1573286400-1573300800@www.oavm.cz
SUMMARY:Den otevřených dveří - sobota
DESCRIPTION:V pátek 8. listopadu a v sobotu 9. listopadu se koná den otevřených dveří. Přijďte se podívat\, jak probíhá výuka\, jak to u nás vypadá a co všechno vás čeká\, když se rozhodnete pro naši školu. \nJste srdečně vítáni!
URL:https://www.oavm.cz/akce/den-otevrenych-dveri-4/
LOCATION:Obchodní akademie a VOŠ\, Masarykova 101/18\, Krásno nad Bečvou\, Valašské Meziříčí\, 757 01
CATEGORIES:DOD
ORGANIZER;CN="Obchodn%C3%AD akademie a VO%C5%A0 Vala%C5%A1sk%C3%A9 Mezi%C5%99%C3%AD%C4%8D%C3%AD":MAILTO:oavalmez@oavm.cz
END:VEVENT
BEGIN:VEVENT
DTSTART;TZID=Europe/Prague:20191108T080000
DTEND;TZID=Europe/Prague:20191108T160000
DTSTAMP:20260424T172738
CREATED:20190923T150013Z
LAST-MODIFIED:20190923T150523Z
UID:7434-1573200000-1573228800@www.oavm.cz
SUMMARY:Den otevřených dveří - pátek
DESCRIPTION:V pátek 8. listopadu a v sobotu 9. listopadu se koná den otevřených dveří. Přijďte se podívat\, jak probíhá výuka\, jak to u nás vypadá a co všechno vás čeká\, když se rozhodnete pro naši školu. \nJste srdečně vítáni!
URL:https://www.oavm.cz/akce/den-otevrenych-dveri-3/
LOCATION:Obchodní akademie a VOŠ\, Masarykova 101/18\, Krásno nad Bečvou\, Valašské Meziříčí\, 757 01
CATEGORIES:DOD
ORGANIZER;CN="Obchodn%C3%AD akademie a VO%C5%A0 Vala%C5%A1sk%C3%A9 Mezi%C5%99%C3%AD%C4%8D%C3%AD":MAILTO:oavalmez@oavm.cz
END:VEVENT
BEGIN:VEVENT
DTSTART;VALUE=DATE:20191024
DTEND;VALUE=DATE:20191025
DTSTAMP:20260424T172738
CREATED:20191014T195120Z
LAST-MODIFIED:20191014T195120Z
UID:7556-1571875200-1571961599@www.oavm.cz
SUMMARY:Exkurze - Probační a mediační služba Vsetín
DESCRIPTION:Týká se tříd 3. VOŠ a 4. C.
URL:https://www.oavm.cz/akce/exkurze-probacni-a-mediacni-sluzba-vsetin/
LOCATION:Vsetín\, Vsetín\, 755 01
CATEGORIES:exkurze,vzdělávací
ORGANIZER;CN="Mgr. Lenka Volkov%C3%A1 Pal%C3%A1tov%C3%A1":MAILTO:lenka.volkova@oavm.cz
END:VEVENT
BEGIN:VEVENT
DTSTART;TZID=Europe/Prague:20191022T130000
DTEND;TZID=Europe/Prague:20191022T150000
DTSTAMP:20260424T172738
CREATED:20191014T073832Z
LAST-MODIFIED:20191014T073832Z
UID:7526-1571749200-1571756400@www.oavm.cz
SUMMARY:Pišqworky 2019 - školní kolo
DESCRIPTION:Dne 22. října 2019 se uskuteční školní kolo populární soutěže Pišqworky 2019. Zveme všechny žáky naší školy k účasti. Podmínkou je vytvořit pětičlenný tým s jedním kapitánem a přihlásit se do pátku 18. října 2019 panu učiteli Václavu Majkusovi (kabinet 113) nebo v hodinách informatiky přítomnému učiteli.  \nSoutěž proběhne v učebnách na VOŠ.
URL:https://www.oavm.cz/akce/pisqworky-2019-skolni-kolo/
LOCATION:Vyšší odborná škola\, Na Šištotě 159\, Valašské Meziříčí\, 757 01
ORGANIZER;CN="Ing. V%C3%A1clav Majkus":MAILTO:vaclav.majkus@oavm.cz
END:VEVENT
BEGIN:VEVENT
DTSTART;VALUE=DATE:20191022
DTEND;VALUE=DATE:20191023
DTSTAMP:20260424T172738
CREATED:20191017T070121Z
LAST-MODIFIED:20191017T072122Z
UID:7569-1571702400-1571788799@www.oavm.cz
SUMMARY:2. kolo soutěže účetních znalostí
DESCRIPTION:Zúčastní se vybraní žáci oboru Obchodní akademie. Povoleny jsou účtové rozvrhy a kalkulačky.
URL:https://www.oavm.cz/akce/1-kolo-souteze-ucetnich-znalosti-4-b-2-2/
LOCATION:Obchodní akademie a VOŠ\, Masarykova 101/18\, Krásno nad Bečvou\, Valašské Meziříčí\, 757 01
CATEGORIES:vzdělávací
ORGANIZER;CN="Ing. Alena Stib%C5%AFrkov%C3%A1":MAILTO:alena.stiburkova@oavm.cz
END:VEVENT
BEGIN:VEVENT
DTSTART;TZID=Europe/Prague:20191017T073000
DTEND;TZID=Europe/Prague:20191017T124500
DTSTAMP:20260424T172738
CREATED:20191014T194807Z
LAST-MODIFIED:20191014T194807Z
UID:7554-1571297400-1571316300@www.oavm.cz
SUMMARY:Okrskové kolo volejbal chlapci
DESCRIPTION:
URL:https://www.oavm.cz/akce/okrskove-kolo-volejbal-chlapci/
LOCATION:tělocvična Obchodní akademie\, Masarykova 101/18\, Valašské Meziříčí\, 757 01
CATEGORIES:sportovní
ORGANIZER;CN="Mgr. Ivo Kol%C3%A1%C4%8Dek":MAILTO:ivo.kolacek@oavm.cz
END:VEVENT
BEGIN:VEVENT
DTSTART;VALUE=DATE:20191017
DTEND;VALUE=DATE:20191018
DTSTAMP:20260424T172738
CREATED:20190923T145327Z
LAST-MODIFIED:20190923T145529Z
UID:7432-1571270400-1571356799@www.oavm.cz
SUMMARY:Basketbal - školní kolo dívky
DESCRIPTION:Účastní se jen přihlášení žáci a řídí se pokyny organizátora\, které budou zveřejněny.
URL:https://www.oavm.cz/akce/basketbal-skolni-kolo-divky/
LOCATION:tělocvična Obchodní akademie\, Masarykova 101/18\, Valašské Meziříčí\, 757 01
CATEGORIES:sportovní
ORGANIZER;CN="Mgr. Stanislav Z%C3%A1le%C5%A1%C3%A1k":MAILTO:stanislav.zalesak@oavm.cz
END:VEVENT
BEGIN:VEVENT
DTSTART;VALUE=DATE:20191015
DTEND;VALUE=DATE:20191016
DTSTAMP:20260424T172738
CREATED:20191011T120121Z
LAST-MODIFIED:20191011T120242Z
UID:7524-1571097600-1571183999@www.oavm.cz
SUMMARY:1. kolo soutěže účetních znalostí - 4. A
DESCRIPTION:Soutěž je určena maturantům oboru Obchodní akademie\, v tomto termínu se zúčastní třída 4. A. Znalostní test v rozsahu 37 otázek proběhne v rámci výuky EKU na PC. Povoleny jsou účtové rozvrhy a kalkulačky. Vyhodnocení úspěšnosti bude žákům ihned k dispozici.
URL:https://www.oavm.cz/akce/1-kolo-souteze-ucetnich-znalosti-4-b-2/
LOCATION:Obchodní akademie a VOŠ\, Masarykova 101/18\, Krásno nad Bečvou\, Valašské Meziříčí\, 757 01
CATEGORIES:vzdělávací
ORGANIZER;CN="Ing. Alena Stib%C5%AFrkov%C3%A1":MAILTO:alena.stiburkova@oavm.cz
END:VEVENT
BEGIN:VEVENT
DTSTART;VALUE=DATE:20191014
DTEND;VALUE=DATE:20191015
DTSTAMP:20260424T172738
CREATED:20191011T120121Z
LAST-MODIFIED:20191011T120121Z
UID:7522-1571011200-1571097599@www.oavm.cz
SUMMARY:1. kolo soutěže účetních znalostí - 4. B
DESCRIPTION:Soutěž je určena maturantům oboru Obchodní akademie\, v tomto termínu se zúčastní třída 4. B. Znalostní test v rozsahu 37 otázek proběhne v rámci výuky EKU na PC. Povoleny jsou účtové rozvrhy a kalkulačky. Vyhodnocení úspěšnosti bude žákům ihned k dispozici.
URL:https://www.oavm.cz/akce/1-kolo-souteze-ucetnich-znalosti-4-b/
LOCATION:Obchodní akademie a VOŠ\, Masarykova 101/18\, Krásno nad Bečvou\, Valašské Meziříčí\, 757 01
CATEGORIES:vzdělávací
ORGANIZER;CN="Ing. Alena Stib%C5%AFrkov%C3%A1":MAILTO:alena.stiburkova@oavm.cz
END:VEVENT
BEGIN:VEVENT
DTSTART;VALUE=DATE:20191014
DTEND;VALUE=DATE:20191015
DTSTAMP:20260424T172738
CREATED:20190923T145327Z
LAST-MODIFIED:20190923T150938Z
UID:7429-1571011200-1571097599@www.oavm.cz
SUMMARY:Basketbal - školní kolo chlapci
DESCRIPTION:Účastní se jen přihlášení žáci a řídí se pokyny organizátora\, které budou zveřejněny.
URL:https://www.oavm.cz/akce/basketbal-skolni-kolo-hosi/
LOCATION:tělocvična Obchodní akademie\, Masarykova 101/18\, Valašské Meziříčí\, 757 01
CATEGORIES:sportovní
ORGANIZER;CN="Mgr. Stanislav Z%C3%A1le%C5%A1%C3%A1k":MAILTO:stanislav.zalesak@oavm.cz
END:VEVENT
BEGIN:VEVENT
DTSTART;VALUE=DATE:20191009
DTEND;VALUE=DATE:20191011
DTSTAMP:20260424T172738
CREATED:20190630T094231Z
LAST-MODIFIED:20190916T162123Z
UID:7392-1570579200-1570751999@www.oavm.cz
SUMMARY:Valašský datel 2019
DESCRIPTION:Soutěž v grafických disciplínách pro 2. ročníky středních škol a mladší talentované. Vyplněné přihlášky zašlete prosím nejpozději do čtvrtku 3. října 2019 na e-mailové adresy: ludmila.belikova@oavm.cz a robert.sigmund@oavm.cz \n  \nPozvánka\nPřihláška
URL:https://www.oavm.cz/akce/valassky-datel-2019/
LOCATION:Obchodní akademie a VOŠ\, Masarykova 101/18\, Krásno nad Bečvou\, Valašské Meziříčí\, 757 01
ORGANIZER;CN="Mgr. Robert Sigmund%2C DiS.":MAILTO:robert.sigmund@oavm.cz
END:VEVENT
BEGIN:VEVENT
DTSTART;TZID=Europe/Prague:20191001T140000
DTEND;TZID=Europe/Prague:20191001T160000
DTSTAMP:20260424T172738
CREATED:20190703T155709Z
LAST-MODIFIED:20190703T162830Z
UID:7139-1569938400-1569945600@www.oavm.cz
SUMMARY:Imatrikulace U3V
DESCRIPTION:Imatrikulace posluchačů Univerzity třetího věku se uskuteční v 1. patře v aule VOŠ v ulici Na Šištotě.
URL:https://www.oavm.cz/akce/imatrikulace-u3v/
LOCATION:Aula VOŠ\, Na Šištotě 159\, Valašské Meziříčí\, 757 01
ORGANIZER;CN="PaedDr. et Mgr. V%C4%9Bra Facov%C3%A1":MAILTO:verafacova@seznam.cz
END:VEVENT
BEGIN:VEVENT
DTSTART;TZID=Europe/Prague:20190919T100000
DTEND;TZID=Europe/Prague:20190919T120000
DTSTAMP:20260424T172738
CREATED:20190630T094231Z
LAST-MODIFIED:20190906T074428Z
UID:7358-1568887200-1568894400@www.oavm.cz
SUMMARY:VOŠ - další kolo přijímacího řízení
DESCRIPTION:Obchodní akademie a VOŠ vyhlašuje další kolo přijímacího řízení. \n\ntermín přijímacího řízení – 19. září 2019\, 10:00 hodin v aule VOŠ\n\nPřihlášky: \nBěžné přihlášky pro studium VOŠ si vyzvedněte na své střední škole nebo na Obchodní akademii ve Valašském Meziříčí nebo stáhněte zde: \n  \nPřihláška ke studiu\n  \nK přijímacímu řízení si přineste: \n\npozvánku k přijímacímu řízení\,\nplatný občanský průkaz\,\nstudenti\, kteří maturovali po odeslání přihlášky\, nebo jim následující materiály v přihlášce ke studiu chybí\, předloží fotokopii vysvědčení z posledního ročníku střední školy a fotokopii maturitního vysvědčení\, která bude ověřena notářem nebo matrikou (nesmí být ověřena školou\, které k tomu nejsou kompetentní)\, součástí přihlášky je také strukturovaný životopis.\npřihlášku je možné přinést až k přijímacímu řízení
URL:https://www.oavm.cz/akce/vos-2-kolo-prijimaciho-rizeni-2/
LOCATION:Aula VOŠ\, Na Šištotě 159\, Valašské Meziříčí\, 757 01
ORGANIZER;CN="Daniela Zemanov%C3%A1":MAILTO:daniela.zemanova@oavm.cz
END:VEVENT
BEGIN:VEVENT
DTSTART;TZID=Europe/Prague:20190912T071500
DTEND;TZID=Europe/Prague:20190912T120000
DTSTAMP:20260424T172738
CREATED:20190815T092303Z
LAST-MODIFIED:20190815T092839Z
UID:7280-1568272500-1568289600@www.oavm.cz
SUMMARY:Ústní část maturitní zkoušky
DESCRIPTION:Ústní část maturitní zkoušky se bude konat v nejvyšším patře budovy VOŠ od 7:15 hodin.
URL:https://www.oavm.cz/akce/ustni/
LOCATION:Vyšší odborná škola\, Na Šištotě 159\, Valašské Meziříčí\, 757 01
ORGANIZER;CN="Mgr. Andrea Hlavat%C3%A1":MAILTO:andrea.hlavata@oavm.cz
END:VEVENT
BEGIN:VEVENT
DTSTART;TZID=Europe/Prague:20190906T071500
DTEND;TZID=Europe/Prague:20190906T120000
DTSTAMP:20260424T172738
CREATED:20190815T092303Z
LAST-MODIFIED:20190826T170643Z
UID:7278-1567754100-1567771200@www.oavm.cz
SUMMARY:Praktická maturitní zkouška
DESCRIPTION:
URL:https://www.oavm.cz/akce/prakticka-maturitni-zkouska/
LOCATION:učebna 209 školka\, Masarykova 101/18\, Valašské Meziříčí\, 757 01
ORGANIZER;CN="Mgr. Andrea Hlavat%C3%A1":MAILTO:andrea.hlavata@oavm.cz
END:VEVENT
BEGIN:VEVENT
DTSTART;TZID=Europe/Prague:20190905T130000
DTEND;TZID=Europe/Prague:20190905T140000
DTSTAMP:20260424T172738
CREATED:20190802T074758Z
LAST-MODIFIED:20190802T075526Z
UID:7263-1567688400-1567692000@www.oavm.cz
SUMMARY:Zápis do 1. ročníku BC - kombinované studium
DESCRIPTION:Zápis do 1. ročníku bakalářských studijních programů pro KOMBINOVANÉ studium (1.\, 2.\, 3. kolo přijímacího řízení) se uskuteční \n5. září 2019 v přednáškové místnosti v 1. patře VOŠ vE 13:00 hodin. \n  \nPodrobné informace
URL:https://www.oavm.cz/akce/zapis-do-1-rocniku-bc-prezencni-studium-2/
LOCATION:Aula VOŠ\, Na Šištotě 159\, Valašské Meziříčí\, 757 01
ORGANIZER;CN="Daniela Zemanov%C3%A1":MAILTO:daniela.zemanova@oavm.cz
END:VEVENT
BEGIN:VEVENT
DTSTART;TZID=Europe/Prague:20190905T100000
DTEND;TZID=Europe/Prague:20190905T110000
DTSTAMP:20260424T172738
CREATED:20190802T074758Z
LAST-MODIFIED:20190802T074905Z
UID:7257-1567677600-1567681200@www.oavm.cz
SUMMARY:Zápis do 1. ročníku BC - prezenční studium
DESCRIPTION:Zápis do 1. ročníku bakalářských studijních programů pro PREZENČNÍ studium (1.\, 2.\, 3. kolo přijímacího řízení) se uskuteční \n5. září 2019 v přednáškové místnosti v 1. patře VOŠ v 10:00 hodin. \n  \nPodrobné informace
URL:https://www.oavm.cz/akce/zapis-do-1-rocniku-bc-prezencni-studium/
LOCATION:Aula VOŠ\, Na Šištotě 159\, Valašské Meziříčí\, 757 01
ORGANIZER;CN="Daniela Zemanov%C3%A1":MAILTO:daniela.zemanova@oavm.cz
END:VEVENT
BEGIN:VEVENT
DTSTART;TZID=Europe/Prague:20190902T080000
DTEND;TZID=Europe/Prague:20190902T110000
DTSTAMP:20260424T172738
CREATED:20190822T134421Z
LAST-MODIFIED:20190822T134421Z
UID:7285-1567411200-1567422000@www.oavm.cz
SUMMARY:Zápis a výuka VOŠ 2019/2020
DESCRIPTION:Výuka VOŠ ve školním roce 2019/2020 \n  \nV pondělí 2. září 2019 se koná v budově VOŠ v místnosti č. 205 zápis studentů do jednotlivých ročníků VOŠ dle tohoto harmonogramu: \n  \n\nročník                         8.00 hodin\nročník                         9.00 hodin\nročník                         10.00 hodin\n\n  \nPravidelná výuka pak začne od úterý 3. září 2019 dle rozvrhu\, který od pátku 29. srpna 2019 najdete na webu školy nebo v informačním systému Bakaláři.
URL:https://www.oavm.cz/akce/zapis-a-vyuka-vos-2019-2020/
LOCATION:VOŠ místnost č. 205\, Na Šištotě 159\, Valašské Meziříčí\, 757 01
ORGANIZER;CN="Daniela Zemanov%C3%A1":MAILTO:daniela.zemanova@oavm.cz
END:VEVENT
BEGIN:VEVENT
DTSTART;TZID=Europe/Prague:20190828T080000
DTEND;TZID=Europe/Prague:20190828T100000
DTSTAMP:20260424T172738
CREATED:20190630T094231Z
LAST-MODIFIED:20190802T081317Z
UID:7085-1566979200-1566986400@www.oavm.cz
SUMMARY:VOŠ - další kolo přijímacího řízení
DESCRIPTION:Obchodní akademie a VOŠ vyhlašuje další kolo přijímacího řízení. \n\nuzávěrka přihlášek – 23. srpna 2019 (přihlášku lze přinést k přijímacímu řízení)\ntermín přijímacího řízení – 28. srpna 2019\, 8:00 hodin\, místnost č. 205\n\nPřihlášky: \nBěžné přihlášky pro studium VOŠ si vyzvedněte na své střední škole nebo na Obchodní akademii ve Valašském Meziříčí nebo stáhněte zde: \n  \nPřihláška ke studiu\n  \nK přijímacímu řízení si přineste: \n\npozvánku k přijímacímu řízení\,\nplatný občanský průkaz\,\nstudenti\, kteří maturovali po odeslání přihlášky\, nebo jim následující materiály v přihlášce ke studiu chybí\, předloží fotokopii vysvědčení z posledního ročníku střední školy a fotokopii maturitního vysvědčení\, která bude ověřena notářem nebo matrikou (nesmí být ověřena školou\, které k tomu nejsou kompetentní)\, součástí přihlášky je také strukturovaný životopis.
URL:https://www.oavm.cz/akce/vos-2-kolo-prijimaciho-rizeni/
LOCATION:VOŠ místnost č. 205\, Na Šištotě 159\, Valašské Meziříčí\, 757 01
ORGANIZER;CN="Daniela Zemanov%C3%A1":MAILTO:daniela.zemanova@oavm.cz
END:VEVENT
BEGIN:VEVENT
DTSTART;VALUE=DATE:20190819
DTEND;VALUE=DATE:20190820
DTSTAMP:20260424T172738
CREATED:20190802T073124Z
LAST-MODIFIED:20190802T075020Z
UID:7254-1566172800-1566259199@www.oavm.cz
SUMMARY:Uzávěrka přihlášek - BC studium
DESCRIPTION:Držíme Vám místo ve Valašském Meziříčí! \nHlásit se na bakalářské studium můžete i nadále. \nJeště nejste přihlášeni? Neváhejte a vybírejte ze dvou NOVĚ akreditovaných bakalářských programů. Hlásit se můžete až do 19. 8. 2019. \nPodniková ekonomika – denní studium \nVeřejná ekonomika a správa – kombinované studium
URL:https://www.oavm.cz/akce/uzaverka-prihlasek-na-bc-studium/
LOCATION:Obchodní akademie a VOŠ\, Masarykova 101/18\, Krásno nad Bečvou\, Valašské Meziříčí\, 757 01
ORGANIZER;CN="Daniela Zemanov%C3%A1":MAILTO:daniela.zemanova@oavm.cz
END:VEVENT
BEGIN:VEVENT
DTSTART;TZID=Europe/Prague:20190703T100000
DTEND;TZID=Europe/Prague:20190703T150000
DTSTAMP:20260424T172738
CREATED:20190529T142101Z
LAST-MODIFIED:20190529T142300Z
UID:6973-1562148000-1562166000@www.oavm.cz
SUMMARY:Zápis BC do 1. ročníku 2019/2020
DESCRIPTION:V tomto termínu proběhne zápis studentů prezenčního i kombinovaného bakalářského studia. Čtete\, prosím\, přiložené dokumenty.\n \nPrezenční studium Kombinované studium\n 
URL:https://www.oavm.cz/akce/zapis-bc-do-1-rocniku-2019-2020/
LOCATION:Aula VOŠ\, Na Šištotě 159\, Valašské Meziříčí\, 757 01
ORGANIZER;CN="Daniela Zemanov%C3%A1":MAILTO:daniela.zemanova@oavm.cz
END:VEVENT
BEGIN:VEVENT
DTSTART;VALUE=DATE:20190622
DTEND;VALUE=DATE:20190704
DTSTAMP:20260424T172738
CREATED:20190513T133145Z
LAST-MODIFIED:20190513T133145Z
UID:6802-1561161600-1562198399@www.oavm.cz
SUMMARY:Tradiční zájezd do Pobaltí a Ruska
DESCRIPTION:Kdo nebyl v Rusku nezažil\, neviděl\, nechápe… \nNa konci června se již po sedmé vypraví část žáků naší školy a gymnázia do Pobaltí a Ruska. Výprava je ojedinělá nejen tím\, že se cestou na sever nocuje ve stanech\, jí z ešusu\, ale za 12 dnů si prohlédneme perly Litvy\, Lotyšska\, Estonska\, jako například hlavní města\, Horu křížů\, Centr Evropy\, hrad Rakvere\, vodní hrad Trakaj i pobřeží Baltu\, možná se i vykoupeme v Čudském jezeře. Samotný Pitěr\, jak se zkráceně Sankt-Petěrburgu říká\, je kouzelný v době bílých nocí\, nedaleký Petrodvorec s fontánami\, Carské selo s jantarovou komnatou – nezapomenutelné. Každý návštěvník je dojat na Piskarevském hřbitově\, v Ermitáži ho oslní pompéznost carského sídla i nádhera obrazů\, soch ze všech koutů světa\, na Něvě si prohlédne slavnou Auroru atd. V Rusku ještě uvidíme Pskov\, starobylý Novgorod a naopak malé vesničky\, kláštery. Prostě\, nikdo nelituje\, že měl možnost za malý peníz vidět kus světa. \nPhDr. Ludmila Bělíková
URL:https://www.oavm.cz/akce/tradicni-zajezd-do-pobalti-a-ruska/
LOCATION:Petrohrad\, Palace Embankment 36\, Petrohrad\, Rusko
ORGANIZER;CN="PhDr. Ludmila B%C4%9Bl%C3%ADkov%C3%A1":MAILTO:ludmila.belikova@oavm.cz
END:VEVENT
BEGIN:VEVENT
DTSTART;VALUE=DATE:20190615
DTEND;VALUE=DATE:20190623
DTSTAMP:20260424T172738
CREATED:20190520T060246Z
LAST-MODIFIED:20190520T060848Z
UID:6896-1560556800-1561247999@www.oavm.cz
SUMMARY:Sportovní kurz Chorvatsko 3. A\, 3. C
DESCRIPTION:
URL:https://www.oavm.cz/akce/sportovni-kurz-chorvatsko-3-a-3-c/
LOCATION:Drvenik\, Donja Vala\, 21333\, Chorvatsko
CATEGORIES:sportovní
ORGANIZER;CN="Mgr. Mel%C3%A1nie Kratinov%C3%A1":MAILTO:melanie.kratinova@oavm.cz
END:VEVENT
BEGIN:VEVENT
DTSTART;TZID=Europe/Prague:20190614T200000
DTEND;TZID=Europe/Prague:20190614T220000
DTSTAMP:20260424T172738
CREATED:20190528T110921Z
LAST-MODIFIED:20190528T110921Z
UID:6951-1560542400-1560549600@www.oavm.cz
SUMMARY:Koncert Michala Hrůzy pro Diakonii
DESCRIPTION:Jedná se o benefiční akci na podporu Diakonie ve Valašském Meziříčí\, která pečuje o seniory\, nemocné\, umírající či lidi se zdravotním postižením. Výtěžek benefice je určen na vybudování zázemí pro tyto služby.  \nPřispějte\, prosím\, zakoupením vstupenky na dobrou věc!
URL:https://www.oavm.cz/akce/koncert-michala-hruzy-pro-diakonii/
LOCATION:Amfiteátr v Zámeckém parku\, Zámecká 3/55\, Valašské Meziříčí\, 757 01
ORGANIZER;CN="Diakonie":MAILTO:stredisko@diakonievm.cz
END:VEVENT
BEGIN:VEVENT
DTSTART;TZID=Europe/Prague:20190613T100000
DTEND;TZID=Europe/Prague:20190613T113000
DTSTAMP:20260424T172738
CREATED:20190513T132243Z
LAST-MODIFIED:20190513T132243Z
UID:6800-1560420000-1560425400@www.oavm.cz
SUMMARY:Nehodou to začíná - přednáška pro 2. ročník
DESCRIPTION:Nehodou to začíná je interaktivní preventivně edukační pořad pro studenty ve věku 15-20 let. Je určen všem začínajícím i budoucím řidičům motorových vozidel. Nečekejte však nudnou přednášku\, ba naopak velmi zajímavý až zábavný pořad\, využívající interaktivní prvky\, které studenty vtáhnou do dění. \nSoučástí přednášky\, která trvá 90 minut jsou: moderátor\, psycholog\, dopravní expert\, záchranář.
URL:https://www.oavm.cz/akce/nehodou-to-zacina-prednaska-pro-2-rocnik/
LOCATION:Kulturní zařízení města Valašského Meziříčí\, Komenského 1\, Valašské Meziříčí\, 757 01
CATEGORIES:vzdělávací
ORGANIZER;CN="Mgr. Andrea Hlavat%C3%A1":MAILTO:andrea.hlavata@oavm.cz
END:VEVENT
BEGIN:VEVENT
DTSTART;TZID=Europe/Prague:20190612T100000
DTEND;TZID=Europe/Prague:20190612T110000
DTSTAMP:20260424T172738
CREATED:20190602T170355Z
LAST-MODIFIED:20190602T170355Z
UID:6979-1560333600-1560337200@www.oavm.cz
SUMMARY:Slavnostní zakončení studia absolventů VOŠ
DESCRIPTION:Ve středu 12. června 2019 se v kapli zámku Žerotínů koná slavnostní zakončení studia absolventů vyšší odborné školy při Obchodní akademii a Vyšší odborné škole Valašské Meziříčí. Slavnostní zakončení bude zahájeno v 10:00 hodin\, sraz studentů je již 9:30 hodin. Hosté budou mít vstup do sálu umožněn od 9:50 hodin. \nSrdečně zveme rodinné příslušníky a přátele našich absolventů.
URL:https://www.oavm.cz/akce/slavnostni-zakonceni-studia-absolventu-vos/
LOCATION:Kaple zámku Žerotínů\, II. nádvoří zámku Žerotínů\, Valašské Meziříčí\, 757 01
ORGANIZER;CN="PaedDr. Bc. Petr Hub%C3%A1%C4%8Dek%2C Ph.D.":MAILTO:petr.hubacek@oavm.cz
END:VEVENT
END:VCALENDAR