BEGIN:VCALENDAR
VERSION:2.0
PRODID:-//Obchodní akademie a VOŠ Valašské Meziříčí - ECPv6.15.20//NONSGML v1.0//EN
CALSCALE:GREGORIAN
METHOD:PUBLISH
X-WR-CALNAME:Obchodní akademie a VOŠ Valašské Meziříčí
X-ORIGINAL-URL:https://www.oavm.cz
X-WR-CALDESC:Akce na Obchodní akademie a VOŠ Valašské Meziříčí
REFRESH-INTERVAL;VALUE=DURATION:PT1H
X-Robots-Tag:noindex
X-PUBLISHED-TTL:PT1H
BEGIN:VTIMEZONE
TZID:Europe/Prague
BEGIN:DAYLIGHT
TZOFFSETFROM:+0100
TZOFFSETTO:+0200
TZNAME:CEST
DTSTART:20180325T010000
END:DAYLIGHT
BEGIN:STANDARD
TZOFFSETFROM:+0200
TZOFFSETTO:+0100
TZNAME:CET
DTSTART:20181028T010000
END:STANDARD
BEGIN:DAYLIGHT
TZOFFSETFROM:+0100
TZOFFSETTO:+0200
TZNAME:CEST
DTSTART:20190331T010000
END:DAYLIGHT
BEGIN:STANDARD
TZOFFSETFROM:+0200
TZOFFSETTO:+0100
TZNAME:CET
DTSTART:20191027T010000
END:STANDARD
BEGIN:DAYLIGHT
TZOFFSETFROM:+0100
TZOFFSETTO:+0200
TZNAME:CEST
DTSTART:20200329T010000
END:DAYLIGHT
BEGIN:STANDARD
TZOFFSETFROM:+0200
TZOFFSETTO:+0100
TZNAME:CET
DTSTART:20201025T010000
END:STANDARD
BEGIN:DAYLIGHT
TZOFFSETFROM:+0100
TZOFFSETTO:+0200
TZNAME:CEST
DTSTART:20210328T010000
END:DAYLIGHT
BEGIN:STANDARD
TZOFFSETFROM:+0200
TZOFFSETTO:+0100
TZNAME:CET
DTSTART:20211031T010000
END:STANDARD
BEGIN:DAYLIGHT
TZOFFSETFROM:+0100
TZOFFSETTO:+0200
TZNAME:CEST
DTSTART:20220327T010000
END:DAYLIGHT
BEGIN:STANDARD
TZOFFSETFROM:+0200
TZOFFSETTO:+0100
TZNAME:CET
DTSTART:20221030T010000
END:STANDARD
END:VTIMEZONE
BEGIN:VEVENT
DTSTART;VALUE=DATE:20210504
DTEND;VALUE=DATE:20210505
DTSTAMP:20260424T115604
CREATED:20210328T125935Z
LAST-MODIFIED:20210328T130252Z
UID:9231-1620086400-1620172799@www.oavm.cz
SUMMARY:2. řádný termín přijímací zkoušky
DESCRIPTION:Podrobné informace o přijímacím řízení najdete na této stránce.
URL:https://www.oavm.cz/akce/2-radny-termin-prijimaci-zkousky/
LOCATION:Obchodní akademie a VOŠ\, Masarykova 101/18\, Krásno nad Bečvou\, Valašské Meziříčí\, 757 01
CATEGORIES:přijímací zkoušky
ORGANIZER;CN="Obchodn%C3%AD akademie a VO%C5%A0 Vala%C5%A1sk%C3%A9 Mezi%C5%99%C3%AD%C4%8D%C3%AD":MAILTO:oavalmez@oavm.cz
END:VEVENT
BEGIN:VEVENT
DTSTART;VALUE=DATE:20210503
DTEND;VALUE=DATE:20210504
DTSTAMP:20260424T115604
CREATED:20210328T125614Z
LAST-MODIFIED:20210328T130345Z
UID:9228-1620000000-1620086399@www.oavm.cz
SUMMARY:1. řádný termín přijímací zkoušky
DESCRIPTION:Podrobné informace o přijímacím řízení najdete na této stránce.
URL:https://www.oavm.cz/akce/1-radny-termin-prijimaci-zkousky/
LOCATION:Obchodní akademie a VOŠ\, Masarykova 101/18\, Krásno nad Bečvou\, Valašské Meziříčí\, 757 01
CATEGORIES:přijímací zkoušky
ORGANIZER;CN="Obchodn%C3%AD akademie a VO%C5%A0 Vala%C5%A1sk%C3%A9 Mezi%C5%99%C3%AD%C4%8D%C3%AD":MAILTO:oavalmez@oavm.cz
END:VEVENT
BEGIN:VEVENT
DTSTART;VALUE=DATE:20210429
DTEND;VALUE=DATE:20210430
DTSTAMP:20260424T115604
CREATED:20210328T130643Z
LAST-MODIFIED:20210328T130643Z
UID:9233-1619654400-1619740799@www.oavm.cz
SUMMARY:Praktická maturitní zkouška
DESCRIPTION:
URL:https://www.oavm.cz/akce/prakticka-maturitni-zkouska-3/
LOCATION:Obchodní akademie a VOŠ\, Masarykova 101/18\, Krásno nad Bečvou\, Valašské Meziříčí\, 757 01
CATEGORIES:maturita
ORGANIZER;CN="Obchodn%C3%AD akademie a VO%C5%A0 Vala%C5%A1sk%C3%A9 Mezi%C5%99%C3%AD%C4%8D%C3%AD":MAILTO:oavalmez@oavm.cz
END:VEVENT
BEGIN:VEVENT
DTSTART;TZID=Europe/Prague:20201003T080000
DTEND;TZID=Europe/Prague:20201003T140000
DTSTAMP:20260424T115604
CREATED:20200925T084520Z
LAST-MODIFIED:20200925T084821Z
UID:8635-1601712000-1601733600@www.oavm.cz
SUMMARY:Volby do zastupitelstev krajů
DESCRIPTION:V pátek a v sobotu 2. a 3. října se konají volby do zastupitelstev krajů.
URL:https://www.oavm.cz/akce/volby-do-zastupitelstev-kraju-2/
LOCATION:Obchodní akademie a VOŠ\, Masarykova 101/18\, Krásno nad Bečvou\, Valašské Meziříčí\, 757 01
END:VEVENT
BEGIN:VEVENT
DTSTART;TZID=Europe/Prague:20201002T140000
DTEND;TZID=Europe/Prague:20201002T220000
DTSTAMP:20260424T115604
CREATED:20200925T084520Z
LAST-MODIFIED:20200925T084654Z
UID:8631-1601647200-1601676000@www.oavm.cz
SUMMARY:Volby do zastupitelstev krajů
DESCRIPTION:V pátek a v sobotu 2. a 3. října se konají volby do zastupitelstev krajů. \nVzhledem k tomu\, že na naší škole se tradičně nachází volební místnost\, výuka v pátek bude končit ve 12.10 hodin a obědy se budou vydávat do 12.30. \nPo tomto čase se prosím již nezdržujte ve škole.
URL:https://www.oavm.cz/akce/volby-do-zastupitelstev-kraju/
LOCATION:Obchodní akademie a VOŠ\, Masarykova 101/18\, Krásno nad Bečvou\, Valašské Meziříčí\, 757 01
END:VEVENT
BEGIN:VEVENT
DTSTART;VALUE=DATE:20200909
DTEND;VALUE=DATE:20200910
DTSTAMP:20260424T115604
CREATED:20200901T142911Z
LAST-MODIFIED:20200901T143242Z
UID:8551-1599609600-1599695999@www.oavm.cz
SUMMARY:Opravná ústní maturitní zkouška
DESCRIPTION:Sraz je v 7:30 ve 3. patře budovy VOŠ.
URL:https://www.oavm.cz/akce/opravna-ustni-maturitni-zkouska/
LOCATION:Vyšší odborná škola\, Na Šištotě 159\, Valašské Meziříčí\, 757 01
CATEGORIES:maturita
ORGANIZER;CN="Mgr. Andrea Hlavat%C3%A1":MAILTO:andrea.hlavata@oavm.cz
END:VEVENT
BEGIN:VEVENT
DTSTART;TZID=Europe/Prague:20200904T073000
DTEND;TZID=Europe/Prague:20200904T120000
DTSTAMP:20260424T115604
CREATED:20200901T142911Z
LAST-MODIFIED:20200901T142911Z
UID:8547-1599204600-1599220800@www.oavm.cz
SUMMARY:Opravná praktická maturitní zkouška
DESCRIPTION:Sraz je v 7:30 v učebně č 209 VOŠ.
URL:https://www.oavm.cz/akce/opravna-prakticka-maturitni-zkouska/
LOCATION:VOŠ místnost č. 209\, Na Šištotě 159\, Valašské Meziříčí\, 757 01
CATEGORIES:maturita
ORGANIZER;CN="Mgr. Andrea Hlavat%C3%A1":MAILTO:andrea.hlavata@oavm.cz
END:VEVENT
BEGIN:VEVENT
DTSTART;TZID=Europe/Prague:20200902T153000
DTEND;TZID=Europe/Prague:20200902T163000
DTSTAMP:20260424T115604
CREATED:20200723T161736Z
LAST-MODIFIED:20200828T104504Z
UID:8466-1599060600-1599064200@www.oavm.cz
SUMMARY:Třídní schůzky rodičů žáků 1. ročníků
DESCRIPTION:Třídní schůzky rodičů žáků 1. ročníků se budou konat v budově OA. Ve vestibulu najdete informační tabule\, které vás nasměrují do příslušné třídy. Na schůzkách budou podány podrobné informace k chodu školu\, zvonění\, lyžařskému kurzu\, obědům apod.
URL:https://www.oavm.cz/akce/tridni-schuzky-rodicu-zaku-1-rocniku/
LOCATION:Obchodní akademie a VOŠ\, Masarykova 101/18\, Krásno nad Bečvou\, Valašské Meziříčí\, 757 01
ORGANIZER;CN="Mgr. Andrea Hlavat%C3%A1":MAILTO:andrea.hlavata@oavm.cz
END:VEVENT
BEGIN:VEVENT
DTSTART;TZID=Europe/Prague:20200901T080000
DTEND;TZID=Europe/Prague:20200901T100000
DTSTAMP:20260424T115604
CREATED:20200821T112333Z
LAST-MODIFIED:20200821T112333Z
UID:8508-1598947200-1598954400@www.oavm.cz
SUMMARY:Zápis studentů VOŠ
DESCRIPTION:V úterý 1. září 2020 se koná v budově VOŠ v místnosti č. 205 zápis studentů do jednotlivých ročníků VOŠ dle tohoto harmonogramu: \n\nročník 8.00 hodin\nročník 9.00 hodin\nročník 10.00 hodin\n\nPravidelná výuka začne od středy 2. září 2020 dle rozvrhu\, který od pátku 28. srpna 2020 najdete na webu školy nebo v informačním systému Bakaláři.
URL:https://www.oavm.cz/akce/zapis-studentu-vos/
LOCATION:VOŠ místnost č. 205\, Na Šištotě 159\, Valašské Meziříčí\, 757 01
ORGANIZER;CN="Daniela Zemanov%C3%A1":MAILTO:daniela.zemanova@oavm.cz
END:VEVENT
BEGIN:VEVENT
DTSTART;TZID=Europe/Prague:20200623T150000
DTEND;TZID=Europe/Prague:20200623T170000
DTSTAMP:20260424T115604
CREATED:20200613T100507Z
LAST-MODIFIED:20200613T100507Z
UID:8300-1592924400-1592931600@www.oavm.cz
SUMMARY:Předávání maturitních vysvědčení
DESCRIPTION:Proběhne v amfiteátru ve Valašském Meziříčí.
URL:https://www.oavm.cz/akce/predavani-maturitnich-vysvedceni-2/
LOCATION:Amfiteátr v Zámeckém parku\, Zámecká 3/55\, Valašské Meziříčí\, 757 01
ORGANIZER;CN="Obchodn%C3%AD akademie a VO%C5%A0 Vala%C5%A1sk%C3%A9 Mezi%C5%99%C3%AD%C4%8D%C3%AD":MAILTO:oavalmez@oavm.cz
END:VEVENT
BEGIN:VEVENT
DTSTART;VALUE=DATE:20200615
DTEND;VALUE=DATE:20200619
DTSTAMP:20260424T115604
CREATED:20200513T130354Z
LAST-MODIFIED:20200513T130354Z
UID:8244-1592179200-1592524799@www.oavm.cz
SUMMARY:Ústní maturitní zkouška 4. A\, 4. B
DESCRIPTION:
URL:https://www.oavm.cz/akce/ustni-maturitni-zkouska-4-a-4-b/
LOCATION:Vyšší odborná škola\, Na Šištotě 159\, Valašské Meziříčí\, 757 01
ORGANIZER;CN="Mgr. Andrea Hlavat%C3%A1":MAILTO:andrea.hlavata@oavm.cz
END:VEVENT
BEGIN:VEVENT
DTSTART;VALUE=DATE:20200610
DTEND;VALUE=DATE:20200612
DTSTAMP:20260424T115604
CREATED:20200513T130354Z
LAST-MODIFIED:20200514T091320Z
UID:8248-1591747200-1591919999@www.oavm.cz
SUMMARY:Ústní maturitní zkouška 4. D
DESCRIPTION:
URL:https://www.oavm.cz/akce/ustni-maturitni-zkouska-4-d/
LOCATION:Vyšší odborná škola\, Na Šištotě 159\, Valašské Meziříčí\, 757 01
ORGANIZER;CN="Mgr. Andrea Hlavat%C3%A1":MAILTO:andrea.hlavata@oavm.cz
END:VEVENT
BEGIN:VEVENT
DTSTART;VALUE=DATE:20200609
DTEND;VALUE=DATE:20200613
DTSTAMP:20260424T115604
CREATED:20200513T130354Z
LAST-MODIFIED:20200513T131431Z
UID:8246-1591660800-1592006399@www.oavm.cz
SUMMARY:Ústní maturitní zkouška 4. C
DESCRIPTION:
URL:https://www.oavm.cz/akce/ustni-maturitni-zkouska-4-c/
LOCATION:Vyšší odborná škola\, Na Šištotě 159\, Valašské Meziříčí\, 757 01
ORGANIZER;CN="Mgr. Andrea Hlavat%C3%A1":MAILTO:andrea.hlavata@oavm.cz
END:VEVENT
BEGIN:VEVENT
DTSTART;TZID=Europe/Prague:20200608T074500
DTEND;TZID=Europe/Prague:20200608T111000
DTSTAMP:20260424T115604
CREATED:20200513T130354Z
LAST-MODIFIED:20200513T131336Z
UID:8252-1591602300-1591614600@www.oavm.cz
SUMMARY:Absolutorium VOŠ
DESCRIPTION:
URL:https://www.oavm.cz/akce/absolutorium-vos/
LOCATION:Vyšší odborná škola\, Na Šištotě 159\, Valašské Meziříčí\, 757 01
ORGANIZER;CN="PaedDr. Bc. Petr Hub%C3%A1%C4%8Dek%2C Ph.D.":MAILTO:petr.hubacek@oavm.cz
END:VEVENT
BEGIN:VEVENT
DTSTART;VALUE=DATE:20200525
DTEND;VALUE=DATE:20200526
DTSTAMP:20260424T115604
CREATED:20200513T130354Z
LAST-MODIFIED:20200513T131542Z
UID:8250-1590364800-1590451199@www.oavm.cz
SUMMARY:Praktická maturitní zkouška
DESCRIPTION:
URL:https://www.oavm.cz/akce/prakticka-maturitni-zkouska-2/
LOCATION:Vyšší odborná škola\, Na Šištotě 159\, Valašské Meziříčí\, 757 01
ORGANIZER;CN="Mgr. Andrea Hlavat%C3%A1":MAILTO:andrea.hlavata@oavm.cz
END:VEVENT
BEGIN:VEVENT
DTSTART;VALUE=DATE:20200511
DTEND;VALUE=DATE:20200512
DTSTAMP:20260424T115604
CREATED:20200311T160221Z
LAST-MODIFIED:20200430T130628Z
UID:8168-1589155200-1589241599@www.oavm.cz
SUMMARY:Vzhledem k nastalé situaci jsou akce pořádané školou pozastaveny do odvolání
DESCRIPTION:
URL:https://www.oavm.cz/akce/vzhledem-k-nastale-situaci-jsou-akce-poradane-skolou-pozastaveny-do-odvolani/
LOCATION:Obchodní akademie a VOŠ\, Masarykova 101/18\, Krásno nad Bečvou\, Valašské Meziříčí\, 757 01
ORGANIZER;CN="Obchodn%C3%AD akademie a VO%C5%A0 Vala%C5%A1sk%C3%A9 Mezi%C5%99%C3%AD%C4%8D%C3%AD":MAILTO:oavalmez@oavm.cz
END:VEVENT
BEGIN:VEVENT
DTSTART;VALUE=DATE:20200302
DTEND;VALUE=DATE:20200309
DTSTAMP:20260424T115604
CREATED:20200128T204835Z
LAST-MODIFIED:20200128T204933Z
UID:7990-1583107200-1583711999@www.oavm.cz
SUMMARY:Jarní prázdniny
DESCRIPTION:Ano\, i letos budou…
URL:https://www.oavm.cz/akce/jarni-prazdniny/
END:VEVENT
BEGIN:VEVENT
DTSTART;TZID=Europe/Prague:20200225T083500
DTEND;TZID=Europe/Prague:20200225T111000
DTSTAMP:20260424T115604
CREATED:20200223T115045Z
LAST-MODIFIED:20200223T115045Z
UID:8099-1582619700-1582629000@www.oavm.cz
SUMMARY:Nohejbal - okresní a krajské kolo
DESCRIPTION:Turnaj pro chlapce a dívky. Výuka TEV bude v posilovně.
URL:https://www.oavm.cz/akce/nohejbal-okresni-a-krajske-kolo/
LOCATION:tělocvična Obchodní akademie\, Masarykova 101/18\, Valašské Meziříčí\, 757 01
CATEGORIES:sportovní
ORGANIZER;CN="Mgr. Tom%C3%A1%C5%A1 Perutka":MAILTO:tomas.perutka@oavm.cz
END:VEVENT
BEGIN:VEVENT
DTSTART;VALUE=DATE:20200220
DTEND;VALUE=DATE:20200221
DTSTAMP:20260424T115604
CREATED:20200128T204526Z
LAST-MODIFIED:20200128T204526Z
UID:7988-1582156800-1582243199@www.oavm.cz
SUMMARY:Veletrh fiktivních firem Ostrava
DESCRIPTION:Zúčastní se vybraní žáci tříd 4. A a 4. B.
URL:https://www.oavm.cz/akce/veletrh-fiktivnich-firem-ostrava-2/
LOCATION:Výstaviště Černá louka\, Černá louka 3235\, Ostrava - Moravská Ostrava\, 702 00
ORGANIZER;CN="Ing. Helena %C5%A0krlov%C3%A1":MAILTO:helena.skrlova@oavm.cz
END:VEVENT
BEGIN:VEVENT
DTSTART;TZID=Europe/Prague:20200207T190000
DTEND;TZID=Europe/Prague:20200208T000000
DTSTAMP:20260424T115604
CREATED:20200128T204211Z
LAST-MODIFIED:20200128T204243Z
UID:7986-1581102000-1581120000@www.oavm.cz
SUMMARY:Ples školy
DESCRIPTION:Jako každý rok se koná ples Obchodní akademie a jako každý rok bude stát za to!
URL:https://www.oavm.cz/akce/ples-skoly/
LOCATION:Kulturní zařízení města Valašského Meziříčí\, Komenského 1\, Valašské Meziříčí\, 757 01
ORGANIZER;CN="Obchodn%C3%AD akademie a VO%C5%A0 Vala%C5%A1sk%C3%A9 Mezi%C5%99%C3%AD%C4%8D%C3%AD":MAILTO:oavalmez@oavm.cz
END:VEVENT
BEGIN:VEVENT
DTSTART;TZID=Europe/Prague:20200130T140000
DTEND;TZID=Europe/Prague:20200130T150000
DTSTAMP:20260424T115604
CREATED:20191208T165132Z
LAST-MODIFIED:20191208T165313Z
UID:7813-1580392800-1580396400@www.oavm.cz
SUMMARY:Informační den - bakalářské studium
DESCRIPTION:Informační den Ekonomické fakulty na detašovaném pracovišti ve Valašském Meziříčí \nse uskuteční dne 30. 1. 2020 od 14.00 hod. \nv budově Vyšší odborné školy Valašské Meziříčí\,\nMasarykova101/18\,  Krásno nad Bečvou\n757 01 Valašské Meziříčí \n1. patro\, aula \nNabídka studia v prezenční formě: \n\nprogram Ekonomika a management (Podniková ekonomika)\nprogram Účetnictví a daně\n\nNabídka studia v kombinované formě: \n\nprogram Veřejná ekonomika a správa
URL:https://www.oavm.cz/akce/informacni-den-bakalarske-studium/
LOCATION:Aula VOŠ\, Na Šištotě 159\, Valašské Meziříčí\, 757 01
CATEGORIES:DOD
ORGANIZER;CN="PaedDr. Bc. Petr Hub%C3%A1%C4%8Dek%2C Ph.D.":MAILTO:petr.hubacek@oavm.cz
END:VEVENT
BEGIN:VEVENT
DTSTART;TZID=Europe/Prague:20200128T101500
DTEND;TZID=Europe/Prague:20200128T114500
DTSTAMP:20260424T115604
CREATED:20200106T084424Z
LAST-MODIFIED:20200106T085055Z
UID:7913-1580206500-1580211900@www.oavm.cz
SUMMARY:Seminář "Můžeš podnikat"
DESCRIPTION:Účastní se třídy 3. A\, 3. B a 3. D. \nSeminář povede Petra Janková a Miroslav Jakubec.
URL:https://www.oavm.cz/akce/seminar-muzes-podnikat-2/
LOCATION:Učebna 364\, Obchodní akademie a VOŠ\, Valašské Meziříčí\, 757 01
CATEGORIES:vzdělávací
ORGANIZER;CN="Ing. Helena %C5%A0krlov%C3%A1":MAILTO:helena.skrlova@oavm.cz
END:VEVENT
BEGIN:VEVENT
DTSTART;VALUE=DATE:20200128
DTEND;VALUE=DATE:20200129
DTSTAMP:20260424T115604
CREATED:20191220T072903Z
LAST-MODIFIED:20191220T073007Z
UID:7891-1580169600-1580255999@www.oavm.cz
SUMMARY:Přednáška - Planeta Země 3000 - Kolumbie
DESCRIPTION:Přednáška Kolumbie – ráj slasti a neřesti je určena žákům 1. a 2. ročníku. Místo a čas konání bude upřesněno. \nV 16. pokračování projektu se vypravíme do temperamentní země ležící mezi dvěma oceány. V Kolumbii budeme projíždět mezi vrcholky majestátních And\, poplavíme se za velrybami\, ochutnáme výbornou kávu a mnohé delikatesy kolumbijské kuchyně. Čeká nás i duhová řeka\, jaguáří lidé\, města ztracených civilizací i barevné koloniální architektury. Zažijeme nejedno dobrodružství a povzbuzující poznání.
URL:https://www.oavm.cz/akce/prednaska-planeta-zeme-3000-kolumbie/
CATEGORIES:vzdělávací
ORGANIZER;CN="RNDr. Eva %C4%8Ctver%C3%A1%C4%8Dkov%C3%A1":MAILTO:eva.ctverackova@oavm.cz
END:VEVENT
BEGIN:VEVENT
DTSTART;TZID=Europe/Prague:20200127T100000
DTEND;TZID=Europe/Prague:20200128T140000
DTSTAMP:20260424T115604
CREATED:20191220T155043Z
LAST-MODIFIED:20191220T155043Z
UID:7893-1580119200-1580220000@www.oavm.cz
SUMMARY:14. ročník "Má dáti dal"
DESCRIPTION:Katedra Účetnictví a finančního řízení podniku na SVŠE Znojmo ve spolupráci se vzdělávacím střediskem Ing. Pavel Štohl\, s.r.o.\, vyhlašuje třináctý ročník soutěže v účetnictví „MÁ DATI – DAL“\, jehož celostátní finále se bude konat ve Znojmě\, a to ve dnech 27. – 28. 1. 2020. Soutěž je určena pro studenty čtvrtých ročníků obchodních akademií a ostatních středních odborných škol s výukou účetnictví.
URL:https://www.oavm.cz/akce/14-rocnik-ma-dati-dal/
LOCATION:Soukromá vysoká škola ekonimická Znojmo\, Loucká 21\, Znojmo\, 669 02
ORGANIZER;CN="Ing. Elen V%C3%A1lkov%C3%A1":MAILTO:elen.valkova@oavm.cz
END:VEVENT
BEGIN:VEVENT
DTSTART;TZID=Europe/Prague:20200124T080000
DTEND;TZID=Europe/Prague:20200124T160000
DTSTAMP:20260424T115604
CREATED:20191220T070013Z
LAST-MODIFIED:20191220T071516Z
UID:7889-1579852800-1579881600@www.oavm.cz
SUMMARY:Den otevřených dveří - leden
DESCRIPTION:V pátek 24. ledna se koná den otevřených dveří. Přijďte se podívat\, jak probíhá výuka\, jak to u nás vypadá a co všechno vás čeká\, když se rozhodnete pro naši školu. \nJste srdečně vítáni!
URL:https://www.oavm.cz/akce/den-otevrenych-dveri-3-2/
LOCATION:Obchodní akademie a VOŠ\, Masarykova 101/18\, Krásno nad Bečvou\, Valašské Meziříčí\, 757 01
CATEGORIES:DOD
ORGANIZER;CN="Obchodn%C3%AD akademie a VO%C5%A0 Vala%C5%A1sk%C3%A9 Mezi%C5%99%C3%AD%C4%8D%C3%AD":MAILTO:oavalmez@oavm.cz
END:VEVENT
BEGIN:VEVENT
DTSTART;VALUE=DATE:20200120
DTEND;VALUE=DATE:20200125
DTSTAMP:20260424T115604
CREATED:20191220T161409Z
LAST-MODIFIED:20200117T154547Z
UID:7902-1579478400-1579910399@www.oavm.cz
SUMMARY:Lyžařský výcvik - 1. ročník
DESCRIPTION:V uvedených dnech se koná tradiční lyžařský výcvik pro žáky 1. ročníku. \nOrganizační pokyny
URL:https://www.oavm.cz/akce/lyzarsky-vycvik-1-rocnik/
CATEGORIES:sportovní
END:VEVENT
BEGIN:VEVENT
DTSTART;TZID=Europe/Prague:20200115T111000
DTEND;TZID=Europe/Prague:20200115T142500
DTSTAMP:20260424T115604
CREATED:20200109T145734Z
LAST-MODIFIED:20200109T145734Z
UID:7932-1579086600-1579098300@www.oavm.cz
SUMMARY:Exkurze - soudní jednání
DESCRIPTION:Třída 4. A se zúčastní soudního jednání u Okresního soudu Vsetín\, pobočka Valašské Meziříčí. Jednání začíná ve 12.30 hodin.
URL:https://www.oavm.cz/akce/exkurze-soudni-jednani/
LOCATION:Okresní soud ve Vsetíně – pobočka Valašské Meziříčí\, Legií 1374\, Valašské Meziříčí\, 757 01
CATEGORIES:exkurze,vzdělávací
ORGANIZER;CN="Mgr. Lenka Volkov%C3%A1 Pal%C3%A1tov%C3%A1":MAILTO:lenka.volkova@oavm.cz
END:VEVENT
BEGIN:VEVENT
DTSTART;TZID=Europe/Prague:20191219T073000
DTEND;TZID=Europe/Prague:20191219T110000
DTSTAMP:20260424T115604
CREATED:20191126T194131Z
LAST-MODIFIED:20191126T194131Z
UID:7727-1576740600-1576753200@www.oavm.cz
SUMMARY:Projektový den tříd 3. D a 4. D
DESCRIPTION:
URL:https://www.oavm.cz/akce/projektovy-den-trid-3-d-a-4-d/
LOCATION:Obchodní akademie a VOŠ\, Masarykova 101/18\, Krásno nad Bečvou\, Valašské Meziříčí\, 757 01
CATEGORIES:vzdělávací
ORGANIZER;CN="Ing. Josef Kr%C5%AFpa":MAILTO:josef.krupa@oavm.cz
END:VEVENT
BEGIN:VEVENT
DTSTART;VALUE=DATE:20191219
DTEND;VALUE=DATE:20191220
DTSTAMP:20260424T115604
CREATED:20191126T193833Z
LAST-MODIFIED:20191126T193833Z
UID:7724-1576713600-1576799999@www.oavm.cz
SUMMARY:Exkurze - Muzeum J. A. Komenského v Uherském Brodě
DESCRIPTION:Expozice „Komenský lidstvu“.
URL:https://www.oavm.cz/akce/exkurze-muzeum-j-a-komenskeho-v-uherskem-brode/
LOCATION:Muzeum Jana Amose Komenského\, Přemysla Otakara II. 37\, Uherský Brod\, 688 12
CATEGORIES:exkurze,vzdělávací
ORGANIZER;CN="Obchodn%C3%AD akademie a VO%C5%A0 Vala%C5%A1sk%C3%A9 Mezi%C5%99%C3%AD%C4%8D%C3%AD":MAILTO:oavalmez@oavm.cz
END:VEVENT
BEGIN:VEVENT
DTSTART;VALUE=DATE:20191218
DTEND;VALUE=DATE:20191219
DTSTAMP:20260424T115604
CREATED:20191126T193002Z
LAST-MODIFIED:20191126T193002Z
UID:7720-1576627200-1576713599@www.oavm.cz
SUMMARY:Exkurze Vídeň - 2. ročníky
DESCRIPTION:Druhé ročníky navštíví v rámci každoroční exkurze Vídeň.
URL:https://www.oavm.cz/akce/exkurze-viden-2-rocniky/
LOCATION:Vídeň\, 1010\, Rakousko
CATEGORIES:exkurze
END:VEVENT
END:VCALENDAR