BEGIN:VCALENDAR
VERSION:2.0
PRODID:-//Obchodní akademie a VOŠ Valašské Meziříčí - ECPv6.15.20//NONSGML v1.0//EN
CALSCALE:GREGORIAN
METHOD:PUBLISH
X-WR-CALNAME:Obchodní akademie a VOŠ Valašské Meziříčí
X-ORIGINAL-URL:https://www.oavm.cz
X-WR-CALDESC:Akce na Obchodní akademie a VOŠ Valašské Meziříčí
REFRESH-INTERVAL;VALUE=DURATION:PT1H
X-Robots-Tag:noindex
X-PUBLISHED-TTL:PT1H
BEGIN:VTIMEZONE
TZID:Europe/Prague
BEGIN:DAYLIGHT
TZOFFSETFROM:+0100
TZOFFSETTO:+0200
TZNAME:CEST
DTSTART:20200329T010000
END:DAYLIGHT
BEGIN:STANDARD
TZOFFSETFROM:+0200
TZOFFSETTO:+0100
TZNAME:CET
DTSTART:20201025T010000
END:STANDARD
BEGIN:DAYLIGHT
TZOFFSETFROM:+0100
TZOFFSETTO:+0200
TZNAME:CEST
DTSTART:20210328T010000
END:DAYLIGHT
BEGIN:STANDARD
TZOFFSETFROM:+0200
TZOFFSETTO:+0100
TZNAME:CET
DTSTART:20211031T010000
END:STANDARD
BEGIN:DAYLIGHT
TZOFFSETFROM:+0100
TZOFFSETTO:+0200
TZNAME:CEST
DTSTART:20220327T010000
END:DAYLIGHT
BEGIN:STANDARD
TZOFFSETFROM:+0200
TZOFFSETTO:+0100
TZNAME:CET
DTSTART:20221030T010000
END:STANDARD
BEGIN:DAYLIGHT
TZOFFSETFROM:+0100
TZOFFSETTO:+0200
TZNAME:CEST
DTSTART:20230326T010000
END:DAYLIGHT
BEGIN:STANDARD
TZOFFSETFROM:+0200
TZOFFSETTO:+0100
TZNAME:CET
DTSTART:20231029T010000
END:STANDARD
END:VTIMEZONE
BEGIN:VEVENT
DTSTART;VALUE=DATE:20220405
DTEND;VALUE=DATE:20220406
DTSTAMP:20260422T043609
CREATED:20220401T101024Z
LAST-MODIFIED:20220401T101114Z
UID:10247-1649116800-1649203199@www.oavm.cz
SUMMARY:Basketbal - školní turnaj dívky
DESCRIPTION:Týmy se řídí pokyny organizátora Mgr. Tomáše Perutky.
URL:https://www.oavm.cz/akce/basketbal-skolni-turnaj-divky/
LOCATION:tělocvična Obchodní akademie\, Masarykova 101/18\, Valašské Meziříčí\, 757 01
CATEGORIES:sportovní
ORGANIZER;CN="Mgr. Tom%C3%A1%C5%A1 Perutka":MAILTO:tomas.perutka@oavm.cz
END:VEVENT
BEGIN:VEVENT
DTSTART;VALUE=DATE:20220321
DTEND;VALUE=DATE:20220326
DTSTAMP:20260422T043609
CREATED:20220304T145218Z
LAST-MODIFIED:20220307T114433Z
UID:10090-1647820800-1648252799@www.oavm.cz
SUMMARY:Lyžařský kurz 2. ročník
DESCRIPTION:Náhradní termín za zrušený kurz v 1. ročníku ve školním roce 2020/2021. Žáci\, kteří nepojedou\, budou přítomni ve škole a budou mít náhradní rozvrh a aktivity.
URL:https://www.oavm.cz/akce/lyzarsky-kurz-2-rocnik/
LOCATION:lyžařské středisko Bílá\, Bílá 173\, Staré Hamry\, 739 15
CATEGORIES:sportovní
ORGANIZER;CN="Mgr. Mel%C3%A1nie Kratinov%C3%A1":MAILTO:melanie.kratinova@oavm.cz
END:VEVENT
BEGIN:VEVENT
DTSTART;TZID=Europe/Prague:20220310T094000
DTEND;TZID=Europe/Prague:20220310T111500
DTSTAMP:20260422T043609
CREATED:20220304T144448Z
LAST-MODIFIED:20220304T144448Z
UID:10087-1646905200-1646910900@www.oavm.cz
SUMMARY:Školní kolo matematické soutěže pro 1. a 2. ročník
DESCRIPTION:
URL:https://www.oavm.cz/akce/skolni-kolo-matematicke-souteze-pro-1-a-2-rocnik/
LOCATION:Obchodní akademie a VOŠ\, Masarykova 101/18\, Krásno nad Bečvou\, Valašské Meziříčí\, 757 01
CATEGORIES:vzdělávací
ORGANIZER;CN="Mgr. V%C3%ADt Han%C3%A1k":MAILTO:vit.hanak@oavm.cz
END:VEVENT
BEGIN:VEVENT
DTSTART;VALUE=DATE:20220201
DTEND;VALUE=DATE:20220202
DTSTAMP:20260422T043609
CREATED:20220120T190550Z
LAST-MODIFIED:20220120T190550Z
UID:9948-1643673600-1643759999@www.oavm.cz
SUMMARY:Planeta Země 3000 - Madagaskar
DESCRIPTION:Přednáška pro žáky 1. a 2. ročníku. Čas bude upřesněn.
URL:https://www.oavm.cz/akce/planeta-zeme-3000-madagaskar/
LOCATION:Kino Valmez\, Nábřeží 268\, Valašské Meziříčí\, 757 01
CATEGORIES:vzdělávací
ORGANIZER;CN="RNDr. Eva %C4%8Ctver%C3%A1%C4%8Dkov%C3%A1":MAILTO:eva.ctverackova@oavm.cz
END:VEVENT
BEGIN:VEVENT
DTSTART;TZID=Europe/Prague:20220131T103000
DTEND;TZID=Europe/Prague:20220131T130000
DTSTAMP:20260422T043609
CREATED:20220127T084705Z
LAST-MODIFIED:20220127T084754Z
UID:9965-1643625000-1643634000@www.oavm.cz
SUMMARY:Předávání výpisů vysvědčení
DESCRIPTION:1. ročník – 4. vyučovací hodina\n2. ročník – 5. vyučovací hodina\n3. a 4. ročník – 6. vyučovací hodina
URL:https://www.oavm.cz/akce/predavani-vypisu-vysvedceni/
LOCATION:Obchodní akademie a VOŠ\, Masarykova 101/18\, Krásno nad Bečvou\, Valašské Meziříčí\, 757 01
ORGANIZER;CN="Mgr. Andrea Hlavat%C3%A1":MAILTO:andrea.hlavata@oavm.cz
END:VEVENT
BEGIN:VEVENT
DTSTART;VALUE=DATE:20220124
DTEND;VALUE=DATE:20220129
DTSTAMP:20260422T043609
CREATED:20220120T190127Z
LAST-MODIFIED:20220120T190127Z
UID:9946-1642982400-1643414399@www.oavm.cz
SUMMARY:Lyžařský kurz 1. ročník
DESCRIPTION:Žáci\, kteří nepojedou se budou učit dle náhradního rozvrhu hodin a budou zajišťovat recepci školy.
URL:https://www.oavm.cz/akce/lyzarsky-kurz-1-rocnik/
LOCATION:lyžařské středisko Bílá\, Bílá 173\, Staré Hamry\, 739 15
CATEGORIES:sportovní
ORGANIZER;CN="Mgr. Tom%C3%A1%C5%A1 Perutka":MAILTO:tomas.perutka@oavm.cz
END:VEVENT
BEGIN:VEVENT
DTSTART;TZID=Europe/Prague:20220121T080000
DTEND;TZID=Europe/Prague:20220121T160000
DTSTAMP:20260422T043609
CREATED:20220110T140424Z
LAST-MODIFIED:20220110T140526Z
UID:9915-1642752000-1642780800@www.oavm.cz
SUMMARY:Den otevřených dveří
DESCRIPTION:V pátek 21. ledna se koná den otevřených dveří. Přijďte se podívat\, jak probíhá výuka\, jak to u nás vypadá a co všechno vás čeká\, když se rozhodnete pro naši školu. \nJste srdečně vítáni!
URL:https://www.oavm.cz/akce/den-otevrenych-dveri-5/
LOCATION:Obchodní akademie a VOŠ\, Masarykova 101/18\, Krásno nad Bečvou\, Valašské Meziříčí\, 757 01
CATEGORIES:DOD
ORGANIZER;CN="Obchodn%C3%AD akademie a VO%C5%A0 Vala%C5%A1sk%C3%A9 Mezi%C5%99%C3%AD%C4%8D%C3%AD":MAILTO:oavalmez@oavm.cz
END:VEVENT
BEGIN:VEVENT
DTSTART;TZID=Europe/Prague:20211216T084000
DTEND;TZID=Europe/Prague:20211216T121500
DTSTAMP:20260422T043609
CREATED:20211108T093642Z
LAST-MODIFIED:20211215T081218Z
UID:9767-1639644000-1639656900@www.oavm.cz
SUMMARY:Staň se "NA DEN STŘEDOŠKOLÁKEM" - obor Veřejnosprávní činnost
DESCRIPTION:Akce „NA DEN STŘEDOŠKOLÁKEM“ je určena žákům 9. tříd základních škol\, kteří mají zájem o studium na naší škole a je zdarma. Tento termín je určen zájemcům o obor Veřejnosprávní činnost. Vyzkoušíte si předměty: \n\nprávo\,\nveřejná správa\,\nšpanělština\,\nfrancouzština\,\nruština\,\nněmčina\,\npísemná a elektronická komunikace.\n\nŽák obdrží potvrzení\, že se výuky zúčastnil. Výuka začíná v 8:40 a končí 12:15. \nMáte jedinečnou příležitost vyzkoušet si zasednout do školních lavic střední školy. \nPo vyplnění přihlášky budou vaše údaje zpracovány pro účely pouze této akce. Případné dotazy Vám zodpoví Mgr. Robert Sigmund\, výchovný poradce\, na telefonním čísle 777 636 274  nebo na e-mailové adrese: robert.sigmund@oavm.cz. \nPřihlašování bylo ukončeno.
URL:https://www.oavm.cz/akce/stan-se-na-den-stredoskolakem-obor-verejnospravni-cinnost/
LOCATION:Obchodní akademie a VOŠ\, Masarykova 101/18\, Krásno nad Bečvou\, Valašské Meziříčí\, 757 01
ORGANIZER;CN="Obchodn%C3%AD akademie a VO%C5%A0 Vala%C5%A1sk%C3%A9 Mezi%C5%99%C3%AD%C4%8D%C3%AD":MAILTO:oavalmez@oavm.cz
END:VEVENT
BEGIN:VEVENT
DTSTART;TZID=Europe/Prague:20211215T084000
DTEND;TZID=Europe/Prague:20211215T121500
DTSTAMP:20260422T043609
CREATED:20211108T093231Z
LAST-MODIFIED:20211210T084002Z
UID:9765-1639557600-1639570500@www.oavm.cz
SUMMARY:Staň se "NA DEN STŘEDOŠKOLÁKEM" - obor Informační technologie
DESCRIPTION:Akce „NA DEN STŘEDOŠKOLÁKEM“ je určena žákům 9. tříd základních škol\, kteří mají zájem o studium na naší škole a je zdarma. Tento termín je určen zájemcům o obor Informační technologie. Vyzkoušíte si předměty: \n\ngrafika\,\nprogramování\,\nwebové stránky\,\npočítačové sítě.\n\nŽák obdrží potvrzení\, že se výuky zúčastnil. Výuka začíná v 8:40 a končí 12:15. \nMáte jedinečnou příležitost vyzkoušet si zasednout do školních lavic střední školy. \nPo vyplnění přihlášky budou vaše údaje zpracovány pro účely pouze této akce. Případné dotazy Vám zodpoví Mgr. Robert Sigmund\, výchovný poradce\, na telefonním čísle 777 636 274  nebo na e-mailové adrese: robert.sigmund@oavm.cz. \nPřihlašování je ukončeno z důvodu naplnění kapacity!
URL:https://www.oavm.cz/akce/stan-se-na-den-stredoskolakem-obor-informacni-technologie/
LOCATION:Obchodní akademie a VOŠ\, Masarykova 101/18\, Krásno nad Bečvou\, Valašské Meziříčí\, 757 01
ORGANIZER;CN="Obchodn%C3%AD akademie a VO%C5%A0 Vala%C5%A1sk%C3%A9 Mezi%C5%99%C3%AD%C4%8D%C3%AD":MAILTO:oavalmez@oavm.cz
END:VEVENT
BEGIN:VEVENT
DTSTART;TZID=Europe/Prague:20211214T084000
DTEND;TZID=Europe/Prague:20211214T121500
DTSTAMP:20260422T043609
CREATED:20211108T085602Z
LAST-MODIFIED:20211210T083903Z
UID:9695-1639471200-1639484100@www.oavm.cz
SUMMARY:Staň se "NA DEN STŘEDOŠKOLÁKEM" - obor Obchodní akademie
DESCRIPTION:Akce „NA DEN STŘEDOŠKOLÁKEM“ je určena žákům 9. tříd základních škol\, kteří mají zájem o studium na naší škole a je zdarma. Tento termín je určen zájemcům o obor Obchodní akademie. Vyzkoušíte si předměty: \n\nekonomika\,\núčetnictví\,\nšpanělština\,\nfrancouzština\,\nněmčina\,\nruština\,\nfiktivní firma\,\nreálná firma.\n\nŽák obdrží potvrzení\, že se výuky zúčastnil. Výuka začíná v 8:40 a končí 12:15. \nMáte jedinečnou příležitost vyzkoušet si zasednout do školních lavic střední školy. \nPo vyplnění přihlášky budou vaše údaje zpracovány pro účely pouze této akce. Případné dotazy Vám zodpoví Mgr. Robert Sigmund\, výchovný poradce\, na telefonním čísle 777 636 274  nebo na e-mailové adrese: robert.sigmund@oavm.cz. \nPřihlašování je ukončeno z důvodu naplnění kapacity! \n 
URL:https://www.oavm.cz/akce/stan-se-na-den-stredoskolakem-obor-obchodni-akademie-4/
LOCATION:Obchodní akademie a VOŠ\, Masarykova 101/18\, Krásno nad Bečvou\, Valašské Meziříčí\, 757 01
ORGANIZER;CN="Obchodn%C3%AD akademie a VO%C5%A0 Vala%C5%A1sk%C3%A9 Mezi%C5%99%C3%AD%C4%8D%C3%AD":MAILTO:oavalmez@oavm.cz
END:VEVENT
BEGIN:VEVENT
DTSTART;TZID=Europe/Prague:20211106T080000
DTEND;TZID=Europe/Prague:20211106T120000
DTSTAMP:20260422T043609
CREATED:20211006T084428Z
LAST-MODIFIED:20211006T084428Z
UID:9649-1636185600-1636200000@www.oavm.cz
SUMMARY:Den otevřených dveří - sobota
DESCRIPTION:V pátek 5. listopadu a v sobotu 6. listopadu se koná den otevřených dveří. Přijďte se podívat\, jak probíhá výuka\, jak to u nás vypadá a co všechno vás čeká\, když se rozhodnete pro naši školu. \nJste srdečně vítáni!
URL:https://www.oavm.cz/akce/den-otevrenych-dveri-sobota/
LOCATION:Obchodní akademie a VOŠ\, Masarykova 101/18\, Krásno nad Bečvou\, Valašské Meziříčí\, 757 01
CATEGORIES:DOD
ORGANIZER;CN="Obchodn%C3%AD akademie a VO%C5%A0 Vala%C5%A1sk%C3%A9 Mezi%C5%99%C3%AD%C4%8D%C3%AD":MAILTO:oavalmez@oavm.cz
END:VEVENT
BEGIN:VEVENT
DTSTART;TZID=Europe/Prague:20211105T080000
DTEND;TZID=Europe/Prague:20211105T160000
DTSTAMP:20260422T043609
CREATED:20211006T084228Z
LAST-MODIFIED:20211006T084228Z
UID:9647-1636099200-1636128000@www.oavm.cz
SUMMARY:Den otevřených dveří - pátek
DESCRIPTION:V pátek 5. listopadu a v sobotu 6. listopadu se koná den otevřených dveří. Přijďte se podívat\, jak probíhá výuka\, jak to u nás vypadá a co všechno vás čeká\, když se rozhodnete pro naši školu. \nJste srdečně vítáni!
URL:https://www.oavm.cz/akce/den-otevrenych-dveri-patek/
LOCATION:Obchodní akademie a VOŠ\, Masarykova 101/18\, Krásno nad Bečvou\, Valašské Meziříčí\, 757 01
CATEGORIES:DOD
ORGANIZER;CN="Obchodn%C3%AD akademie a VO%C5%A0 Vala%C5%A1sk%C3%A9 Mezi%C5%99%C3%AD%C4%8D%C3%AD":MAILTO:oavalmez@oavm.cz
END:VEVENT
BEGIN:VEVENT
DTSTART;TZID=Europe/Prague:20211103T153000
DTEND;TZID=Europe/Prague:20211103T170000
DTSTAMP:20260422T043609
CREATED:20211026T165235Z
LAST-MODIFIED:20211026T170250Z
UID:9721-1635953400-1635958800@www.oavm.cz
SUMMARY:Třídní schůzky a informace o prospěchu
DESCRIPTION:Více informací najdete na této stránce.
URL:https://www.oavm.cz/akce/tridni-schuzky-a-informace-o-prospechu-2/
LOCATION:Obchodní akademie a VOŠ\, Masarykova 101/18\, Krásno nad Bečvou\, Valašské Meziříčí\, 757 01
ORGANIZER;CN="Obchodn%C3%AD akademie a VO%C5%A0 Vala%C5%A1sk%C3%A9 Mezi%C5%99%C3%AD%C4%8D%C3%AD":MAILTO:oavalmez@oavm.cz
END:VEVENT
BEGIN:VEVENT
DTSTART;TZID=Europe/Prague:20211018T074500
DTEND;TZID=Europe/Prague:20211018T111500
DTSTAMP:20260422T043609
CREATED:20211006T084918Z
LAST-MODIFIED:20211006T084918Z
UID:9651-1634543100-1634555700@www.oavm.cz
SUMMARY:Soudní jednání - 2. C
DESCRIPTION:
URL:https://www.oavm.cz/akce/soudni-jednani-2-c-2/
LOCATION:Okresní soud ve Vsetíně – pobočka Valašské Meziříčí\, Legií 1374\, Valašské Meziříčí\, 757 01
CATEGORIES:vzdělávací
ORGANIZER;CN="Mgr. Lenka Volkov%C3%A1 Pal%C3%A1tov%C3%A1":MAILTO:lenka.volkova@oavm.cz
END:VEVENT
BEGIN:VEVENT
DTSTART;TZID=Europe/Prague:20211012T074500
DTEND;TZID=Europe/Prague:20211012T135000
DTSTAMP:20260422T043609
CREATED:20211007T122537Z
LAST-MODIFIED:20211007T122631Z
UID:9688-1634024700-1634046600@www.oavm.cz
SUMMARY:Šenovský datel 2021
DESCRIPTION:Zúčastní se vybraní žáci 2. ročníku\, učebna 129.
URL:https://www.oavm.cz/akce/senovsky-datel-2021/
LOCATION:učebna 129\, Masarykova 101/18\, Krásno nad Bečvou\, Valašské Meziříčí\, 757 01
ORGANIZER;CN="Mgr. Robert Sigmund%2C DiS.":MAILTO:robert.sigmund@oavm.cz
END:VEVENT
BEGIN:VEVENT
DTSTART;TZID=Europe/Prague:20210907T073000
DTEND;TZID=Europe/Prague:20210907T120000
DTSTAMP:20260422T043609
CREATED:20210826T121701Z
LAST-MODIFIED:20210826T121701Z
UID:9504-1630999800-1631016000@www.oavm.cz
SUMMARY:Opravná ústní maturitní zkouška
DESCRIPTION:Sraz je v 7:30 h ve 3. patře budovy VOŠ.
URL:https://www.oavm.cz/akce/opravna-ustni-maturitni-zkouska-2/
LOCATION:Vyšší odborná škola\, Na Šištotě 159\, Valašské Meziříčí\, 757 01
CATEGORIES:maturita
END:VEVENT
BEGIN:VEVENT
DTSTART;TZID=Europe/Prague:20210903T073000
DTEND;TZID=Europe/Prague:20210903T120000
DTSTAMP:20260422T043609
CREATED:20210826T121112Z
LAST-MODIFIED:20210826T121112Z
UID:9500-1630654200-1630670400@www.oavm.cz
SUMMARY:Opravná praktická maturitní zkouška
DESCRIPTION:
URL:https://www.oavm.cz/akce/opravna-prakticka-maturitni-zkouska-2/
LOCATION:počítačová učebna 344\, Masarykova 101/18\, Krásno nad Bečvou\, Valašské Meziříčí\, 757 01
CATEGORIES:maturita
ORGANIZER;CN="Obchodn%C3%AD akademie a VO%C5%A0 Vala%C5%A1sk%C3%A9 Mezi%C5%99%C3%AD%C4%8D%C3%AD":MAILTO:oavalmez@oavm.cz
END:VEVENT
BEGIN:VEVENT
DTSTART;TZID=Europe/Prague:20210901T080000
DTEND;TZID=Europe/Prague:20210901T100000
DTSTAMP:20260422T043609
CREATED:20210818T152826Z
LAST-MODIFIED:20210826T121818Z
UID:9483-1630483200-1630490400@www.oavm.cz
SUMMARY:Zápis studentů VOŠ
DESCRIPTION:1. ročník – 8.00 hodin\n2. ročník – 9.00 hodin\n3. ročník – 10.00 hodin \nK zápisu si prosím přineste Vaši fotografii o rozměrech 3×4 cm.
URL:https://www.oavm.cz/akce/zapis-studentu-vos-2/
LOCATION:VOŠ místnost č. 205\, Na Šištotě 159\, Valašské Meziříčí\, 757 01
CATEGORIES:VOŠ
ORGANIZER;CN="PaedDr. Bc. Petr Hub%C3%A1%C4%8Dek%2C Ph.D.":MAILTO:petr.hubacek@oavm.cz
END:VEVENT
BEGIN:VEVENT
DTSTART;TZID=Europe/Prague:20210826T100000
DTEND;TZID=Europe/Prague:20210826T110000
DTSTAMP:20260422T043609
CREATED:20210813T120114Z
LAST-MODIFIED:20210813T120114Z
UID:9479-1629972000-1629975600@www.oavm.cz
SUMMARY:Přijímací řízení na VOŠ
DESCRIPTION:Přijímací řízení proběhne v učebně 205 v budově VOŠ. Bližší informace zde.
URL:https://www.oavm.cz/akce/prijimaci-rizeni-na-vos/
LOCATION:VOŠ místnost č. 205\, Na Šištotě 159\, Valašské Meziříčí\, 757 01
CATEGORIES:přijímací zkoušky
ORGANIZER;CN="PaedDr. Bc. Petr Hub%C3%A1%C4%8Dek%2C Ph.D.":MAILTO:petr.hubacek@oavm.cz
END:VEVENT
BEGIN:VEVENT
DTSTART;TZID=Europe/Prague:20210708T100000
DTEND;TZID=Europe/Prague:20210708T110000
DTSTAMP:20260422T043609
CREATED:20210704T154711Z
LAST-MODIFIED:20210704T154711Z
UID:9461-1625738400-1625742000@www.oavm.cz
SUMMARY:Přijímací řízení VOŠ
DESCRIPTION:Přijímací řízení proběhne v učebně 205 v budově VOŠ. Bližší informace zde.
URL:https://www.oavm.cz/akce/prijimaci-rizeni-vos/
LOCATION:VOŠ místnost č. 205\, Na Šištotě 159\, Valašské Meziříčí\, 757 01
CATEGORIES:přijímací zkoušky
ORGANIZER;CN="PaedDr. Bc. Petr Hub%C3%A1%C4%8Dek%2C Ph.D.":MAILTO:petr.hubacek@oavm.cz
END:VEVENT
BEGIN:VEVENT
DTSTART;TZID=Europe/Prague:20210629T153000
DTEND;TZID=Europe/Prague:20210629T163000
DTSTAMP:20260422T043609
CREATED:20210519T113549Z
LAST-MODIFIED:20210609T064646Z
UID:9319-1624980600-1624984200@www.oavm.cz
SUMMARY:Informační schůzka pro rodiče budoucích 1. ročníků
DESCRIPTION:Rodiče budou informováni např. o stravování\, lyžařském kurzu apod.
URL:https://www.oavm.cz/akce/informacni-schuzka-pro-rodice-budoucich-1-rocniku-2/
LOCATION:Aula VOŠ\, Na Šištotě 159\, Valašské Meziříčí\, 757 01
ORGANIZER;CN="Obchodn%C3%AD akademie a VO%C5%A0 Vala%C5%A1sk%C3%A9 Mezi%C5%99%C3%AD%C4%8D%C3%AD":MAILTO:oavalmez@oavm.cz
END:VEVENT
BEGIN:VEVENT
DTSTART;TZID=Europe/Prague:20210621T100000
DTEND;TZID=Europe/Prague:20210621T180000
DTSTAMP:20260422T043609
CREATED:20210607T184115Z
LAST-MODIFIED:20210607T184115Z
UID:9327-1624269600-1624298400@www.oavm.cz
SUMMARY:Volby do školské rady
DESCRIPTION:Podrobnosti viz tento dokument.
URL:https://www.oavm.cz/akce/volby-do-skolske-rady/
LOCATION:Obchodní akademie a VOŠ\, Masarykova 101/18\, Krásno nad Bečvou\, Valašské Meziříčí\, 757 01
ORGANIZER;CN="Obchodn%C3%AD akademie a VO%C5%A0 Vala%C5%A1sk%C3%A9 Mezi%C5%99%C3%AD%C4%8D%C3%AD":MAILTO:oavalmez@oavm.cz
END:VEVENT
BEGIN:VEVENT
DTSTART;TZID=Europe/Prague:20210616T080000
DTEND;TZID=Europe/Prague:20210616T093000
DTSTAMP:20260422T043609
CREATED:20210609T070047Z
LAST-MODIFIED:20210614T212129Z
UID:9329-1623830400-1623835800@www.oavm.cz
SUMMARY:Fotografování tříd (aktualizováno)
DESCRIPTION:Proběhne ve středu 16. června od 8:00 v prostorách vedle tělocvičny (v romantickém zákoutí za parkovištěm). \n  \nČasový harmonogram\n\n\n\nTřída\nČas\n\n\n1. A\n8:00\n\n\n1. B\n8:05\n\n\n1. C\n8:10\n\n\n1. D\n8:15\n\n\n2. A\n8:25\n\n\n2. B\n8:30\n\n\n2. C\n8:35\n\n\n2. D\n8:40\n\n\n3. A\n8:50\n\n\n3. B\n8:55\n\n\n3. C\n9:00\n\n\n3. D\n9:05\n\n\nsbor\n9:25
URL:https://www.oavm.cz/akce/fotografovani-trid/
ORGANIZER;CN="Ing. Ji%C5%99%C3%AD Rom%C3%A1nek":MAILTO:jiri.romanek@oavm.cz
END:VEVENT
BEGIN:VEVENT
DTSTART;VALUE=DATE:20210607
DTEND;VALUE=DATE:20210609
DTSTAMP:20260422T043609
CREATED:20210328T131932Z
LAST-MODIFIED:20210329T160044Z
UID:9242-1623024000-1623196799@www.oavm.cz
SUMMARY:Ústní maturitní zkouška 4. D
DESCRIPTION:Do 30. 4. musí žák písemně oznámit\, zda bude konat ústní zkoušku z ANJ nebo CJL a musí odevzdat seznam četby. \nPodrobnosti vám sdělí třídní učitelé.
URL:https://www.oavm.cz/akce/ustni-maturitni-zkouska-4-d-2/
LOCATION:Vyšší odborná škola\, Na Šištotě 159\, Valašské Meziříčí\, 757 01
CATEGORIES:maturita
ORGANIZER;CN="Obchodn%C3%AD akademie a VO%C5%A0 Vala%C5%A1sk%C3%A9 Mezi%C5%99%C3%AD%C4%8D%C3%AD":MAILTO:oavalmez@oavm.cz
END:VEVENT
BEGIN:VEVENT
DTSTART;VALUE=DATE:20210607
DTEND;VALUE=DATE:20210610
DTSTAMP:20260422T043609
CREATED:20210328T131853Z
LAST-MODIFIED:20210329T160029Z
UID:9240-1623024000-1623283199@www.oavm.cz
SUMMARY:Ústní maturitní zkouška 4. C
DESCRIPTION:Do 30. 4. musí žák písemně oznámit\, zda bude konat ústní zkoušku z ANJ nebo CJL a musí odevzdat seznam četby. \nPodrobnosti vám sdělí třídní učitelé.
URL:https://www.oavm.cz/akce/ustni-maturitni-zkouska-4-c-2/
LOCATION:Vyšší odborná škola\, Na Šištotě 159\, Valašské Meziříčí\, 757 01
CATEGORIES:maturita
ORGANIZER;CN="Obchodn%C3%AD akademie a VO%C5%A0 Vala%C5%A1sk%C3%A9 Mezi%C5%99%C3%AD%C4%8D%C3%AD":MAILTO:oavalmez@oavm.cz
END:VEVENT
BEGIN:VEVENT
DTSTART;VALUE=DATE:20210601
DTEND;VALUE=DATE:20210604
DTSTAMP:20260422T043609
CREATED:20210328T131743Z
LAST-MODIFIED:20210329T160011Z
UID:9238-1622505600-1622764799@www.oavm.cz
SUMMARY:Ústní maturitní zkouška 4. B
DESCRIPTION:Do 30. 4. musí žák písemně oznámit\, zda bude konat ústní zkoušku z ANJ nebo CJL a musí odevzdat seznam četby. \nPodrobnosti vám sdělí třídní učitelé.
URL:https://www.oavm.cz/akce/ustni-maturitni-zkouska-4-b/
LOCATION:Vyšší odborná škola\, Na Šištotě 159\, Valašské Meziříčí\, 757 01
CATEGORIES:maturita
ORGANIZER;CN="Obchodn%C3%AD akademie a VO%C5%A0 Vala%C5%A1sk%C3%A9 Mezi%C5%99%C3%AD%C4%8D%C3%AD":MAILTO:oavalmez@oavm.cz
END:VEVENT
BEGIN:VEVENT
DTSTART;VALUE=DATE:20210601
DTEND;VALUE=DATE:20210605
DTSTAMP:20260422T043609
CREATED:20210328T131032Z
LAST-MODIFIED:20210329T155930Z
UID:9235-1622505600-1622851199@www.oavm.cz
SUMMARY:Ústní maturitní zkouška 4. A
DESCRIPTION:Do 30. 4. musí žák písemně oznámit\, zda bude konat ústní zkoušku z ANJ nebo CJL a musí odevzdat seznam četby. \nPodrobnosti vám sdělí třídní učitelé.
URL:https://www.oavm.cz/akce/ustni-maturitni-zkousky-4-a/
LOCATION:Vyšší odborná škola\, Na Šištotě 159\, Valašské Meziříčí\, 757 01
CATEGORIES:maturita
ORGANIZER;CN="Obchodn%C3%AD akademie a VO%C5%A0 Vala%C5%A1sk%C3%A9 Mezi%C5%99%C3%AD%C4%8D%C3%AD":MAILTO:oavalmez@oavm.cz
END:VEVENT
BEGIN:VEVENT
DTSTART;TZID=Europe/Prague:20210525T080000
DTEND;TZID=Europe/Prague:20210525T100000
DTSTAMP:20260422T043609
CREATED:20210329T155713Z
LAST-MODIFIED:20210329T155713Z
UID:9252-1621929600-1621936800@www.oavm.cz
SUMMARY:Maturita - didaktický test CJL
DESCRIPTION:
URL:https://www.oavm.cz/akce/maturita-didakticky-test-cjl/
LOCATION:Obchodní akademie a VOŠ\, Masarykova 101/18\, Krásno nad Bečvou\, Valašské Meziříčí\, 757 01
CATEGORIES:maturita
ORGANIZER;CN="Obchodn%C3%AD akademie a VO%C5%A0 Vala%C5%A1sk%C3%A9 Mezi%C5%99%C3%AD%C4%8D%C3%AD":MAILTO:oavalmez@oavm.cz
END:VEVENT
BEGIN:VEVENT
DTSTART;TZID=Europe/Prague:20210524T133000
DTEND;TZID=Europe/Prague:20210524T143000
DTSTAMP:20260422T043609
CREATED:20210329T155613Z
LAST-MODIFIED:20210329T155613Z
UID:9250-1621863000-1621866600@www.oavm.cz
SUMMARY:Maturita - didaktický test ANJ
DESCRIPTION:
URL:https://www.oavm.cz/akce/maturita-didakticky-test-anj/
LOCATION:Obchodní akademie a VOŠ\, Masarykova 101/18\, Krásno nad Bečvou\, Valašské Meziříčí\, 757 01
CATEGORIES:maturita
ORGANIZER;CN="Obchodn%C3%AD akademie a VO%C5%A0 Vala%C5%A1sk%C3%A9 Mezi%C5%99%C3%AD%C4%8D%C3%AD":MAILTO:oavalmez@oavm.cz
END:VEVENT
BEGIN:VEVENT
DTSTART;TZID=Europe/Prague:20210524T080000
DTEND;TZID=Europe/Prague:20210524T100000
DTSTAMP:20260422T043609
CREATED:20210328T132832Z
LAST-MODIFIED:20210329T155426Z
UID:9244-1621843200-1621850400@www.oavm.cz
SUMMARY:Maturita - didaktický test MAT
DESCRIPTION:
URL:https://www.oavm.cz/akce/didakticky-test-mat/
LOCATION:Obchodní akademie a VOŠ\, Masarykova 101/18\, Krásno nad Bečvou\, Valašské Meziříčí\, 757 01
CATEGORIES:maturita
ORGANIZER;CN="Obchodn%C3%AD akademie a VO%C5%A0 Vala%C5%A1sk%C3%A9 Mezi%C5%99%C3%AD%C4%8D%C3%AD":MAILTO:oavalmez@oavm.cz
END:VEVENT
END:VCALENDAR