BEGIN:VCALENDAR
VERSION:2.0
PRODID:-//Obchodní akademie a VOŠ Valašské Meziříčí - ECPv6.15.20//NONSGML v1.0//EN
CALSCALE:GREGORIAN
METHOD:PUBLISH
X-WR-CALNAME:Obchodní akademie a VOŠ Valašské Meziříčí
X-ORIGINAL-URL:https://www.oavm.cz
X-WR-CALDESC:Akce na Obchodní akademie a VOŠ Valašské Meziříčí
REFRESH-INTERVAL;VALUE=DURATION:PT1H
X-Robots-Tag:noindex
X-PUBLISHED-TTL:PT1H
BEGIN:VTIMEZONE
TZID:Europe/Prague
BEGIN:DAYLIGHT
TZOFFSETFROM:+0100
TZOFFSETTO:+0200
TZNAME:CEST
DTSTART:20200329T010000
END:DAYLIGHT
BEGIN:STANDARD
TZOFFSETFROM:+0200
TZOFFSETTO:+0100
TZNAME:CET
DTSTART:20201025T010000
END:STANDARD
BEGIN:DAYLIGHT
TZOFFSETFROM:+0100
TZOFFSETTO:+0200
TZNAME:CEST
DTSTART:20210328T010000
END:DAYLIGHT
BEGIN:STANDARD
TZOFFSETFROM:+0200
TZOFFSETTO:+0100
TZNAME:CET
DTSTART:20211031T010000
END:STANDARD
BEGIN:DAYLIGHT
TZOFFSETFROM:+0100
TZOFFSETTO:+0200
TZNAME:CEST
DTSTART:20220327T010000
END:DAYLIGHT
BEGIN:STANDARD
TZOFFSETFROM:+0200
TZOFFSETTO:+0100
TZNAME:CET
DTSTART:20221030T010000
END:STANDARD
BEGIN:DAYLIGHT
TZOFFSETFROM:+0100
TZOFFSETTO:+0200
TZNAME:CEST
DTSTART:20230326T010000
END:DAYLIGHT
BEGIN:STANDARD
TZOFFSETFROM:+0200
TZOFFSETTO:+0100
TZNAME:CET
DTSTART:20231029T010000
END:STANDARD
END:VTIMEZONE
BEGIN:VEVENT
DTSTART;TZID=Europe/Prague:20220920T144500
DTEND;TZID=Europe/Prague:20220920T153000
DTSTAMP:20260422T014656
CREATED:20220915T084530Z
LAST-MODIFIED:20220915T084530Z
UID:10628-1663685100-1663687800@www.oavm.cz
SUMMARY:Výběrové řízení Dublin 2023
DESCRIPTION:Místnost bude upřesněna podle počtu přihlášených. Podrobnosti k výběrovému řízení v tomto odkazu.
URL:https://www.oavm.cz/akce/vyberove-rizeni-dublin-2023/
LOCATION:Obchodní akademie a VOŠ\, Masarykova 101/18\, Krásno nad Bečvou\, Valašské Meziříčí\, 757 01
ORGANIZER;CN="Ing. Alena Machalov%C3%A1":MAILTO:alena.machalova@oavm.cz
END:VEVENT
BEGIN:VEVENT
DTSTART;TZID=Europe/Prague:20220901T090000
DTEND;TZID=Europe/Prague:20220901T093000
DTSTAMP:20260422T014656
CREATED:20220815T095349Z
LAST-MODIFIED:20220817T113829Z
UID:10536-1662022800-1662024600@www.oavm.cz
SUMMARY:Zápis VOŠ
DESCRIPTION:Ve čtvrtek 1. září 2022 se koná v budově VOŠ v místnosti č. 205 zápis studentů do jednotlivých ročníků VOŠ dle tohoto harmonogramu: \n2. ročník 9.00 hodin \nPravidelná výuka začne od pátku 2. září 2022 dle rozvrhu\, který bude od konce srpna zveřejněn na webu školy nebo v informačním systému Bakaláři.
URL:https://www.oavm.cz/akce/zapis-vos/
LOCATION:VOŠ místnost č. 205\, Na Šištotě 159\, Valašské Meziříčí\, 757 01
CATEGORIES:VOŠ
ORGANIZER;CN="Daniela Zemanov%C3%A1":MAILTO:daniela.zemanova@oavm.cz
END:VEVENT
BEGIN:VEVENT
DTSTART;TZID=Europe/Prague:20220719T100000
DTEND;TZID=Europe/Prague:20220719T110000
DTSTAMP:20260422T014656
CREATED:20220624T124326Z
LAST-MODIFIED:20220624T130015Z
UID:10453-1658224800-1658228400@www.oavm.cz
SUMMARY:2. kolo přijímacího řízení na VOŠ
DESCRIPTION:Přijímací řízení proběhne v učebně 205 v budově VOŠ. Bližší informace zde.
URL:https://www.oavm.cz/akce/2-kolo-prijimaciho-rizeni-na-vos/
LOCATION:VOŠ místnost č. 205\, Na Šištotě 159\, Valašské Meziříčí\, 757 01
CATEGORIES:přijímací zkoušky
ORGANIZER;CN="PaedDr. Bc. Petr Hub%C3%A1%C4%8Dek%2C Ph.D.":MAILTO:petr.hubacek@oavm.cz
END:VEVENT
BEGIN:VEVENT
DTSTART;TZID=Europe/Prague:20220621T153000
DTEND;TZID=Europe/Prague:20220621T173000
DTSTAMP:20260422T014656
CREATED:20220602T091337Z
LAST-MODIFIED:20220602T091337Z
UID:10423-1655825400-1655832600@www.oavm.cz
SUMMARY:Informační schůzka pro rodiče budoucích 1. ročníků
DESCRIPTION:Rodiče budou informováni např. o stravování\, lyžařském kurzu apod.
URL:https://www.oavm.cz/akce/informacni-schuzka-pro-rodice-budoucich-1-rocniku-3/
LOCATION:Aula VOŠ\, Na Šištotě 159\, Valašské Meziříčí\, 757 01
ORGANIZER;CN="Obchodn%C3%AD akademie a VO%C5%A0 Vala%C5%A1sk%C3%A9 Mezi%C5%99%C3%AD%C4%8D%C3%AD":MAILTO:oavalmez@oavm.cz
END:VEVENT
BEGIN:VEVENT
DTSTART;TZID=Europe/Prague:20220606T074500
DTEND;TZID=Europe/Prague:20220606T120000
DTSTAMP:20260422T014656
CREATED:20220602T091144Z
LAST-MODIFIED:20220602T091144Z
UID:10421-1654501500-1654516800@www.oavm.cz
SUMMARY:Absolutorium VOŠ
DESCRIPTION:
URL:https://www.oavm.cz/akce/absolutorium-vos-2/
LOCATION:Vyšší odborná škola\, Na Šištotě 159\, Valašské Meziříčí\, 757 01
ORGANIZER;CN="PaedDr. Bc. Petr Hub%C3%A1%C4%8Dek%2C Ph.D.":MAILTO:petr.hubacek@oavm.cz
END:VEVENT
BEGIN:VEVENT
DTSTART;TZID=Europe/Prague:20220602T150000
DTEND;TZID=Europe/Prague:20220602T163000
DTSTAMP:20260422T014656
CREATED:20220602T090706Z
LAST-MODIFIED:20220602T090706Z
UID:10417-1654182000-1654187400@www.oavm.cz
SUMMARY:Předávání maturitních vysvědčení
DESCRIPTION:Proběhne v amfiteátru ve Valašském Meziříčí.
URL:https://www.oavm.cz/akce/predavani-maturitnich-vysvedceni-3/
LOCATION:Amfiteátr v Zámeckém parku\, Zámecká 3/55\, Valašské Meziříčí\, 757 01
CATEGORIES:maturita
ORGANIZER;CN="Obchodn%C3%AD akademie a VO%C5%A0 Vala%C5%A1sk%C3%A9 Mezi%C5%99%C3%AD%C4%8D%C3%AD":MAILTO:oavalmez@oavm.cz
END:VEVENT
BEGIN:VEVENT
DTSTART;VALUE=DATE:20220504
DTEND;VALUE=DATE:20220505
DTSTAMP:20260422T014656
CREATED:20220425T082523Z
LAST-MODIFIED:20220425T082523Z
UID:10334-1651622400-1651708799@www.oavm.cz
SUMMARY:Maturita - didaktické testy MX\, RUJ
DESCRIPTION:
URL:https://www.oavm.cz/akce/maturita-didakticke-testy-mx-ruj/
LOCATION:Obchodní akademie a VOŠ\, Masarykova 101/18\, Krásno nad Bečvou\, Valašské Meziříčí\, 757 01
CATEGORIES:maturita
ORGANIZER;CN="Obchodn%C3%AD akademie a VO%C5%A0 Vala%C5%A1sk%C3%A9 Mezi%C5%99%C3%AD%C4%8D%C3%AD":MAILTO:oavalmez@oavm.cz
END:VEVENT
BEGIN:VEVENT
DTSTART;TZID=Europe/Prague:20220503T074500
DTEND;TZID=Europe/Prague:20220503T102500
DTSTAMP:20260422T014656
CREATED:20220425T081808Z
LAST-MODIFIED:20220425T081808Z
UID:10332-1651563900-1651573500@www.oavm.cz
SUMMARY:Divadelní představení - Písničky a scénky Osvobozeného divadla
DESCRIPTION:Představení začíná v 8:30 a je určeno pro žáky 2. ročníku.
URL:https://www.oavm.cz/akce/divadelni-predstaveni-pisnicky-a-scenky-osvobozeneho-divadla/
LOCATION:Kulturní zařízení města Valašského Meziříčí\, Komenského 1\, Valašské Meziříčí\, 757 01
CATEGORIES:vzdělávací
ORGANIZER;CN="Mgr. Tom%C3%A1%C5%A1 Jur%C3%AD%C4%8Dek":MAILTO:tomas.juricek@oavm.cz
END:VEVENT
BEGIN:VEVENT
DTSTART;VALUE=DATE:20220503
DTEND;VALUE=DATE:20220504
DTSTAMP:20260422T014656
CREATED:20220425T081411Z
LAST-MODIFIED:20220425T081411Z
UID:10330-1651536000-1651622399@www.oavm.cz
SUMMARY:Ekologický den
DESCRIPTION:Bližší informace budou zveřejněny co nejdříve.
URL:https://www.oavm.cz/akce/ekologicky-den/
CATEGORIES:exkurze
ORGANIZER;CN="RNDr. Eva %C4%8Ctver%C3%A1%C4%8Dkov%C3%A1":MAILTO:eva.ctverackova@oavm.cz
END:VEVENT
BEGIN:VEVENT
DTSTART;VALUE=DATE:20220503
DTEND;VALUE=DATE:20220504
DTSTAMP:20260422T014656
CREATED:20220425T081039Z
LAST-MODIFIED:20220425T081039Z
UID:10328-1651536000-1651622399@www.oavm.cz
SUMMARY:Maturita - didaktické testy CJL
DESCRIPTION:
URL:https://www.oavm.cz/akce/maturita-didakticke-testy-cjl/
LOCATION:Obchodní akademie a VOŠ\, Masarykova 101/18\, Krásno nad Bečvou\, Valašské Meziříčí\, 757 01
CATEGORIES:maturita
ORGANIZER;CN="Obchodn%C3%AD akademie a VO%C5%A0 Vala%C5%A1sk%C3%A9 Mezi%C5%99%C3%AD%C4%8D%C3%AD":MAILTO:oavalmez@oavm.cz
END:VEVENT
BEGIN:VEVENT
DTSTART;VALUE=DATE:20220502
DTEND;VALUE=DATE:20220503
DTSTAMP:20260422T014656
CREATED:20220425T080913Z
LAST-MODIFIED:20220425T080913Z
UID:10326-1651449600-1651535999@www.oavm.cz
SUMMARY:Maturita - didaktické testy MAT\, ANJ
DESCRIPTION:
URL:https://www.oavm.cz/akce/maturita-didakticke-testy-mat-anj/
LOCATION:Obchodní akademie a VOŠ\, Masarykova 101/18\, Krásno nad Bečvou\, Valašské Meziříčí\, 757 01
CATEGORIES:maturita
ORGANIZER;CN="Obchodn%C3%AD akademie a VO%C5%A0 Vala%C5%A1sk%C3%A9 Mezi%C5%99%C3%AD%C4%8D%C3%AD":MAILTO:oavalmez@oavm.cz
END:VEVENT
BEGIN:VEVENT
DTSTART;VALUE=DATE:20220428
DTEND;VALUE=DATE:20220429
DTSTAMP:20260422T014656
CREATED:20220425T075436Z
LAST-MODIFIED:20220425T075436Z
UID:10324-1651104000-1651190399@www.oavm.cz
SUMMARY:Praktická maturitní zkouška
DESCRIPTION:Praktická maturitní zkouška žáků 4. ročníku. Přejeme hodně štěstí při losování!
URL:https://www.oavm.cz/akce/prakticka-maturitni-zkouska-4/
LOCATION:Obchodní akademie a VOŠ\, Masarykova 101/18\, Krásno nad Bečvou\, Valašské Meziříčí\, 757 01
CATEGORIES:maturita
ORGANIZER;CN="Obchodn%C3%AD akademie a VO%C5%A0 Vala%C5%A1sk%C3%A9 Mezi%C5%99%C3%AD%C4%8D%C3%AD":MAILTO:oavalmez@oavm.cz
END:VEVENT
BEGIN:VEVENT
DTSTART;VALUE=DATE:20220426
DTEND;VALUE=DATE:20220427
DTSTAMP:20260422T014656
CREATED:20220425T075238Z
LAST-MODIFIED:20220425T075238Z
UID:10322-1650931200-1651017599@www.oavm.cz
SUMMARY:Exkurze - soudní jednání Valašské Meziříčí
DESCRIPTION:Exkurze v rámci předmětu právo pro žáky 1. C.
URL:https://www.oavm.cz/akce/exkurze-soudni-jednani-valasske-mezirici-2/
LOCATION:Okresní soud ve Vsetíně – pobočka Valašské Meziříčí\, Legií 1374\, Valašské Meziříčí\, 757 01
CATEGORIES:exkurze,vzdělávací
ORGANIZER;CN="Mgr. Lenka Volkov%C3%A1 Pal%C3%A1tov%C3%A1":MAILTO:lenka.volkova@oavm.cz
END:VEVENT
BEGIN:VEVENT
DTSTART;VALUE=DATE:20220420
DTEND;VALUE=DATE:20220422
DTSTAMP:20260422T014656
CREATED:20220407T115617Z
LAST-MODIFIED:20220407T115617Z
UID:10286-1650412800-1650585599@www.oavm.cz
SUMMARY:Mistrovství ČR žáků ve zpracování textů 2022 - republikové kolo
DESCRIPTION:Soutěž vybraných žáků postupujících z krajských kol v disciplínách ve zpracování textů.
URL:https://www.oavm.cz/akce/mistrovstvi-cr-zaku-ve-zpracovani-textu-2022-republikove-kolo/
LOCATION:OA Hovorčovická\, U Vinohradského hřbitova 3\, Praha 3\, 130 00
ORGANIZER;CN="OA Hovor%C4%8Dovick%C3%A1":MAILTO:skola@oahovorcovicka.cz
END:VEVENT
BEGIN:VEVENT
DTSTART;TZID=Europe/Prague:20220413T074500
DTEND;TZID=Europe/Prague:20220413T100000
DTSTAMP:20260422T014656
CREATED:20220407T114512Z
LAST-MODIFIED:20220407T114616Z
UID:10281-1649835900-1649844000@www.oavm.cz
SUMMARY:Maturitní zkouška - písemná práce z cizího jazyka
DESCRIPTION:7.45 hod. příchod do učebny. Proběhne kontrola přítomných\, instrukce\, rozdání zadání. \nUčebnu se dozvíte nejpozději v pátek. Rozpis bude ve vestibulu školy. \n8.00 hod. zahájení písemné práce. Na vypracování máte 90 minut. \n(někteří mají čas navýšený\, někteří píšou písemnou práci na PC – bude zajištěno) \nNa každé učebně bude k dispozici jeden slovník. Kdo chce používat vlastní slovník\, musí ho odevzdat označený svým jménem nejpozději do pátku 8. 4. vyučujícímu cizího jazyka.
URL:https://www.oavm.cz/akce/maturitni-zkouska-pisemna-prace-z-ciziho-jazyka/
LOCATION:Obchodní akademie a VOŠ\, Masarykova 101/18\, Krásno nad Bečvou\, Valašské Meziříčí\, 757 01
CATEGORIES:maturita
ORGANIZER;CN="Obchodn%C3%AD akademie a VO%C5%A0 Vala%C5%A1sk%C3%A9 Mezi%C5%99%C3%AD%C4%8D%C3%AD":MAILTO:oavalmez@oavm.cz
END:VEVENT
BEGIN:VEVENT
DTSTART;VALUE=DATE:20220413
DTEND;VALUE=DATE:20220414
DTSTAMP:20260422T014656
CREATED:20220407T114804Z
LAST-MODIFIED:20220407T114804Z
UID:10284-1649808000-1649894399@www.oavm.cz
SUMMARY:Přijímací zkoušky
DESCRIPTION:Informace budou vyvěšeny ve vestibulu školy.
URL:https://www.oavm.cz/akce/prijimaci-zkousky-2/
LOCATION:Obchodní akademie a VOŠ\, Masarykova 101/18\, Krásno nad Bečvou\, Valašské Meziříčí\, 757 01
CATEGORIES:přijímací zkoušky
ORGANIZER;CN="Obchodn%C3%AD akademie a VO%C5%A0 Vala%C5%A1sk%C3%A9 Mezi%C5%99%C3%AD%C4%8D%C3%AD":MAILTO:oavalmez@oavm.cz
END:VEVENT
BEGIN:VEVENT
DTSTART;TZID=Europe/Prague:20220412T074500
DTEND;TZID=Europe/Prague:20220412T100000
DTSTAMP:20260422T014656
CREATED:20220407T114220Z
LAST-MODIFIED:20220407T114302Z
UID:10278-1649749500-1649757600@www.oavm.cz
SUMMARY:Maturitní zkouška - písemná práce ČJ
DESCRIPTION:7.45 hod. příchod do učebny. Proběhne kontrola přítomných\, instrukce\, rozdání zadání. \nUčebnu se dozvíte nejpozději v pátek. Rozpis bude ve vestibulu školy. \n8.00 hod. zahájení písemné práce. Na vypracování máte 120 minut. \n(někteří mají čas navýšený\, někteří píšou písemnou práci na PC – bude zajištěno) \nNa každé učebně budou k dispozici jedna Pravidla českého pravopisu.
URL:https://www.oavm.cz/akce/maturitni-zkouska-pisemna-prace-cj/
LOCATION:Obchodní akademie a VOŠ\, Masarykova 101/18\, Krásno nad Bečvou\, Valašské Meziříčí\, 757 01
CATEGORIES:maturita
ORGANIZER;CN="Obchodn%C3%AD akademie a VO%C5%A0 Vala%C5%A1sk%C3%A9 Mezi%C5%99%C3%AD%C4%8D%C3%AD":MAILTO:oavalmez@oavm.cz
END:VEVENT
BEGIN:VEVENT
DTSTART;VALUE=DATE:20220412
DTEND;VALUE=DATE:20220413
DTSTAMP:20260422T014656
CREATED:20220407T113514Z
LAST-MODIFIED:20220407T113625Z
UID:10276-1649721600-1649807999@www.oavm.cz
SUMMARY:Přijímací zkoušky
DESCRIPTION:Informace budou vyvěšeny ve vestibulu školy.
URL:https://www.oavm.cz/akce/prijimaci-zkousky/
LOCATION:Obchodní akademie a VOŠ\, Masarykova 101/18\, Krásno nad Bečvou\, Valašské Meziříčí\, 757 01
CATEGORIES:přijímací zkoušky
ORGANIZER;CN="Obchodn%C3%AD akademie a VO%C5%A0 Vala%C5%A1sk%C3%A9 Mezi%C5%99%C3%AD%C4%8D%C3%AD":MAILTO:oavalmez@oavm.cz
END:VEVENT
BEGIN:VEVENT
DTSTART;TZID=Europe/Prague:20220406T112500
DTEND;TZID=Europe/Prague:20220406T144000
DTSTAMP:20260422T014656
CREATED:20220401T101705Z
LAST-MODIFIED:20220401T101705Z
UID:10252-1649244300-1649256000@www.oavm.cz
SUMMARY:Exkurze - soudní jednání Valašské Meziříčí
DESCRIPTION:Exkurze v rámci předmětu právo pro žáky 1. C.
URL:https://www.oavm.cz/akce/exkurze-soudni-jednani-valasske-mezirici/
LOCATION:Okresní soud ve Vsetíně – pobočka Valašské Meziříčí\, Legií 1374\, Valašské Meziříčí\, 757 01
CATEGORIES:exkurze,vzdělávací
ORGANIZER;CN="Mgr. Lenka Volkov%C3%A1 Pal%C3%A1tov%C3%A1":MAILTO:lenka.volkova@oavm.cz
END:VEVENT
BEGIN:VEVENT
DTSTART;VALUE=DATE:20220406
DTEND;VALUE=DATE:20220407
DTSTAMP:20260422T014656
CREATED:20220401T101202Z
LAST-MODIFIED:20220401T101202Z
UID:10250-1649203200-1649289599@www.oavm.cz
SUMMARY:Basketbal - školní turnaj chlapci
DESCRIPTION:Týmy se řídí pokyny organizátora Mgr. Tomáše Perutky.
URL:https://www.oavm.cz/akce/basketbal-skolni-turnaj-chlapci/
LOCATION:tělocvična Obchodní akademie\, Masarykova 101/18\, Valašské Meziříčí\, 757 01
CATEGORIES:sportovní
ORGANIZER;CN="Mgr. Tom%C3%A1%C5%A1 Perutka":MAILTO:tomas.perutka@oavm.cz
END:VEVENT
BEGIN:VEVENT
DTSTART;VALUE=DATE:20220405
DTEND;VALUE=DATE:20220406
DTSTAMP:20260422T014656
CREATED:20220401T101024Z
LAST-MODIFIED:20220401T101114Z
UID:10247-1649116800-1649203199@www.oavm.cz
SUMMARY:Basketbal - školní turnaj dívky
DESCRIPTION:Týmy se řídí pokyny organizátora Mgr. Tomáše Perutky.
URL:https://www.oavm.cz/akce/basketbal-skolni-turnaj-divky/
LOCATION:tělocvična Obchodní akademie\, Masarykova 101/18\, Valašské Meziříčí\, 757 01
CATEGORIES:sportovní
ORGANIZER;CN="Mgr. Tom%C3%A1%C5%A1 Perutka":MAILTO:tomas.perutka@oavm.cz
END:VEVENT
BEGIN:VEVENT
DTSTART;VALUE=DATE:20220321
DTEND;VALUE=DATE:20220326
DTSTAMP:20260422T014656
CREATED:20220304T145218Z
LAST-MODIFIED:20220307T114433Z
UID:10090-1647820800-1648252799@www.oavm.cz
SUMMARY:Lyžařský kurz 2. ročník
DESCRIPTION:Náhradní termín za zrušený kurz v 1. ročníku ve školním roce 2020/2021. Žáci\, kteří nepojedou\, budou přítomni ve škole a budou mít náhradní rozvrh a aktivity.
URL:https://www.oavm.cz/akce/lyzarsky-kurz-2-rocnik/
LOCATION:lyžařské středisko Bílá\, Bílá 173\, Staré Hamry\, 739 15
CATEGORIES:sportovní
ORGANIZER;CN="Mgr. Mel%C3%A1nie Kratinov%C3%A1":MAILTO:melanie.kratinova@oavm.cz
END:VEVENT
BEGIN:VEVENT
DTSTART;TZID=Europe/Prague:20220310T094000
DTEND;TZID=Europe/Prague:20220310T111500
DTSTAMP:20260422T014656
CREATED:20220304T144448Z
LAST-MODIFIED:20220304T144448Z
UID:10087-1646905200-1646910900@www.oavm.cz
SUMMARY:Školní kolo matematické soutěže pro 1. a 2. ročník
DESCRIPTION:
URL:https://www.oavm.cz/akce/skolni-kolo-matematicke-souteze-pro-1-a-2-rocnik/
LOCATION:Obchodní akademie a VOŠ\, Masarykova 101/18\, Krásno nad Bečvou\, Valašské Meziříčí\, 757 01
CATEGORIES:vzdělávací
ORGANIZER;CN="Mgr. V%C3%ADt Han%C3%A1k":MAILTO:vit.hanak@oavm.cz
END:VEVENT
BEGIN:VEVENT
DTSTART;VALUE=DATE:20220201
DTEND;VALUE=DATE:20220202
DTSTAMP:20260422T014656
CREATED:20220120T190550Z
LAST-MODIFIED:20220120T190550Z
UID:9948-1643673600-1643759999@www.oavm.cz
SUMMARY:Planeta Země 3000 - Madagaskar
DESCRIPTION:Přednáška pro žáky 1. a 2. ročníku. Čas bude upřesněn.
URL:https://www.oavm.cz/akce/planeta-zeme-3000-madagaskar/
LOCATION:Kino Valmez\, Nábřeží 268\, Valašské Meziříčí\, 757 01
CATEGORIES:vzdělávací
ORGANIZER;CN="RNDr. Eva %C4%8Ctver%C3%A1%C4%8Dkov%C3%A1":MAILTO:eva.ctverackova@oavm.cz
END:VEVENT
BEGIN:VEVENT
DTSTART;TZID=Europe/Prague:20220131T103000
DTEND;TZID=Europe/Prague:20220131T130000
DTSTAMP:20260422T014656
CREATED:20220127T084705Z
LAST-MODIFIED:20220127T084754Z
UID:9965-1643625000-1643634000@www.oavm.cz
SUMMARY:Předávání výpisů vysvědčení
DESCRIPTION:1. ročník – 4. vyučovací hodina\n2. ročník – 5. vyučovací hodina\n3. a 4. ročník – 6. vyučovací hodina
URL:https://www.oavm.cz/akce/predavani-vypisu-vysvedceni/
LOCATION:Obchodní akademie a VOŠ\, Masarykova 101/18\, Krásno nad Bečvou\, Valašské Meziříčí\, 757 01
ORGANIZER;CN="Mgr. Andrea Hlavat%C3%A1":MAILTO:andrea.hlavata@oavm.cz
END:VEVENT
BEGIN:VEVENT
DTSTART;VALUE=DATE:20220124
DTEND;VALUE=DATE:20220129
DTSTAMP:20260422T014656
CREATED:20220120T190127Z
LAST-MODIFIED:20220120T190127Z
UID:9946-1642982400-1643414399@www.oavm.cz
SUMMARY:Lyžařský kurz 1. ročník
DESCRIPTION:Žáci\, kteří nepojedou se budou učit dle náhradního rozvrhu hodin a budou zajišťovat recepci školy.
URL:https://www.oavm.cz/akce/lyzarsky-kurz-1-rocnik/
LOCATION:lyžařské středisko Bílá\, Bílá 173\, Staré Hamry\, 739 15
CATEGORIES:sportovní
ORGANIZER;CN="Mgr. Tom%C3%A1%C5%A1 Perutka":MAILTO:tomas.perutka@oavm.cz
END:VEVENT
BEGIN:VEVENT
DTSTART;TZID=Europe/Prague:20220121T080000
DTEND;TZID=Europe/Prague:20220121T160000
DTSTAMP:20260422T014656
CREATED:20220110T140424Z
LAST-MODIFIED:20220110T140526Z
UID:9915-1642752000-1642780800@www.oavm.cz
SUMMARY:Den otevřených dveří
DESCRIPTION:V pátek 21. ledna se koná den otevřených dveří. Přijďte se podívat\, jak probíhá výuka\, jak to u nás vypadá a co všechno vás čeká\, když se rozhodnete pro naši školu. \nJste srdečně vítáni!
URL:https://www.oavm.cz/akce/den-otevrenych-dveri-5/
LOCATION:Obchodní akademie a VOŠ\, Masarykova 101/18\, Krásno nad Bečvou\, Valašské Meziříčí\, 757 01
CATEGORIES:DOD
ORGANIZER;CN="Obchodn%C3%AD akademie a VO%C5%A0 Vala%C5%A1sk%C3%A9 Mezi%C5%99%C3%AD%C4%8D%C3%AD":MAILTO:oavalmez@oavm.cz
END:VEVENT
BEGIN:VEVENT
DTSTART;TZID=Europe/Prague:20211216T084000
DTEND;TZID=Europe/Prague:20211216T121500
DTSTAMP:20260422T014656
CREATED:20211108T093642Z
LAST-MODIFIED:20211215T081218Z
UID:9767-1639644000-1639656900@www.oavm.cz
SUMMARY:Staň se "NA DEN STŘEDOŠKOLÁKEM" - obor Veřejnosprávní činnost
DESCRIPTION:Akce „NA DEN STŘEDOŠKOLÁKEM“ je určena žákům 9. tříd základních škol\, kteří mají zájem o studium na naší škole a je zdarma. Tento termín je určen zájemcům o obor Veřejnosprávní činnost. Vyzkoušíte si předměty: \n\nprávo\,\nveřejná správa\,\nšpanělština\,\nfrancouzština\,\nruština\,\nněmčina\,\npísemná a elektronická komunikace.\n\nŽák obdrží potvrzení\, že se výuky zúčastnil. Výuka začíná v 8:40 a končí 12:15. \nMáte jedinečnou příležitost vyzkoušet si zasednout do školních lavic střední školy. \nPo vyplnění přihlášky budou vaše údaje zpracovány pro účely pouze této akce. Případné dotazy Vám zodpoví Mgr. Robert Sigmund\, výchovný poradce\, na telefonním čísle 777 636 274  nebo na e-mailové adrese: robert.sigmund@oavm.cz. \nPřihlašování bylo ukončeno.
URL:https://www.oavm.cz/akce/stan-se-na-den-stredoskolakem-obor-verejnospravni-cinnost/
LOCATION:Obchodní akademie a VOŠ\, Masarykova 101/18\, Krásno nad Bečvou\, Valašské Meziříčí\, 757 01
ORGANIZER;CN="Obchodn%C3%AD akademie a VO%C5%A0 Vala%C5%A1sk%C3%A9 Mezi%C5%99%C3%AD%C4%8D%C3%AD":MAILTO:oavalmez@oavm.cz
END:VEVENT
BEGIN:VEVENT
DTSTART;TZID=Europe/Prague:20211215T084000
DTEND;TZID=Europe/Prague:20211215T121500
DTSTAMP:20260422T014656
CREATED:20211108T093231Z
LAST-MODIFIED:20211210T084002Z
UID:9765-1639557600-1639570500@www.oavm.cz
SUMMARY:Staň se "NA DEN STŘEDOŠKOLÁKEM" - obor Informační technologie
DESCRIPTION:Akce „NA DEN STŘEDOŠKOLÁKEM“ je určena žákům 9. tříd základních škol\, kteří mají zájem o studium na naší škole a je zdarma. Tento termín je určen zájemcům o obor Informační technologie. Vyzkoušíte si předměty: \n\ngrafika\,\nprogramování\,\nwebové stránky\,\npočítačové sítě.\n\nŽák obdrží potvrzení\, že se výuky zúčastnil. Výuka začíná v 8:40 a končí 12:15. \nMáte jedinečnou příležitost vyzkoušet si zasednout do školních lavic střední školy. \nPo vyplnění přihlášky budou vaše údaje zpracovány pro účely pouze této akce. Případné dotazy Vám zodpoví Mgr. Robert Sigmund\, výchovný poradce\, na telefonním čísle 777 636 274  nebo na e-mailové adrese: robert.sigmund@oavm.cz. \nPřihlašování je ukončeno z důvodu naplnění kapacity!
URL:https://www.oavm.cz/akce/stan-se-na-den-stredoskolakem-obor-informacni-technologie/
LOCATION:Obchodní akademie a VOŠ\, Masarykova 101/18\, Krásno nad Bečvou\, Valašské Meziříčí\, 757 01
ORGANIZER;CN="Obchodn%C3%AD akademie a VO%C5%A0 Vala%C5%A1sk%C3%A9 Mezi%C5%99%C3%AD%C4%8D%C3%AD":MAILTO:oavalmez@oavm.cz
END:VEVENT
BEGIN:VEVENT
DTSTART;TZID=Europe/Prague:20211214T084000
DTEND;TZID=Europe/Prague:20211214T121500
DTSTAMP:20260422T014656
CREATED:20211108T085602Z
LAST-MODIFIED:20211210T083903Z
UID:9695-1639471200-1639484100@www.oavm.cz
SUMMARY:Staň se "NA DEN STŘEDOŠKOLÁKEM" - obor Obchodní akademie
DESCRIPTION:Akce „NA DEN STŘEDOŠKOLÁKEM“ je určena žákům 9. tříd základních škol\, kteří mají zájem o studium na naší škole a je zdarma. Tento termín je určen zájemcům o obor Obchodní akademie. Vyzkoušíte si předměty: \n\nekonomika\,\núčetnictví\,\nšpanělština\,\nfrancouzština\,\nněmčina\,\nruština\,\nfiktivní firma\,\nreálná firma.\n\nŽák obdrží potvrzení\, že se výuky zúčastnil. Výuka začíná v 8:40 a končí 12:15. \nMáte jedinečnou příležitost vyzkoušet si zasednout do školních lavic střední školy. \nPo vyplnění přihlášky budou vaše údaje zpracovány pro účely pouze této akce. Případné dotazy Vám zodpoví Mgr. Robert Sigmund\, výchovný poradce\, na telefonním čísle 777 636 274  nebo na e-mailové adrese: robert.sigmund@oavm.cz. \nPřihlašování je ukončeno z důvodu naplnění kapacity! \n 
URL:https://www.oavm.cz/akce/stan-se-na-den-stredoskolakem-obor-obchodni-akademie-4/
LOCATION:Obchodní akademie a VOŠ\, Masarykova 101/18\, Krásno nad Bečvou\, Valašské Meziříčí\, 757 01
ORGANIZER;CN="Obchodn%C3%AD akademie a VO%C5%A0 Vala%C5%A1sk%C3%A9 Mezi%C5%99%C3%AD%C4%8D%C3%AD":MAILTO:oavalmez@oavm.cz
END:VEVENT
END:VCALENDAR