BEGIN:VCALENDAR
VERSION:2.0
PRODID:-//Obchodní akademie a VOŠ Valašské Meziříčí - ECPv6.15.20//NONSGML v1.0//EN
CALSCALE:GREGORIAN
METHOD:PUBLISH
X-WR-CALNAME:Obchodní akademie a VOŠ Valašské Meziříčí
X-ORIGINAL-URL:https://www.oavm.cz
X-WR-CALDESC:Akce na Obchodní akademie a VOŠ Valašské Meziříčí
REFRESH-INTERVAL;VALUE=DURATION:PT1H
X-Robots-Tag:noindex
X-PUBLISHED-TTL:PT1H
BEGIN:VTIMEZONE
TZID:Europe/Prague
BEGIN:DAYLIGHT
TZOFFSETFROM:+0100
TZOFFSETTO:+0200
TZNAME:CEST
DTSTART:20180325T010000
END:DAYLIGHT
BEGIN:STANDARD
TZOFFSETFROM:+0200
TZOFFSETTO:+0100
TZNAME:CET
DTSTART:20181028T010000
END:STANDARD
BEGIN:DAYLIGHT
TZOFFSETFROM:+0100
TZOFFSETTO:+0200
TZNAME:CEST
DTSTART:20190331T010000
END:DAYLIGHT
BEGIN:STANDARD
TZOFFSETFROM:+0200
TZOFFSETTO:+0100
TZNAME:CET
DTSTART:20191027T010000
END:STANDARD
BEGIN:DAYLIGHT
TZOFFSETFROM:+0100
TZOFFSETTO:+0200
TZNAME:CEST
DTSTART:20200329T010000
END:DAYLIGHT
BEGIN:STANDARD
TZOFFSETFROM:+0200
TZOFFSETTO:+0100
TZNAME:CET
DTSTART:20201025T010000
END:STANDARD
BEGIN:DAYLIGHT
TZOFFSETFROM:+0100
TZOFFSETTO:+0200
TZNAME:CEST
DTSTART:20210328T010000
END:DAYLIGHT
BEGIN:STANDARD
TZOFFSETFROM:+0200
TZOFFSETTO:+0100
TZNAME:CET
DTSTART:20211031T010000
END:STANDARD
BEGIN:DAYLIGHT
TZOFFSETFROM:+0100
TZOFFSETTO:+0200
TZNAME:CEST
DTSTART:20220327T010000
END:DAYLIGHT
BEGIN:STANDARD
TZOFFSETFROM:+0200
TZOFFSETTO:+0100
TZNAME:CET
DTSTART:20221030T010000
END:STANDARD
BEGIN:DAYLIGHT
TZOFFSETFROM:+0100
TZOFFSETTO:+0200
TZNAME:CEST
DTSTART:20230326T010000
END:DAYLIGHT
BEGIN:STANDARD
TZOFFSETFROM:+0200
TZOFFSETTO:+0100
TZNAME:CET
DTSTART:20231029T010000
END:STANDARD
END:VTIMEZONE
BEGIN:VEVENT
DTSTART;TZID=Europe/Prague:20221220T100000
DTEND;TZID=Europe/Prague:20221220T120000
DTSTAMP:20260421T114913
CREATED:20221209T083732Z
LAST-MODIFIED:20221209T084208Z
UID:11080-1671530400-1671537600@www.oavm.cz
SUMMARY:Návštěva Hvězdárny Valašské Meziříčí - 1.B
DESCRIPTION:Studenti 1.B se zúčastní přednášky na téma „Gravitace“. Odchod od školy v 9:30.
URL:https://www.oavm.cz/akce/navsteva-hvezdarny-valasske-mezirici-1-b/
LOCATION:Hvězdárna Valašské Meziříčí\, Vsetínská 78\, Valašské Meziříčí\, 75701\, Česká republika
CATEGORIES:exkurze,vzdělávací
END:VEVENT
BEGIN:VEVENT
DTSTART;TZID=Europe/Prague:20221220T083000
DTEND;TZID=Europe/Prague:20221220T100000
DTSTAMP:20260421T114913
CREATED:20221209T083524Z
LAST-MODIFIED:20221209T084223Z
UID:11078-1671525000-1671530400@www.oavm.cz
SUMMARY:Návštěva Hvězdárny Valašské Meziříčí - 1.A\, 1.C
DESCRIPTION:Studenti 1.A\, 1.C se zúčastní přednášky na téma „Gravitace“. Odchod od školy v 8:00.
URL:https://www.oavm.cz/akce/navsteva-hvezdarny-valasske-mezirici-3/
LOCATION:Hvězdárna Valašské Meziříčí\, Vsetínská 78\, Valašské Meziříčí\, 75701\, Česká republika
CATEGORIES:exkurze,vzdělávací
END:VEVENT
BEGIN:VEVENT
DTSTART;TZID=Europe/Prague:20221219T113000
DTEND;TZID=Europe/Prague:20221219T153000
DTSTAMP:20260421T114913
CREATED:20221209T084151Z
LAST-MODIFIED:20221209T084151Z
UID:11085-1671449400-1671463800@www.oavm.cz
SUMMARY:Exkurze - soudní jednání\, soud Valašské Meziříčí
DESCRIPTION:Studenti 3. C se zúčastní soudního jednání u Okresního soudu Vsetín\, pobočka Valašské Meziříčí.
URL:https://www.oavm.cz/akce/exkurze-soudni-jednani-soud-valasske-mezirici-4/
LOCATION:Okresní soud ve Vsetíně – pobočka Valašské Meziříčí\, Legií 1374\, Valašské Meziříčí\, 757 01
CATEGORIES:exkurze,vzdělávací
ORGANIZER;CN="Mgr. Lenka Volkov%C3%A1 Pal%C3%A1tov%C3%A1":MAILTO:lenka.volkova@oavm.cz
END:VEVENT
BEGIN:VEVENT
DTSTART;TZID=Europe/Prague:20221219T100000
DTEND;TZID=Europe/Prague:20221219T120000
DTSTAMP:20260421T114913
CREATED:20221209T082444Z
LAST-MODIFIED:20221209T084254Z
UID:11073-1671444000-1671451200@www.oavm.cz
SUMMARY:Návštěva Hvězdárny Valašské Meziříčí - 1.D
DESCRIPTION:Studenti 1.D se zúčastní přednášky na téma „Gravitace“. Odchod od školy v 9:30.
URL:https://www.oavm.cz/akce/navsteva-hvezdarny-valasske-mezirici-2/
LOCATION:Hvězdárna Valašské Meziříčí\, Vsetínská 78\, Valašské Meziříčí\, 75701\, Česká republika
CATEGORIES:exkurze,vzdělávací
END:VEVENT
BEGIN:VEVENT
DTSTART;TZID=Europe/Prague:20221219T083000
DTEND;TZID=Europe/Prague:20221219T103000
DTSTAMP:20260421T114913
CREATED:20221209T082020Z
LAST-MODIFIED:20221209T084556Z
UID:11070-1671438600-1671445800@www.oavm.cz
SUMMARY:Návštěva Hvězdárny Valašské Meziříčí - 2.D
DESCRIPTION:Studenti 2.D se zúčastní přednášky na téma „Optika“. Odchod od školy v 8:00.
URL:https://www.oavm.cz/akce/navsteva-hvezdarny-valasske-mezirici/
LOCATION:Hvězdárna Valašské Meziříčí\, Vsetínská 78\, Valašské Meziříčí\, 75701\, Česká republika
CATEGORIES:exkurze,vzdělávací
END:VEVENT
BEGIN:VEVENT
DTSTART;TZID=Europe/Prague:20221214T094000
DTEND;TZID=Europe/Prague:20221214T111500
DTSTAMP:20260421T114913
CREATED:20221209T080607Z
LAST-MODIFIED:20221209T080607Z
UID:11066-1671010800-1671016500@www.oavm.cz
SUMMARY:On-line semifinálové kolo celorepublikové soutěže Má dáti Dal
DESCRIPTION:Vybraní studenti 4. ročníku se zúčastní semifinálového kola 16. ročníku soutěže „Má dáti dal“. Soutěž proběhne online formou.
URL:https://www.oavm.cz/akce/on-line-semifinalove-kolo-celorepublikove-souteze-ma-dati-dal/
LOCATION:Infocentrum Obchodni Akademie\, Masarykova 101/18\, Valašské Meziříčí
CATEGORIES:vzdělávací
ORGANIZER;CN="Ing. Alena Stib%C5%AFrkov%C3%A1":MAILTO:alena.stiburkova@oavm.cz
END:VEVENT
BEGIN:VEVENT
DTSTART;TZID=Europe/Prague:20221201T112500
DTEND;TZID=Europe/Prague:20221201T153000
DTSTAMP:20260421T114913
CREATED:20221114T200905Z
LAST-MODIFIED:20221116T151115Z
UID:10943-1669893900-1669908600@www.oavm.cz
SUMMARY:Exkurze - soudní jednání\, soud Valašské Meziříčí
DESCRIPTION:Studenti 3. C se zúčastní soudního jednání u Okresního soudu Vsetín\, pobočka Valašské Meziříčí.
URL:https://www.oavm.cz/akce/exkurze-soudni-jednani-soud-valasske-mezirici-3/
LOCATION:Okresní soud ve Vsetíně – pobočka Valašské Meziříčí\, Legií 1374\, Valašské Meziříčí\, 757 01
CATEGORIES:exkurze,vzdělávací
ORGANIZER;CN="Mgr. Lenka Volkov%C3%A1 Pal%C3%A1tov%C3%A1":MAILTO:lenka.volkova@oavm.cz
END:VEVENT
BEGIN:VEVENT
DTSTART;TZID=Europe/Prague:20221130T084000
DTEND;TZID=Europe/Prague:20221130T121500
DTSTAMP:20260421T114913
CREATED:20221031T215136Z
LAST-MODIFIED:20221115T140725Z
UID:10831-1669797600-1669810500@www.oavm.cz
SUMMARY:Staň se "NA DEN STŘEDOŠKOLÁKEM" - obor Informační technologie
DESCRIPTION:VELMI NÁS TO MRZÍ\, ALE PŘIHLAŠOVÁNÍ PRO OBOR OBCHODNÍ AKADEMIE JE UKONČENO Z DŮVODU NAPLNĚNÍ KAPACITY! \nAkce „NA DEN STŘEDOŠKOLÁKEM“ je určena žákům 9. tříd základních škol\, kteří mají zájem o studium na naší škole a je zdarma. Tento termín je určen zájemcům o obor Informační technologie. Vyzkoušíte si předměty: \n\ngrafika\,\nprogramování\,\nwebové stránky\,\npočítačové sítě.\n\nŽák obdrží potvrzení\, že se výuky zúčastnil. Výuka začíná v 8:40 a končí 12:15. \nMáte jedinečnou příležitost vyzkoušet si zasednout do školních lavic střední školy. \nPo vyplnění přihlášky budou vaše údaje zpracovány pro účely pouze této akce. Případné dotazy Vám zodpoví Mgr. Robert Sigmund\, výchovný poradce\, na telefonním čísle 777 636 274  nebo na e-mailové adrese: robert.sigmund@oavm.cz.
URL:https://www.oavm.cz/akce/stan-se-na-den-stredoskolakem-obor-informacni-technologie-3/
LOCATION:Obchodní akademie a VOŠ\, Masarykova 101/18\, Krásno nad Bečvou\, Valašské Meziříčí\, 757 01
CATEGORIES:vzdělávací
ORGANIZER;CN="Obchodn%C3%AD akademie a VO%C5%A0 Vala%C5%A1sk%C3%A9 Mezi%C5%99%C3%AD%C4%8D%C3%AD":MAILTO:oavalmez@oavm.cz
END:VEVENT
BEGIN:VEVENT
DTSTART;TZID=Europe/Prague:20221129T084000
DTEND;TZID=Europe/Prague:20221129T121500
DTSTAMP:20260421T114913
CREATED:20221031T214932Z
LAST-MODIFIED:20221114T200108Z
UID:10829-1669711200-1669724100@www.oavm.cz
SUMMARY:Staň se "NA DEN STŘEDOŠKOLÁKEM" - obor Obchodní akademie
DESCRIPTION:VELMI NÁS TO MRZÍ\, ALE PŘIHLAŠOVÁNÍ PRO OBOR OBCHODNÍ AKADEMIE JE UKONČENO Z DŮVODU NAPLNĚNÍ KAPACITY! \nAkce „NA DEN STŘEDOŠKOLÁKEM“ je určena žákům 9. tříd základních škol\, kteří mají zájem o studium na naší škole a je zdarma. Tento termín je určen zájemcům o obor Obchodní akademie. Vyzkoušíte si předměty: \n\nekonomika\,\núčetnictví\,\nšpanělština\,\nfrancouzština\,\nněmčina\,\nruština\,\nfiktivní firma\,\nreálná firma.\n\nŽák obdrží potvrzení\, že se výuky zúčastnil. Výuka začíná v 8:40 a končí 12:15. \nMáte jedinečnou příležitost vyzkoušet si zasednout do školních lavic střední školy. \nPo vyplnění přihlášky budou vaše údaje zpracovány pro účely pouze této akce. Případné dotazy Vám zodpoví Mgr. Robert Sigmund\, výchovný poradce\, na telefonním čísle 777 636 274  nebo na e-mailové adrese: robert.sigmund@oavm.cz.
URL:https://www.oavm.cz/akce/stan-se-na-den-stredoskolakem-obor-obchodni-akademie-5/
LOCATION:Obchodní akademie a VOŠ\, Masarykova 101/18\, Krásno nad Bečvou\, Valašské Meziříčí\, 757 01
CATEGORIES:vzdělávací
ORGANIZER;CN="Obchodn%C3%AD akademie a VO%C5%A0 Vala%C5%A1sk%C3%A9 Mezi%C5%99%C3%AD%C4%8D%C3%AD":MAILTO:oavalmez@oavm.cz
END:VEVENT
BEGIN:VEVENT
DTSTART;TZID=Europe/Prague:20221125T080000
DTEND;TZID=Europe/Prague:20221125T140000
DTSTAMP:20260421T114913
CREATED:20221114T194843Z
LAST-MODIFIED:20221114T195338Z
UID:10936-1669363200-1669384800@www.oavm.cz
SUMMARY:Soutěž DUEL - Ekon. fak. VŠB Ostrava
DESCRIPTION:Dne 25. 11. 2022 proběhne na Ekonomické fakultě VŠB-TUO již 8. ročník soutěže DUEL\, určené studentům obchodních akademií a jiných středních škol s ekonomickým zaměřením.
URL:https://www.oavm.cz/akce/soutez-duel-ekon-fak-vsb-ostrava/
LOCATION:Ekonomická fakulta VŠB TUO\, Sokolská tř. 33\, Ostrava
CATEGORIES:vzdělávací
ORGANIZER;CN="Ing. Alena Stib%C5%AFrkov%C3%A1":MAILTO:alena.stiburkova@oavm.cz
END:VEVENT
BEGIN:VEVENT
DTSTART;TZID=Europe/Prague:20221124T112500
DTEND;TZID=Europe/Prague:20221124T153000
DTSTAMP:20260421T114913
CREATED:20221114T194336Z
LAST-MODIFIED:20221116T151432Z
UID:10934-1669289100-1669303800@www.oavm.cz
SUMMARY:Exkurze - soudní jednání\, soud Valašské Meziříčí
DESCRIPTION:Studenti 2. C se zúčastní soudního jednání u Okresního soudu Vsetín\, pobočka Valašské Meziříčí.
URL:https://www.oavm.cz/akce/exkurze-soudni-jednani-soud-valasske-mezirici/
LOCATION:Okresní soud ve Vsetíně – pobočka Valašské Meziříčí\, Legií 1374\, Valašské Meziříčí\, 757 01
CATEGORIES:exkurze,vzdělávací
ORGANIZER;CN="Mgr. Lenka Volkov%C3%A1 Pal%C3%A1tov%C3%A1":MAILTO:lenka.volkova@oavm.cz
END:VEVENT
BEGIN:VEVENT
DTSTART;TZID=Europe/Prague:20221122T084000
DTEND;TZID=Europe/Prague:20221122T091500
DTSTAMP:20260421T114913
CREATED:20221114T193805Z
LAST-MODIFIED:20221114T195949Z
UID:10931-1669106400-1669108500@www.oavm.cz
SUMMARY:Seminář - Mezigenerační komunikace
DESCRIPTION:Seminář o mezigenerační komunikaci pro studenty 2. B.
URL:https://www.oavm.cz/akce/seminar-mezigeneracni-komunikace/
LOCATION:218\, Masarykova 101/18\, Valašské Meziříčí\, 75701
CATEGORIES:vzdělávací
ORGANIZER;CN="Ing. Jana V%C3%A9vodov%C3%A1":MAILTO:jana.vevodova@oavm.cz
END:VEVENT
BEGIN:VEVENT
DTSTART;VALUE=DATE:20221122
DTEND;VALUE=DATE:20221123
DTSTAMP:20260421T114913
CREATED:20221114T193505Z
LAST-MODIFIED:20221114T195856Z
UID:10929-1669075200-1669161599@www.oavm.cz
SUMMARY:Regionální soutěž UCE
DESCRIPTION:Vybraní žáci se zůčastní regionálního kola soutěže v účetnictví.
URL:https://www.oavm.cz/akce/regionalni-soutez-uce/
LOCATION:Obchodní akademie a VOŠ\, Masarykova 101/18\, Krásno nad Bečvou\, Valašské Meziříčí\, 757 01
CATEGORIES:vzdělávací
ORGANIZER;CN="Ing. Alena Machalov%C3%A1":MAILTO:alena.machalova@oavm.cz
END:VEVENT
BEGIN:VEVENT
DTSTART;VALUE=DATE:20221115
DTEND;VALUE=DATE:20221117
DTSTAMP:20260421T114913
CREATED:20221114T192256Z
LAST-MODIFIED:20221114T195714Z
UID:10920-1668470400-1668643199@www.oavm.cz
SUMMARY:EKOTÝM 2022 - celostátní kolo
DESCRIPTION:Tým 4. A bude reprezentovat naši školu v celostátní soutěži EKOTÝM 2022.
URL:https://www.oavm.cz/akce/ekotym-2022-celostatni-kolo/
LOCATION:Obchodní akademie Havlíčkův Brod\, Bratříků 851\, Havlíčkův Brod\, 580 02\, Česká republika
CATEGORIES:vzdělávací
ORGANIZER;CN="Ing. Jaroslav Ji%C5%99%C3%AD%C4%8Dek":MAILTO:jaroslav.jiricek@oavm.cz
END:VEVENT
BEGIN:VEVENT
DTSTART;TZID=Europe/Prague:20221114T112500
DTEND;TZID=Europe/Prague:20221114T153000
DTSTAMP:20260421T114913
CREATED:20221113T200510Z
LAST-MODIFIED:20221116T151509Z
UID:10940-1668425100-1668439800@www.oavm.cz
SUMMARY:Exkurze - soudní jednání\, soud Valašské Meziříčí
DESCRIPTION:Studenti 1. C se zúčastní soudního jednání u Okresního soudu Vsetín\, pobočka Valašské Meziříčí.
URL:https://www.oavm.cz/akce/exkurze-soudni-jednani-soud-valasske-mezirici-2/
LOCATION:Okresní soud ve Vsetíně – pobočka Valašské Meziříčí\, Legií 1374\, Valašské Meziříčí\, 757 01
CATEGORIES:exkurze,vzdělávací
ORGANIZER;CN="Mgr. Lenka Volkov%C3%A1 Pal%C3%A1tov%C3%A1":MAILTO:lenka.volkova@oavm.cz
END:VEVENT
BEGIN:VEVENT
DTSTART;TZID=Europe/Prague:20221111T103000
DTEND;TZID=Europe/Prague:20221111T111500
DTSTAMP:20260421T114913
CREATED:20221108T211712Z
LAST-MODIFIED:20221114T200015Z
UID:10881-1668162600-1668165300@www.oavm.cz
SUMMARY:Beseda s ředitelem ELIM
DESCRIPTION:Beseda proběhne v hodině Práva 2.C.
URL:https://www.oavm.cz/akce/beseda-s-reditelem-elim/
LOCATION:Obchodní akademie a VOŠ\, Masarykova 101/18\, Krásno nad Bečvou\, Valašské Meziříčí\, 757 01
CATEGORIES:vzdělávací
ORGANIZER;CN="Mgr. Lenka Volkov%C3%A1 Pal%C3%A1tov%C3%A1":MAILTO:lenka.volkova@oavm.cz
END:VEVENT
BEGIN:VEVENT
DTSTART;TZID=Europe/Prague:20221110T112500
DTEND;TZID=Europe/Prague:20221110T130000
DTSTAMP:20260421T114913
CREATED:20221108T211258Z
LAST-MODIFIED:20221114T200208Z
UID:10879-1668079500-1668085200@www.oavm.cz
SUMMARY:Divadelní představení "Offline" - KZ Valašské Meziříčí
DESCRIPTION:Studenti prvních ročníků shlédnou činoherní anglicko – české divadelní představení „Offline“\, koncipované jako inscenovaná učební pomůcka. \n 
URL:https://www.oavm.cz/akce/anglicke-divadlo-kz-valasske-mezirici/
LOCATION:Kulturní zařízení města Valašského Meziříčí\, Komenského 1\, Valašské Meziříčí\, 757 01
CATEGORIES:vzdělávací
ORGANIZER;CN="Mgr. Lenka %C5%A0tef%C3%A1nikov%C3%A1":MAILTO:lenka.stefanikova@oavm.cz
END:VEVENT
BEGIN:VEVENT
DTSTART;TZID=Europe/Prague:20221011T121500
DTEND;TZID=Europe/Prague:20221011T130000
DTSTAMP:20260421T114913
CREATED:20221011T080845Z
LAST-MODIFIED:20221011T081618Z
UID:10700-1665490500-1665493200@www.oavm.cz
SUMMARY:Přednáška - 4. ročník
DESCRIPTION:Český národní registr dárců kostní dřeně. \nPřednášející: Jana Orlová
URL:https://www.oavm.cz/akce/prednaska-4-rocnik/
LOCATION:Učebna 364\, Obchodní akademie a VOŠ\, Valašské Meziříčí\, 757 01
CATEGORIES:vzdělávací
ORGANIZER;CN="Mgr. Andrea Hlavat%C3%A1":MAILTO:andrea.hlavata@oavm.cz
END:VEVENT
BEGIN:VEVENT
DTSTART;TZID=Europe/Prague:20221011T112500
DTEND;TZID=Europe/Prague:20221011T121000
DTSTAMP:20260421T114913
CREATED:20221011T080324Z
LAST-MODIFIED:20221011T081543Z
UID:10698-1665487500-1665490200@www.oavm.cz
SUMMARY:Přednáška - 3. ročník
DESCRIPTION:Český národní registr dárců kostní dřeně. \nPřednášející: Jana Orlová
URL:https://www.oavm.cz/akce/prednaska-3-rocnik/
LOCATION:Učebna 364\, Obchodní akademie a VOŠ\, Valašské Meziříčí\, 757 01
CATEGORIES:vzdělávací
ORGANIZER;CN="Mgr. Andrea Hlavat%C3%A1":MAILTO:andrea.hlavata@oavm.cz
END:VEVENT
BEGIN:VEVENT
DTSTART;TZID=Europe/Prague:20221010T080000
DTEND;TZID=Europe/Prague:20221010T140000
DTSTAMP:20260421T114913
CREATED:20220921T073644Z
LAST-MODIFIED:20220921T073644Z
UID:10656-1665388800-1665410400@www.oavm.cz
SUMMARY:Krajské kolo soutěže EKO tým
DESCRIPTION:Účastnit se budou dvě tříčlenná družstva 4.A a 4.B. \nČasy jsou orientační a mohou se změnit.
URL:https://www.oavm.cz/akce/krajske-kolo-souteze-eko-tym/
LOCATION:Vyšší odborná škola\, Na Šištotě 159\, Valašské Meziříčí\, 757 01
CATEGORIES:vzdělávací
ORGANIZER;CN="Ing. Helena %C5%A0krlov%C3%A1":MAILTO:helena.skrlova@oavm.cz
END:VEVENT
BEGIN:VEVENT
DTSTART;TZID=Europe/Prague:20220503T074500
DTEND;TZID=Europe/Prague:20220503T102500
DTSTAMP:20260421T114913
CREATED:20220425T081808Z
LAST-MODIFIED:20220425T081808Z
UID:10332-1651563900-1651573500@www.oavm.cz
SUMMARY:Divadelní představení - Písničky a scénky Osvobozeného divadla
DESCRIPTION:Představení začíná v 8:30 a je určeno pro žáky 2. ročníku.
URL:https://www.oavm.cz/akce/divadelni-predstaveni-pisnicky-a-scenky-osvobozeneho-divadla/
LOCATION:Kulturní zařízení města Valašského Meziříčí\, Komenského 1\, Valašské Meziříčí\, 757 01
CATEGORIES:vzdělávací
ORGANIZER;CN="Mgr. Tom%C3%A1%C5%A1 Jur%C3%AD%C4%8Dek":MAILTO:tomas.juricek@oavm.cz
END:VEVENT
BEGIN:VEVENT
DTSTART;VALUE=DATE:20220426
DTEND;VALUE=DATE:20220427
DTSTAMP:20260421T114913
CREATED:20220425T075238Z
LAST-MODIFIED:20220425T075238Z
UID:10322-1650931200-1651017599@www.oavm.cz
SUMMARY:Exkurze - soudní jednání Valašské Meziříčí
DESCRIPTION:Exkurze v rámci předmětu právo pro žáky 1. C.
URL:https://www.oavm.cz/akce/exkurze-soudni-jednani-valasske-mezirici-2/
LOCATION:Okresní soud ve Vsetíně – pobočka Valašské Meziříčí\, Legií 1374\, Valašské Meziříčí\, 757 01
CATEGORIES:exkurze,vzdělávací
ORGANIZER;CN="Mgr. Lenka Volkov%C3%A1 Pal%C3%A1tov%C3%A1":MAILTO:lenka.volkova@oavm.cz
END:VEVENT
BEGIN:VEVENT
DTSTART;TZID=Europe/Prague:20220406T112500
DTEND;TZID=Europe/Prague:20220406T144000
DTSTAMP:20260421T114913
CREATED:20220401T101705Z
LAST-MODIFIED:20220401T101705Z
UID:10252-1649244300-1649256000@www.oavm.cz
SUMMARY:Exkurze - soudní jednání Valašské Meziříčí
DESCRIPTION:Exkurze v rámci předmětu právo pro žáky 1. C.
URL:https://www.oavm.cz/akce/exkurze-soudni-jednani-valasske-mezirici/
LOCATION:Okresní soud ve Vsetíně – pobočka Valašské Meziříčí\, Legií 1374\, Valašské Meziříčí\, 757 01
CATEGORIES:exkurze,vzdělávací
ORGANIZER;CN="Mgr. Lenka Volkov%C3%A1 Pal%C3%A1tov%C3%A1":MAILTO:lenka.volkova@oavm.cz
END:VEVENT
BEGIN:VEVENT
DTSTART;TZID=Europe/Prague:20220310T094000
DTEND;TZID=Europe/Prague:20220310T111500
DTSTAMP:20260421T114913
CREATED:20220304T144448Z
LAST-MODIFIED:20220304T144448Z
UID:10087-1646905200-1646910900@www.oavm.cz
SUMMARY:Školní kolo matematické soutěže pro 1. a 2. ročník
DESCRIPTION:
URL:https://www.oavm.cz/akce/skolni-kolo-matematicke-souteze-pro-1-a-2-rocnik/
LOCATION:Obchodní akademie a VOŠ\, Masarykova 101/18\, Krásno nad Bečvou\, Valašské Meziříčí\, 757 01
CATEGORIES:vzdělávací
ORGANIZER;CN="Mgr. V%C3%ADt Han%C3%A1k":MAILTO:vit.hanak@oavm.cz
END:VEVENT
BEGIN:VEVENT
DTSTART;VALUE=DATE:20220201
DTEND;VALUE=DATE:20220202
DTSTAMP:20260421T114913
CREATED:20220120T190550Z
LAST-MODIFIED:20220120T190550Z
UID:9948-1643673600-1643759999@www.oavm.cz
SUMMARY:Planeta Země 3000 - Madagaskar
DESCRIPTION:Přednáška pro žáky 1. a 2. ročníku. Čas bude upřesněn.
URL:https://www.oavm.cz/akce/planeta-zeme-3000-madagaskar/
LOCATION:Kino Valmez\, Nábřeží 268\, Valašské Meziříčí\, 757 01
CATEGORIES:vzdělávací
ORGANIZER;CN="RNDr. Eva %C4%8Ctver%C3%A1%C4%8Dkov%C3%A1":MAILTO:eva.ctverackova@oavm.cz
END:VEVENT
BEGIN:VEVENT
DTSTART;TZID=Europe/Prague:20211018T074500
DTEND;TZID=Europe/Prague:20211018T111500
DTSTAMP:20260421T114913
CREATED:20211006T084918Z
LAST-MODIFIED:20211006T084918Z
UID:9651-1634543100-1634555700@www.oavm.cz
SUMMARY:Soudní jednání - 2. C
DESCRIPTION:
URL:https://www.oavm.cz/akce/soudni-jednani-2-c-2/
LOCATION:Okresní soud ve Vsetíně – pobočka Valašské Meziříčí\, Legií 1374\, Valašské Meziříčí\, 757 01
CATEGORIES:vzdělávací
ORGANIZER;CN="Mgr. Lenka Volkov%C3%A1 Pal%C3%A1tov%C3%A1":MAILTO:lenka.volkova@oavm.cz
END:VEVENT
BEGIN:VEVENT
DTSTART;TZID=Europe/Prague:20200128T101500
DTEND;TZID=Europe/Prague:20200128T114500
DTSTAMP:20260421T114913
CREATED:20200106T084424Z
LAST-MODIFIED:20200106T085055Z
UID:7913-1580206500-1580211900@www.oavm.cz
SUMMARY:Seminář "Můžeš podnikat"
DESCRIPTION:Účastní se třídy 3. A\, 3. B a 3. D. \nSeminář povede Petra Janková a Miroslav Jakubec.
URL:https://www.oavm.cz/akce/seminar-muzes-podnikat-2/
LOCATION:Učebna 364\, Obchodní akademie a VOŠ\, Valašské Meziříčí\, 757 01
CATEGORIES:vzdělávací
ORGANIZER;CN="Ing. Helena %C5%A0krlov%C3%A1":MAILTO:helena.skrlova@oavm.cz
END:VEVENT
BEGIN:VEVENT
DTSTART;VALUE=DATE:20200128
DTEND;VALUE=DATE:20200129
DTSTAMP:20260421T114913
CREATED:20191220T072903Z
LAST-MODIFIED:20191220T073007Z
UID:7891-1580169600-1580255999@www.oavm.cz
SUMMARY:Přednáška - Planeta Země 3000 - Kolumbie
DESCRIPTION:Přednáška Kolumbie – ráj slasti a neřesti je určena žákům 1. a 2. ročníku. Místo a čas konání bude upřesněno. \nV 16. pokračování projektu se vypravíme do temperamentní země ležící mezi dvěma oceány. V Kolumbii budeme projíždět mezi vrcholky majestátních And\, poplavíme se za velrybami\, ochutnáme výbornou kávu a mnohé delikatesy kolumbijské kuchyně. Čeká nás i duhová řeka\, jaguáří lidé\, města ztracených civilizací i barevné koloniální architektury. Zažijeme nejedno dobrodružství a povzbuzující poznání.
URL:https://www.oavm.cz/akce/prednaska-planeta-zeme-3000-kolumbie/
CATEGORIES:vzdělávací
ORGANIZER;CN="RNDr. Eva %C4%8Ctver%C3%A1%C4%8Dkov%C3%A1":MAILTO:eva.ctverackova@oavm.cz
END:VEVENT
BEGIN:VEVENT
DTSTART;TZID=Europe/Prague:20200115T111000
DTEND;TZID=Europe/Prague:20200115T142500
DTSTAMP:20260421T114913
CREATED:20200109T145734Z
LAST-MODIFIED:20200109T145734Z
UID:7932-1579086600-1579098300@www.oavm.cz
SUMMARY:Exkurze - soudní jednání
DESCRIPTION:Třída 4. A se zúčastní soudního jednání u Okresního soudu Vsetín\, pobočka Valašské Meziříčí. Jednání začíná ve 12.30 hodin.
URL:https://www.oavm.cz/akce/exkurze-soudni-jednani/
LOCATION:Okresní soud ve Vsetíně – pobočka Valašské Meziříčí\, Legií 1374\, Valašské Meziříčí\, 757 01
CATEGORIES:exkurze,vzdělávací
ORGANIZER;CN="Mgr. Lenka Volkov%C3%A1 Pal%C3%A1tov%C3%A1":MAILTO:lenka.volkova@oavm.cz
END:VEVENT
BEGIN:VEVENT
DTSTART;TZID=Europe/Prague:20191219T073000
DTEND;TZID=Europe/Prague:20191219T110000
DTSTAMP:20260421T114913
CREATED:20191126T194131Z
LAST-MODIFIED:20191126T194131Z
UID:7727-1576740600-1576753200@www.oavm.cz
SUMMARY:Projektový den tříd 3. D a 4. D
DESCRIPTION:
URL:https://www.oavm.cz/akce/projektovy-den-trid-3-d-a-4-d/
LOCATION:Obchodní akademie a VOŠ\, Masarykova 101/18\, Krásno nad Bečvou\, Valašské Meziříčí\, 757 01
CATEGORIES:vzdělávací
ORGANIZER;CN="Ing. Josef Kr%C5%AFpa":MAILTO:josef.krupa@oavm.cz
END:VEVENT
END:VCALENDAR