BEGIN:VCALENDAR
VERSION:2.0
PRODID:-//Obchodní akademie a VOŠ Valašské Meziříčí - ECPv6.15.20//NONSGML v1.0//EN
CALSCALE:GREGORIAN
METHOD:PUBLISH
X-ORIGINAL-URL:https://www.oavm.cz
X-WR-CALDESC:Akce na Obchodní akademie a VOŠ Valašské Meziříčí
REFRESH-INTERVAL;VALUE=DURATION:PT1H
X-Robots-Tag:noindex
X-PUBLISHED-TTL:PT1H
BEGIN:VTIMEZONE
TZID:Europe/Prague
BEGIN:DAYLIGHT
TZOFFSETFROM:+0100
TZOFFSETTO:+0200
TZNAME:CEST
DTSTART:20220327T010000
END:DAYLIGHT
BEGIN:STANDARD
TZOFFSETFROM:+0200
TZOFFSETTO:+0100
TZNAME:CET
DTSTART:20221030T010000
END:STANDARD
BEGIN:DAYLIGHT
TZOFFSETFROM:+0100
TZOFFSETTO:+0200
TZNAME:CEST
DTSTART:20230326T010000
END:DAYLIGHT
BEGIN:STANDARD
TZOFFSETFROM:+0200
TZOFFSETTO:+0100
TZNAME:CET
DTSTART:20231029T010000
END:STANDARD
BEGIN:DAYLIGHT
TZOFFSETFROM:+0100
TZOFFSETTO:+0200
TZNAME:CEST
DTSTART:20240331T010000
END:DAYLIGHT
BEGIN:STANDARD
TZOFFSETFROM:+0200
TZOFFSETTO:+0100
TZNAME:CET
DTSTART:20241027T010000
END:STANDARD
END:VTIMEZONE
BEGIN:VEVENT
DTSTART;TZID=Europe/Prague:20231101T153000
DTEND;TZID=Europe/Prague:20231101T170000
DTSTAMP:20260421T135005
CREATED:20231003T121954Z
LAST-MODIFIED:20231003T122155Z
UID:13653-1698852600-1698858000@www.oavm.cz
SUMMARY:Třídní schůzky a informace o prospěchu
DESCRIPTION:Třídní schůzky proběhnou v 15:30-16:00 h. \nInformace o prospěchu od 16:00 do 17:00 h. Vyučující budou k dispozici v místnostech dle rozpisu ve vestibulu školy.
URL:https://www.oavm.cz/akce/tridni-schuzky-a-informace-o-prospechu-4/
LOCATION:Obchodní akademie a VOŠ\, Masarykova 101/18\, Krásno nad Bečvou\, Valašské Meziříčí\, 757 01
CATEGORIES:třídní schůzky
ORGANIZER;CN="Obchodn%C3%AD akademie a VO%C5%A0 Vala%C5%A1sk%C3%A9 Mezi%C5%99%C3%AD%C4%8D%C3%AD":MAILTO:oavalmez@oavm.cz
END:VEVENT
END:VCALENDAR